Workbook
Name _FY201415: #REF!
Name _FY201415: #REF!
Name _FY201415: #REF!
Name _FY201415: #REF!
Name _FY201415: #REF!
Name _FY201415: #REF!
Name _FY201415: #REF!
Name _FY201415: #REF!
Name _FY201415: #REF!
Name _FY201415: #REF!
Name _FY201415: #REF!
Name _FY201415: #REF!
Name _FY201415: #REF!
Name spcars: #REF!
Name spepaid: #REF!
Name spprint: #REF!
Name spprint: #REF!
Name spprint: #REF!
Name spprint: #REF!
Name spprint: #REF!
Name spprint: #REF!
Name spprint: #REF!
Name spprint: #REF!
Name spprint: #REF!
Name spprint: #REF!
Name spprint: #REF!
Name spprint: #REF!
Name spprint: #REF!
Name spprint: #REF!
Name spprintAug: #REF!
Name spprintAug: #REF!
Name spprintAug: #REF!
Name spprintAug: #REF!
Name spprintAug: #REF!
Name spprintAug: #REF!
Name spprintAug: #REF!
Name spprintAug: #REF!
Name spprintAug: #REF!
Name spprintAug: #REF!
Name spprintAug: #REF!
Name spprintAug: #REF!
Name spprintDec: #REF!
Name spprintDec: #REF!
Name spprintDec: #REF!
Name spprintDec: #REF!
Name spprintDec: #REF!
Name spprintDec: #REF!
Name spprintDec: #REF!
Name spprintDec: #REF!
Name spprintDec: #REF!
Name spprintDec: #REF!
Name spprintDec: #REF!
Name spprintDec: #REF!
Name spprintNov: #REF!
Name spprintNov: #REF!
Name spprintNov: #REF!
Name spprintNov: #REF!
Name spprintNov: #REF!
Name spprintNov: #REF!
Name spprintNov: #REF!

Sheet Instructions
A1: Instructions:
A2: 1. The "Jul", "Aug", "Sep", "Oct", "Nov", "Dec", "Jan", "Feb", "Mar", "Apr", "May", "Jun" and "FY2015-16" sheets contains details of Household Hazardous Waste Collection Information across cells A2:U127 respectively.
A3: 2. Screen readers JAWS and NVDA announce the input message automatically when users access the cell.

Sheet Jul
A2: åTrack more detail? Click [2] at top left.
A3: Material Type | B3: Pounds Collected by Program Type - Permanent Facility | C3: Pounds Collected by Program Type - Temporary (periodic) Facility | D3: Pounds Collected by Program Type - Mobile Facility | E3: Pounds Collected by Program Type - Recycle-only Facility | F3: Pounds Collected by Program Type - Door to Door (residential) Program | G3: Pounds Collected by Program Type - Curbside Program | H3: Pounds Collected by Program Type - Load Check | I3: Pounds Collected by Program Type - "Other" Prog Type (PT) PT_______ | J3: Pounds Collected by Program Type - Total Collected (pounds) | K3: Pounds Disposed / Diverted by Management Method - Destructive Incineration | L3: Pounds Disposed / Diverted by Management Method - Fuel Incineration | M3: Pounds Disposed / Diverted by Management Method - Landfill | N3: Pounds Disposed / Diverted by Management Method - Neutralization / Treatment | O3: Pounds Disposed / Diverted by Management Method - Recycled | P3: Pounds Disposed / Diverted by Management Method - Reused | Q3: Pounds Disposed / Diverted by Management Method - Stabilization | R3: Pounds Disposed / Diverted by Management Method - PaintCare | S3: Pounds Disposed / Diverted by Management Method - PaintCare Reuse | T3: Pounds Disposed / Diverted by Management Method - TRC | U3: Pounds Disposed / Diverted by Management Method - Total Disposed / Diverted (pounds)
A4: 1. Flammable and Poison - Flammable solids / liquids | B4: =SUM(B5:B8) -> 0 | C4: =SUM(C5:C8) -> 0 | D4: =SUM(D5:D8) -> 0 | E4: =SUM(E5:E8) -> 0 | F4: =SUM(F5:F8) -> 0 | G4: =SUM(G5:G8) -> 0 | H4: =SUM(H5:H8) -> 0 | I4: =SUM(I5:I8) -> 0 | J4: =SUM(B4:I4) -> 0 | K4: =SUM(K5:K8) -> 0 | L4: =SUM(L5:L8) -> 0 | M4: =SUM(M5:M8) -> 0 | N4: =SUM(N5:N8) -> 0 | O4: =SUM(O5:O8) -> 0 | P4: =SUM(P5:P8) -> 0 | Q4: =SUM(Q5:Q8) -> 0 | R4: =SUM(R5:R8) -> 0 | ... T4: =SUM(T5:T8) -> 0 | U4: =SUM(K4:T4) -> 0
A5: 1. Flammable and Poison - Flammable solids | J5: =SUM(B5:I5) -> 0 | U5: =SUM(K5:T5) -> 0
A6: 1. Flammable and Poison - Flammable liquids (loose pack) | J6: =SUM(B6:I6) -> 0 | U6: =SUM(K6:T6) -> 0
A7: 1. Flammable and Poison - Flammable cylinders | J7: =SUM(B7:I7) -> 0 | U7: =SUM(K7:T7) -> 0
A8: 1. Flammable and Poison - Non-halogenated solvents (flammable) | J8: =SUM(B8:I8) -> 0 | U8: =SUM(K8:T8) -> 0
A9: 1. Flammable and Poison - Bulked flammable liquids | J9: =SUM(B9:I9) -> 0 | U9: =SUM(K9:T9) -> 0
A10: 1. Flammable and Poison - Oil-based paints | B10: =SUM(B11:B14) -> 0 | C10: =SUM(C11:C14) -> 0 | D10: =SUM(D11:D14) -> 0 | E10: =SUM(E11:E14) -> 0 | F10: =SUM(F11:F14) -> 0 | G10: =SUM(G11:G14) -> 0 | H10: =SUM(H11:H14) -> 0 | I10: =SUM(I11:I14) -> 0 | J10: =SUM(B10:I10) -> 0 | K10: =SUM(K11:K14) -> 0 | L10: =SUM(L11:L14) -> 0 | M10: =SUM(M11:M14) -> 0 | N10: =SUM(N11:N14) -> 0 | O10: =SUM(O11:O14) -> 0 | P10: =SUM(P11:P14) -> 0 | Q10: =SUM(Q11:Q14) -> 0 | R10: =SUM(R11:R14) -> 0 | ... T10: =SUM(T11:T14) -> 0 | U10: =SUM(K10:T10) -> 0
A11: 1. Flammable and Poison - Oil-based paint (bulked) | J11: =SUM(B11:I11) -> 0 | U11: =SUM(K11:T11) -> 0
A12: 1. Flammable and Poison - Oil-based paint (loose packed) | J12: =SUM(B12:I12) -> 0 | U12: =SUM(K12:T12) -> 0
A13: 1. Flammable and Poison - Oil-based paint with PCBs | J13: =SUM(B13:I13) -> 0 | U13: =SUM(K13:T13) -> 0
A14: 1. Flammable and Poison - Oil-based paint sludge | J14: =SUM(B14:I14) -> 0 | U14: =SUM(K14:T14) -> 0
A15: 1. Flammable and Poison - Paint related material (PRM) | J15: =SUM(B15:I15) -> 0 | U15: =SUM(K15:T15) -> 0
A16: 1. Flammable and Poison - Poisons | B16: =SUM(B17:B28) -> 0 | C16: =SUM(C17:C28) -> 0 | D16: =SUM(D17:D28) -> 0 | E16: =SUM(E17:E28) -> 0 | F16: =SUM(F17:F28) -> 0 | G16: =SUM(G17:G28) -> 0 | H16: =SUM(H17:H28) -> 0 | I16: =SUM(I17:I28) -> 0 | J16: =SUM(B16:I16) -> 0 | K16: =SUM(K17:K28) -> 0 | L16: =SUM(L17:L28) -> 0 | M16: =SUM(M17:M28) -> 0 | N16: =SUM(N17:N28) -> 0 | O16: =SUM(O17:O28) -> 0 | P16: =SUM(P17:P28) -> 0 | Q16: =SUM(Q17:Q28) -> 0 | R16: =SUM(R17:R28) -> 0 | ... T16: =SUM(T17:T28) -> 0 | U16: =SUM(K16:T16) -> 0
A17: 1. Flammable and Poison - Poisons/toxic liquids | J17: =SUM(B17:I17) -> 0 | U17: =SUM(K17:T17) -> 0
A18: 1. Flammable and Poison - Poisons/toxic solids | J18: =SUM(B18:I18) -> 0 | U18: =SUM(K18:T18) -> 0
A19: 1. Flammable and Poison - Cyanides | J19: =SUM(B19:I19) -> 0 | U19: =SUM(K19:T19) -> 0
A20: 1. Flammable and Poison - Organic poisons/pesticides (solid) | J20: =SUM(B20:I20) -> 0 | U20: =SUM(K20:T20) -> 0
A21: 1. Flammable and Poison - Organic poisons/pesticides (liquid) | J21: =SUM(B21:I21) -> 0 | U21: =SUM(K21:T21) -> 0
A22: 1. Flammable and Poison - Solid lead waste (solder) | J22: =SUM(B22:I22) -> 0 | U22: =SUM(K22:T22) -> 0
A23: 1. Flammable and Poison - Inorganic poisons/pesticides (solid) | J23: =SUM(B23:I23) -> 0 | U23: =SUM(K23:T23) -> 0
A24: 1. Flammable and Poison - Inorganic poisons/pesticides (liquid) | J24: =SUM(B24:I24) -> 0 | U24: =SUM(K24:T24) -> 0
A25: 1. Flammable and Poison - Hypochlorite compounds | J25: =SUM(B25:I25) -> 0 | U25: =SUM(K25:T25) -> 0
A26: 1. Flammable and Poison - Solvent sludge | J26: =SUM(B26:I26) -> 0 | U26: =SUM(K26:T26) -> 0
A27: 1. Flammable and Poison - Halogenated solvents | J27: =SUM(B27:I27) -> 0 | U27: =SUM(K27:T27) -> 0
A28: 1. Flammable and Poison - Non-halogenated solvents (toxic) | J28: =SUM(B28:I28) -> 0 | U28: =SUM(K28:T28) -> 0
A29: 1. Flammable and Poison - Reactive and explosive | B29: =SUM(B30:B38) -> 0 | C29: =SUM(C30:C38) -> 0 | D29: =SUM(D30:D38) -> 0 | E29: =SUM(E30:E38) -> 0 | F29: =SUM(F30:F38) -> 0 | G29: =SUM(G30:G38) -> 0 | H29: =SUM(H30:H38) -> 0 | I29: =SUM(I30:I38) -> 0 | J29: =SUM(B29:I29) -> 0 | K29: =SUM(K30:K38) -> 0 | L29: =SUM(L30:L38) -> 0 | M29: =SUM(M30:M38) -> 0 | N29: =SUM(N30:N38) -> 0 | O29: =SUM(O30:O38) -> 0 | P29: =SUM(P30:P38) -> 0 | Q29: =SUM(Q30:Q38) -> 0 | R29: =SUM(R30:R38) -> 0 | ... T29: =SUM(T30:T38) -> 0 | U29: =SUM(K29:T29) -> 0
A30: 1. Flammable and Poison - Reactives | J30: =SUM(B30:I30) -> 0 | U30: =SUM(K30:T30) -> 0
A31: 1. Flammable and Poison - Reactive cyanides | J31: =SUM(B31:I31) -> 0 | U31: =SUM(K31:T31) -> 0
A32: 1. Flammable and Poison - Reactive sulfides | J32: =SUM(B32:I32) -> 0 | U32: =SUM(K32:T32) -> 0
A33: 1. Flammable and Poison - Water reactive compounds, flammable gas producing, heat generating | J33: =SUM(B33:I33) -> 0 | U33: =SUM(K33:T33) -> 0
A34: 1. Flammable and Poison - Water reactive compounds, acid gas producing | J34: =SUM(B34:I34) -> 0 | U34: =SUM(K34:T34) -> 0
A35: 1. Flammable and Poison - Water reactive compounds, ammonia gas producing | J35: =SUM(B35:I35) -> 0 | U35: =SUM(K35:T35) -> 0
A36: 1. Flammable and Poison - Explosives | J36: =SUM(B36:I36) -> 0 | U36: =SUM(K36:T36) -> 0
A37: 1. Flammable and Poison - Ammunition | J37: =SUM(B37:I37) -> 0 | U37: =SUM(K37:T37) -> 0
A38: 1. Flammable and Poison - Fusees (marine flares) | J38: =SUM(B38:I38) -> 0 | U38: =SUM(K38:T38) -> 0
A39: 1. Flammable and Poison - Compressed gas cylinders | J39: =SUM(B39:I39) -> 0 | U39: =SUM(K39:T39) -> 0
A40: 1. Flammable and Poison - subtotal | B40: =B4+B9+B10+B15+B16+B29+B39 -> 0 | C40: =C4+C9+C10+C15+C16+C29+C39 -> 0 | D40: =D4+D9+D10+D15+D16+D29+D39 -> 0 | E40: =E4+E9+E10+E15+E16+E29+E39 -> 0 | F40: =F4+F9+F10+F15+F16+F29+F39 -> 0 | G40: =G4+G9+G10+G15+G16+G29+G39 -> 0 | H40: =H4+H9+H10+H15+H16+H29+H39 -> 0 | I40: =I4+I9+I10+I15+I16+I29+I39 -> 0 | J40: =SUM(B40:I40) -> 0 | K40: =K4+K9+K10+K15+K16+K29+K39 -> 0 | L40: =L4+L9+L10+L15+L16+L29+L39 -> 0 | M40: =M4+M9+M10+M15+M16+M29+M39 -> 0 | N40: =N4+N9+N10+N15+N16+N29+N39 -> 0 | O40: =O4+O9+O10+O15+O16+O29+O39 -> 0 | P40: =P4+P9+P10+P15+P16+P29+P39 -> 0 | Q40: =Q4+Q9+Q10+Q15+Q16+Q29+Q39 -> 0 | R40: =R4+R9+R10+R15+R16+R29+R39 -> 0 | ... T40: =T4+T9+T10+T15+T16+T29+T39 -> 0 | U40: =SUM(K40:T40) -> 0
A41: 2. PCB -containing - PCB-containing paint | J41: =SUM(B41:I41) -> 0 | U41: =SUM(K41:T41) -> 0
...

Sheet Aug
A2: åTrack more detail? Click [2] at top left.
A3: Material Type | B3: Pounds Collected by Program Type - Permanent Facility | C3: Pounds Collected by Program Type - Temporary (periodic) Facility | D3: Pounds Collected by Program Type - Mobile Facility | E3: Pounds Collected by Program Type - Recycle-only Facility | F3: Pounds Collected by Program Type - Door to Door (residential) Program | G3: Pounds Collected by Program Type - Curbside Program | H3: Pounds Collected by Program Type - Load Check | I3: Pounds Collected by Program Type - "Other" Prog Type (PT) PT_______ | J3: Pounds Collected by Program Type - Total Collected (pounds) | K3: Pounds Disposed / Diverted by Management Method - Destructive Incineration | L3: Pounds Disposed / Diverted by Management Method - Fuel Incineration | M3: Pounds Disposed / Diverted by Management Method - Landfill | N3: Pounds Disposed / Diverted by Management Method - Neutralization / Treatment | O3: Pounds Disposed / Diverted by Management Method - Recycled | P3: Pounds Disposed / Diverted by Management Method - Reused | Q3: Pounds Disposed / Diverted by Management Method - Stabilization | R3: Pounds Disposed / Diverted by Management Method - PaintCare | S3: Pounds Disposed / Diverted by Management Method - PaintCare Reuse | T3: Pounds Disposed / Diverted by Management Method - TRC | U3: Pounds Disposed / Diverted by Management Method - Total Disposed / Diverted (pounds)
A4: 1. Flammable and Poison - Flammable solids / liquids | B4: =SUM(B5:B8) -> 0 | C4: =SUM(C5:C8) -> 0 | D4: =SUM(D5:D8) -> 0 | E4: =SUM(E5:E8) -> 0 | F4: =SUM(F5:F8) -> 0 | G4: =SUM(G5:G8) -> 0 | H4: =SUM(H5:H8) -> 0 | I4: =SUM(I5:I8) -> 0 | J4: =SUM(B4:I4) -> 0 | K4: =SUM(K5:K8) -> 0 | L4: =SUM(L5:L8) -> 0 | M4: =SUM(M5:M8) -> 0 | N4: =SUM(N5:N8) -> 0 | O4: =SUM(O5:O8) -> 0 | P4: =SUM(P5:P8) -> 0 | Q4: =SUM(Q5:Q8) -> 0 | R4: =SUM(R5:R8) -> 0 | ... T4: =SUM(T5:T8) -> 0 | U4: =SUM(K4:T4) -> 0
A5: 1. Flammable and Poison - Flammable solids | J5: =SUM(B5:I5) -> 0 | U5: =SUM(K5:T5) -> 0
A6: 1. Flammable and Poison - Flammable liquids (loose pack) | J6: =SUM(B6:I6) -> 0 | U6: =SUM(K6:T6) -> 0
A7: 1. Flammable and Poison - Flammable cylinders | J7: =SUM(B7:I7) -> 0 | U7: =SUM(K7:T7) -> 0
A8: 1. Flammable and Poison - Non-halogenated solvents (flammable) | J8: =SUM(B8:I8) -> 0 | U8: =SUM(K8:T8) -> 0
A9: 1. Flammable and Poison - Bulked flammable liquids | J9: =SUM(B9:I9) -> 0 | U9: =SUM(K9:T9) -> 0
A10: 1. Flammable and Poison - Oil-based paints | B10: =SUM(B11:B14) -> 0 | C10: =SUM(C11:C14) -> 0 | D10: =SUM(D11:D14) -> 0 | E10: =SUM(E11:E14) -> 0 | F10: =SUM(F11:F14) -> 0 | G10: =SUM(G11:G14) -> 0 | H10: =SUM(H11:H14) -> 0 | I10: =SUM(I11:I14) -> 0 | J10: =SUM(B10:I10) -> 0 | K10: =SUM(K11:K14) -> 0 | L10: =SUM(L11:L14) -> 0 | M10: =SUM(M11:M14) -> 0 | N10: =SUM(N11:N14) -> 0 | O10: =SUM(O11:O14) -> 0 | P10: =SUM(P11:P14) -> 0 | Q10: =SUM(Q11:Q14) -> 0 | R10: =SUM(R11:R14) -> 0 | ... T10: =SUM(T11:T14) -> 0 | U10: =SUM(K10:T10) -> 0
A11: 1. Flammable and Poison - Oil-based paint (bulked) | J11: =SUM(B11:I11) -> 0 | U11: =SUM(K11:T11) -> 0
A12: 1. Flammable and Poison - Oil-based paint (loose packed) | J12: =SUM(B12:I12) -> 0 | U12: =SUM(K12:T12) -> 0
A13: 1. Flammable and Poison - Oil-based paint with PCBs | J13: =SUM(B13:I13) -> 0 | U13: =SUM(K13:T13) -> 0
A14: 1. Flammable and Poison - Oil-based paint sludge | J14: =SUM(B14:I14) -> 0 | U14: =SUM(K14:T14) -> 0
A15: 1. Flammable and Poison - Paint related material (PRM) | J15: =SUM(B15:I15) -> 0 | U15: =SUM(K15:T15) -> 0
A16: 1. Flammable and Poison - Poisons | B16: =SUM(B17:B28) -> 0 | C16: =SUM(C17:C28) -> 0 | D16: =SUM(D17:D28) -> 0 | E16: =SUM(E17:E28) -> 0 | F16: =SUM(F17:F28) -> 0 | G16: =SUM(G17:G28) -> 0 | H16: =SUM(H17:H28) -> 0 | I16: =SUM(I17:I28) -> 0 | J16: =SUM(B16:I16) -> 0 | K16: =SUM(K17:K28) -> 0 | L16: =SUM(L17:L28) -> 0 | M16: =SUM(M17:M28) -> 0 | N16: =SUM(N17:N28) -> 0 | O16: =SUM(O17:O28) -> 0 | P16: =SUM(P17:P28) -> 0 | Q16: =SUM(Q17:Q28) -> 0 | R16: =SUM(R17:R28) -> 0 | ... T16: =SUM(T17:T28) -> 0 | U16: =SUM(K16:T16) -> 0
A17: 1. Flammable and Poison - Poisons/toxic liquids | J17: =SUM(B17:I17) -> 0 | U17: =SUM(K17:T17) -> 0
A18: 1. Flammable and Poison - Poisons/toxic solids | J18: =SUM(B18:I18) -> 0 | U18: =SUM(K18:T18) -> 0
A19: 1. Flammable and Poison - Cyanides | J19: =SUM(B19:I19) -> 0 | U19: =SUM(K19:T19) -> 0
A20: 1. Flammable and Poison - Organic poisons/pesticides (solid) | J20: =SUM(B20:I20) -> 0 | U20: =SUM(K20:T20) -> 0
A21: 1. Flammable and Poison - Organic poisons/pesticides (liquid) | J21: =SUM(B21:I21) -> 0 | U21: =SUM(K21:T21) -> 0
A22: 1. Flammable and Poison - Solid lead waste (solder) | J22: =SUM(B22:I22) -> 0 | U22: =SUM(K22:T22) -> 0
A23: 1. Flammable and Poison - Inorganic poisons/pesticides (solid) | J23: =SUM(B23:I23) -> 0 | U23: =SUM(K23:T23) -> 0
A24: 1. Flammable and Poison - Inorganic poisons/pesticides (liquid) | J24: =SUM(B24:I24) -> 0 | U24: =SUM(K24:T24) -> 0
A25: 1. Flammable and Poison - Hypochlorite compounds | J25: =SUM(B25:I25) -> 0 | U25: =SUM(K25:T25) -> 0
A26: 1. Flammable and Poison - Solvent sludge | J26: =SUM(B26:I26) -> 0 | U26: =SUM(K26:T26) -> 0
A27: 1. Flammable and Poison - Halogenated solvents | J27: =SUM(B27:I27) -> 0 | U27: =SUM(K27:T27) -> 0
A28: 1. Flammable and Poison - Non-halogenated solvents (toxic) | J28: =SUM(B28:I28) -> 0 | U28: =SUM(K28:T28) -> 0
A29: 1. Flammable and Poison - Reactive and explosive | B29: =SUM(B30:B38) -> 0 | C29: =SUM(C30:C38) -> 0 | D29: =SUM(D30:D38) -> 0 | E29: =SUM(E30:E38) -> 0 | F29: =SUM(F30:F38) -> 0 | G29: =SUM(G30:G38) -> 0 | H29: =SUM(H30:H38) -> 0 | I29: =SUM(I30:I38) -> 0 | J29: =SUM(B29:I29) -> 0 | K29: =SUM(K30:K38) -> 0 | L29: =SUM(L30:L38) -> 0 | M29: =SUM(M30:M38) -> 0 | N29: =SUM(N30:N38) -> 0 | O29: =SUM(O30:O38) -> 0 | P29: =SUM(P30:P38) -> 0 | Q29: =SUM(Q30:Q38) -> 0 | R29: =SUM(R30:R38) -> 0 | ... T29: =SUM(T30:T38) -> 0 | U29: =SUM(K29:T29) -> 0
A30: 1. Flammable and Poison - Reactives | J30: =SUM(B30:I30) -> 0 | U30: =SUM(K30:T30) -> 0
A31: 1. Flammable and Poison - Reactive cyanides | J31: =SUM(B31:I31) -> 0 | U31: =SUM(K31:T31) -> 0
A32: 1. Flammable and Poison - Reactive sulfides | J32: =SUM(B32:I32) -> 0 | U32: =SUM(K32:T32) -> 0
A33: 1. Flammable and Poison - Water reactive compounds, flammable gas producing, heat generating | J33: =SUM(B33:I33) -> 0 | U33: =SUM(K33:T33) -> 0
A34: 1. Flammable and Poison - Water reactive compounds, acid gas producing | J34: =SUM(B34:I34) -> 0 | U34: =SUM(K34:T34) -> 0
A35: 1. Flammable and Poison - Water reactive compounds, ammonia gas producing | J35: =SUM(B35:I35) -> 0 | U35: =SUM(K35:T35) -> 0
A36: 1. Flammable and Poison - Explosives | J36: =SUM(B36:I36) -> 0 | U36: =SUM(K36:T36) -> 0
A37: 1. Flammable and Poison - Ammunition | J37: =SUM(B37:I37) -> 0 | U37: =SUM(K37:T37) -> 0
A38: 1. Flammable and Poison - Fusees (marine flares) | J38: =SUM(B38:I38) -> 0 | U38: =SUM(K38:T38) -> 0
A39: 1. Flammable and Poison - Compressed gas cylinders | J39: =SUM(B39:I39) -> 0 | U39: =SUM(K39:T39) -> 0
A40: 1. Flammable and Poison - subtotal | B40: =B4+B9+B10+B15+B16+B29+B39 -> 0 | C40: =C4+C9+C10+C15+C16+C29+C39 -> 0 | D40: =D4+D9+D10+D15+D16+D29+D39 -> 0 | E40: =E4+E9+E10+E15+E16+E29+E39 -> 0 | F40: =F4+F9+F10+F15+F16+F29+F39 -> 0 | G40: =G4+G9+G10+G15+G16+G29+G39 -> 0 | H40: =H4+H9+H10+H15+H16+H29+H39 -> 0 | I40: =I4+I9+I10+I15+I16+I29+I39 -> 0 | J40: =SUM(B40:I40) -> 0 | K40: =K4+K9+K10+K15+K16+K29+K39 -> 0 | L40: =L4+L9+L10+L15+L16+L29+L39 -> 0 | M40: =M4+M9+M10+M15+M16+M29+M39 -> 0 | N40: =N4+N9+N10+N15+N16+N29+N39 -> 0 | O40: =O4+O9+O10+O15+O16+O29+O39 -> 0 | P40: =P4+P9+P10+P15+P16+P29+P39 -> 0 | Q40: =Q4+Q9+Q10+Q15+Q16+Q29+Q39 -> 0 | R40: =R4+R9+R10+R15+R16+R29+R39 -> 0 | ... T40: =T4+T9+T10+T15+T16+T29+T39 -> 0 | U40: =SUM(K40:T40) -> 0
A41: 2. PCB -containing - PCB-containing paint | J41: =SUM(B41:I41) -> 0 | U41: =SUM(K41:T41) -> 0
...

Sheet Sep
A2: åTrack more detail? Click [2] at top left.
A3: Material Type | B3: Pounds Collected by Program Type - Permanent Facility | C3: Pounds Collected by Program Type - Temporary (periodic) Facility | D3: Pounds Collected by Program Type - Mobile Facility | E3: Pounds Collected by Program Type - Recycle-only Facility | F3: Pounds Collected by Program Type - Door to Door (residential) Program | G3: Pounds Collected by Program Type - Curbside Program | H3: Pounds Collected by Program Type - Load Check | I3: Pounds Collected by Program Type - "Other" Prog Type (PT) PT_______ | J3: Pounds Collected by Program Type - Total Collected (pounds) | K3: Pounds Disposed / Diverted by Management Method - Destructive Incineration | L3: Pounds Disposed / Diverted by Management Method - Fuel Incineration | M3: Pounds Disposed / Diverted by Management Method - Landfill | N3: Pounds Disposed / Diverted by Management Method - Neutralization / Treatment | O3: Pounds Disposed / Diverted by Management Method - Recycled | P3: Pounds Disposed / Diverted by Management Method - Reused | Q3: Pounds Disposed / Diverted by Management Method - Stabilization | R3: Pounds Disposed / Diverted by Management Method - PaintCare | S3: Pounds Disposed / Diverted by Management Method - PaintCare Reuse | T3: Pounds Disposed / Diverted by Management Method - TRC | U3: Pounds Disposed / Diverted by Management Method - Total Disposed / Diverted (pounds)
A4: 1. Flammable and Poison - Flammable solids / liquids | B4: =SUM(B5:B8) -> 0 | C4: =SUM(C5:C8) -> 0 | D4: =SUM(D5:D8) -> 0 | E4: =SUM(E5:E8) -> 0 | F4: =SUM(F5:F8) -> 0 | G4: =SUM(G5:G8) -> 0 | H4: =SUM(H5:H8) -> 0 | I4: =SUM(I5:I8) -> 0 | J4: =SUM(B4:I4) -> 0 | K4: =SUM(K5:K8) -> 0 | L4: =SUM(L5:L8) -> 0 | M4: =SUM(M5:M8) -> 0 | N4: =SUM(N5:N8) -> 0 | O4: =SUM(O5:O8) -> 0 | P4: =SUM(P5:P8) -> 0 | Q4: =SUM(Q5:Q8) -> 0 | R4: =SUM(R5:R8) -> 0 | ... T4: =SUM(T5:T8) -> 0 | U4: =SUM(K4:T4) -> 0
A5: 1. Flammable and Poison - Flammable solids | J5: =SUM(B5:I5) -> 0 | U5: =SUM(K5:T5) -> 0
A6: 1. Flammable and Poison - Flammable liquids (loose pack) | J6: =SUM(B6:I6) -> 0 | U6: =SUM(K6:T6) -> 0
A7: 1. Flammable and Poison - Flammable cylinders | J7: =SUM(B7:I7) -> 0 | U7: =SUM(K7:T7) -> 0
A8: 1. Flammable and Poison - Non-halogenated solvents (flammable) | J8: =SUM(B8:I8) -> 0 | U8: =SUM(K8:T8) -> 0
A9: 1. Flammable and Poison - Bulked flammable liquids | J9: =SUM(B9:I9) -> 0 | U9: =SUM(K9:T9) -> 0
A10: 1. Flammable and Poison - Oil-based paints | B10: =SUM(B11:B14) -> 0 | C10: =SUM(C11:C14) -> 0 | D10: =SUM(D11:D14) -> 0 | E10: =SUM(E11:E14) -> 0 | F10: =SUM(F11:F14) -> 0 | G10: =SUM(G11:G14) -> 0 | H10: =SUM(H11:H14) -> 0 | I10: =SUM(I11:I14) -> 0 | J10: =SUM(B10:I10) -> 0 | K10: =SUM(K11:K14) -> 0 | L10: =SUM(L11:L14) -> 0 | M10: =SUM(M11:M14) -> 0 | N10: =SUM(N11:N14) -> 0 | O10: =SUM(O11:O14) -> 0 | P10: =SUM(P11:P14) -> 0 | Q10: =SUM(Q11:Q14) -> 0 | R10: =SUM(R11:R14) -> 0 | ... T10: =SUM(T11:T14) -> 0 | U10: =SUM(K10:T10) -> 0
A11: 1. Flammable and Poison - Oil-based paint (bulked) | J11: =SUM(B11:I11) -> 0 | U11: =SUM(K11:T11) -> 0
A12: 1. Flammable and Poison - Oil-based paint (loose packed) | J12: =SUM(B12:I12) -> 0 | U12: =SUM(K12:T12) -> 0
A13: 1. Flammable and Poison - Oil-based paint with PCBs | J13: =SUM(B13:I13) -> 0 | U13: =SUM(K13:T13) -> 0
A14: 1. Flammable and Poison - Oil-based paint sludge | J14: =SUM(B14:I14) -> 0 | U14: =SUM(K14:T14) -> 0
A15: 1. Flammable and Poison - Paint related material (PRM) | J15: =SUM(B15:I15) -> 0 | U15: =SUM(K15:T15) -> 0
A16: 1. Flammable and Poison - Poisons | B16: =SUM(B17:B28) -> 0 | C16: =SUM(C17:C28) -> 0 | D16: =SUM(D17:D28) -> 0 | E16: =SUM(E17:E28) -> 0 | F16: =SUM(F17:F28) -> 0 | G16: =SUM(G17:G28) -> 0 | H16: =SUM(H17:H28) -> 0 | I16: =SUM(I17:I28) -> 0 | J16: =SUM(B16:I16) -> 0 | K16: =SUM(K17:K28) -> 0 | L16: =SUM(L17:L28) -> 0 | M16: =SUM(M17:M28) -> 0 | N16: =SUM(N17:N28) -> 0 | O16: =SUM(O17:O28) -> 0 | P16: =SUM(P17:P28) -> 0 | Q16: =SUM(Q17:Q28) -> 0 | R16: =SUM(R17:R28) -> 0 | ... T16: =SUM(T17:T28) -> 0 | U16: =SUM(K16:T16) -> 0
A17: 1. Flammable and Poison - Poisons/toxic liquids | J17: =SUM(B17:I17) -> 0 | U17: =SUM(K17:T17) -> 0
A18: 1. Flammable and Poison - Poisons/toxic solids | J18: =SUM(B18:I18) -> 0 | U18: =SUM(K18:T18) -> 0
A19: 1. Flammable and Poison - Cyanides | J19: =SUM(B19:I19) -> 0 | U19: =SUM(K19:T19) -> 0
A20: 1. Flammable and Poison - Organic poisons/pesticides (solid) | J20: =SUM(B20:I20) -> 0 | U20: =SUM(K20:T20) -> 0
A21: 1. Flammable and Poison - Organic poisons/pesticides (liquid) | J21: =SUM(B21:I21) -> 0 | U21: =SUM(K21:T21) -> 0
A22: 1. Flammable and Poison - Solid lead waste (solder) | J22: =SUM(B22:I22) -> 0 | U22: =SUM(K22:T22) -> 0
A23: 1. Flammable and Poison - Inorganic poisons/pesticides (solid) | J23: =SUM(B23:I23) -> 0 | U23: =SUM(K23:T23) -> 0
A24: 1. Flammable and Poison - Inorganic poisons/pesticides (liquid) | J24: =SUM(B24:I24) -> 0 | U24: =SUM(K24:T24) -> 0
A25: 1. Flammable and Poison - Hypochlorite compounds | J25: =SUM(B25:I25) -> 0 | U25: =SUM(K25:T25) -> 0
A26: 1. Flammable and Poison - Solvent sludge | J26: =SUM(B26:I26) -> 0 | U26: =SUM(K26:T26) -> 0
A27: 1. Flammable and Poison - Halogenated solvents | J27: =SUM(B27:I27) -> 0 | U27: =SUM(K27:T27) -> 0
A28: 1. Flammable and Poison - Non-halogenated solvents (toxic) | J28: =SUM(B28:I28) -> 0 | U28: =SUM(K28:T28) -> 0
A29: 1. Flammable and Poison - Reactive and explosive | B29: =SUM(B30:B38) -> 0 | C29: =SUM(C30:C38) -> 0 | D29: =SUM(D30:D38) -> 0 | E29: =SUM(E30:E38) -> 0 | F29: =SUM(F30:F38) -> 0 | G29: =SUM(G30:G38) -> 0 | H29: =SUM(H30:H38) -> 0 | I29: =SUM(I30:I38) -> 0 | J29: =SUM(B29:I29) -> 0 | K29: =SUM(K30:K38) -> 0 | L29: =SUM(L30:L38) -> 0 | M29: =SUM(M30:M38) -> 0 | N29: =SUM(N30:N38) -> 0 | O29: =SUM(O30:O38) -> 0 | P29: =SUM(P30:P38) -> 0 | Q29: =SUM(Q30:Q38) -> 0 | R29: =SUM(R30:R38) -> 0 | ... T29: =SUM(T30:T38) -> 0 | U29: =SUM(K29:T29) -> 0
A30: 1. Flammable and Poison - Reactives | J30: =SUM(B30:I30) -> 0 | U30: =SUM(K30:T30) -> 0
A31: 1. Flammable and Poison - Reactive cyanides | J31: =SUM(B31:I31) -> 0 | U31: =SUM(K31:T31) -> 0
A32: 1. Flammable and Poison - Reactive sulfides | J32: =SUM(B32:I32) -> 0 | U32: =SUM(K32:T32) -> 0
A33: 1. Flammable and Poison - Water reactive compounds, flammable gas producing, heat generating | J33: =SUM(B33:I33) -> 0 | U33: =SUM(K33:T33) -> 0
A34: 1. Flammable and Poison - Water reactive compounds, acid gas producing | J34: =SUM(B34:I34) -> 0 | U34: =SUM(K34:T34) -> 0
A35: 1. Flammable and Poison - Water reactive compounds, ammonia gas producing | J35: =SUM(B35:I35) -> 0 | U35: =SUM(K35:T35) -> 0
A36: 1. Flammable and Poison - Explosives | J36: =SUM(B36:I36) -> 0 | U36: =SUM(K36:T36) -> 0
A37: 1. Flammable and Poison - Ammunition | J37: =SUM(B37:I37) -> 0 | U37: =SUM(K37:T37) -> 0
A38: 1. Flammable and Poison - Fusees (marine flares) | J38: =SUM(B38:I38) -> 0 | U38: =SUM(K38:T38) -> 0
A39: 1. Flammable and Poison - Compressed gas cylinders | J39: =SUM(B39:I39) -> 0 | U39: =SUM(K39:T39) -> 0
A40: 1. Flammable and Poison - subtotal | B40: =B4+B9+B10+B15+B16+B29+B39 -> 0 | C40: =C4+C9+C10+C15+C16+C29+C39 -> 0 | D40: =D4+D9+D10+D15+D16+D29+D39 -> 0 | E40: =E4+E9+E10+E15+E16+E29+E39 -> 0 | F40: =F4+F9+F10+F15+F16+F29+F39 -> 0 | G40: =G4+G9+G10+G15+G16+G29+G39 -> 0 | H40: =H4+H9+H10+H15+H16+H29+H39 -> 0 | I40: =I4+I9+I10+I15+I16+I29+I39 -> 0 | J40: =SUM(B40:I40) -> 0 | K40: =K4+K9+K10+K15+K16+K29+K39 -> 0 | L40: =L4+L9+L10+L15+L16+L29+L39 -> 0 | M40: =M4+M9+M10+M15+M16+M29+M39 -> 0 | N40: =N4+N9+N10+N15+N16+N29+N39 -> 0 | O40: =O4+O9+O10+O15+O16+O29+O39 -> 0 | P40: =P4+P9+P10+P15+P16+P29+P39 -> 0 | Q40: =Q4+Q9+Q10+Q15+Q16+Q29+Q39 -> 0 | R40: =R4+R9+R10+R15+R16+R29+R39 -> 0 | ... T40: =T4+T9+T10+T15+T16+T29+T39 -> 0 | U40: =SUM(K40:T40) -> 0
A41: 2. PCB -containing - PCB-containing paint | J41: =SUM(B41:I41) -> 0 | U41: =SUM(K41:T41) -> 0
...

Sheet Oct
A2: åTrack more detail? Click [2] at top left.
A3: Material Type | B3: Pounds Collected by Program Type - Permanent Facility | C3: Pounds Collected by Program Type - Temporary (periodic) Facility | D3: Pounds Collected by Program Type - Mobile Facility | E3: Pounds Collected by Program Type - Recycle-only Facility | F3: Pounds Collected by Program Type - Door to Door (residential) Program | G3: Pounds Collected by Program Type - Curbside Program | H3: Pounds Collected by Program Type - Load Check | I3: Pounds Collected by Program Type - "Other" Prog Type (PT) PT_______ | J3: Pounds Collected by Program Type - Total Collected (pounds) | K3: Pounds Disposed / Diverted by Management Method - Destructive Incineration | L3: Pounds Disposed / Diverted by Management Method - Fuel Incineration | M3: Pounds Disposed / Diverted by Management Method - Landfill | N3: Pounds Disposed / Diverted by Management Method - Neutralization / Treatment | O3: Pounds Disposed / Diverted by Management Method - Recycled | P3: Pounds Disposed / Diverted by Management Method - Reused | Q3: Pounds Disposed / Diverted by Management Method - Stabilization | R3: Pounds Disposed / Diverted by Management Method - PaintCare | S3: Pounds Disposed / Diverted by Management Method - PaintCare Reuse | T3: Pounds Disposed / Diverted by Management Method - TRC | U3: Pounds Disposed / Diverted by Management Method - Total Disposed / Diverted (pounds)
A4: 1. Flammable and Poison - Flammable solids / liquids | B4: =SUM(B5:B8) -> 0 | C4: =SUM(C5:C8) -> 0 | D4: =SUM(D5:D8) -> 0 | E4: =SUM(E5:E8) -> 0 | F4: =SUM(F5:F8) -> 0 | G4: =SUM(G5:G8) -> 0 | H4: =SUM(H5:H8) -> 0 | I4: =SUM(I5:I8) -> 0 | J4: =SUM(B4:I4) -> 0 | K4: =SUM(K5:K8) -> 0 | L4: =SUM(L5:L8) -> 0 | M4: =SUM(M5:M8) -> 0 | N4: =SUM(N5:N8) -> 0 | O4: =SUM(O5:O8) -> 0 | P4: =SUM(P5:P8) -> 0 | Q4: =SUM(Q5:Q8) -> 0 | R4: =SUM(R5:R8) -> 0 | ... T4: =SUM(T5:T8) -> 0 | U4: =SUM(K4:T4) -> 0
A5: 1. Flammable and Poison - Flammable solids | J5: =SUM(B5:I5) -> 0 | U5: =SUM(K5:T5) -> 0
A6: 1. Flammable and Poison - Flammable liquids (loose pack) | J6: =SUM(B6:I6) -> 0 | U6: =SUM(K6:T6) -> 0
A7: 1. Flammable and Poison - Flammable cylinders | J7: =SUM(B7:I7) -> 0 | U7: =SUM(K7:T7) -> 0
A8: 1. Flammable and Poison - Non-halogenated solvents (flammable) | J8: =SUM(B8:I8) -> 0 | U8: =SUM(K8:T8) -> 0
A9: 1. Flammable and Poison - Bulked flammable liquids | J9: =SUM(B9:I9) -> 0 | U9: =SUM(K9:T9) -> 0
A10: 1. Flammable and Poison - Oil-based paints | B10: =SUM(B11:B14) -> 0 | C10: =SUM(C11:C14) -> 0 | D10: =SUM(D11:D14) -> 0 | E10: =SUM(E11:E14) -> 0 | F10: =SUM(F11:F14) -> 0 | G10: =SUM(G11:G14) -> 0 | H10: =SUM(H11:H14) -> 0 | I10: =SUM(I11:I14) -> 0 | J10: =SUM(B10:I10) -> 0 | K10: =SUM(K11:K14) -> 0 | L10: =SUM(L11:L14) -> 0 | M10: =SUM(M11:M14) -> 0 | N10: =SUM(N11:N14) -> 0 | O10: =SUM(O11:O14) -> 0 | P10: =SUM(P11:P14) -> 0 | Q10: =SUM(Q11:Q14) -> 0 | R10: =SUM(R11:R14) -> 0 | ... T10: =SUM(T11:T14) -> 0 | U10: =SUM(K10:T10) -> 0
A11: 1. Flammable and Poison - Oil-based paint (bulked) | J11: =SUM(B11:I11) -> 0 | U11: =SUM(K11:T11) -> 0
A12: 1. Flammable and Poison - Oil-based paint (loose packed) | J12: =SUM(B12:I12) -> 0 | U12: =SUM(K12:T12) -> 0
A13: 1. Flammable and Poison - Oil-based paint with PCBs | J13: =SUM(B13:I13) -> 0 | U13: =SUM(K13:T13) -> 0
A14: 1. Flammable and Poison - Oil-based paint sludge | J14: =SUM(B14:I14) -> 0 | U14: =SUM(K14:T14) -> 0
A15: 1. Flammable and Poison - Paint related material (PRM) | J15: =SUM(B15:I15) -> 0 | U15: =SUM(K15:T15) -> 0
A16: 1. Flammable and Poison - Poisons | B16: =SUM(B17:B28) -> 0 | C16: =SUM(C17:C28) -> 0 | D16: =SUM(D17:D28) -> 0 | E16: =SUM(E17:E28) -> 0 | F16: =SUM(F17:F28) -> 0 | G16: =SUM(G17:G28) -> 0 | H16: =SUM(H17:H28) -> 0 | I16: =SUM(I17:I28) -> 0 | J16: =SUM(B16:I16) -> 0 | K16: =SUM(K17:K28) -> 0 | L16: =SUM(L17:L28) -> 0 | M16: =SUM(M17:M28) -> 0 | N16: =SUM(N17:N28) -> 0 | O16: =SUM(O17:O28) -> 0 | P16: =SUM(P17:P28) -> 0 | Q16: =SUM(Q17:Q28) -> 0 | R16: =SUM(R17:R28) -> 0 | ... T16: =SUM(T17:T28) -> 0 | U16: =SUM(K16:T16) -> 0
A17: 1. Flammable and Poison - Poisons/toxic liquids | J17: =SUM(B17:I17) -> 0 | U17: =SUM(K17:T17) -> 0
A18: 1. Flammable and Poison - Poisons/toxic solids | J18: =SUM(B18:I18) -> 0 | U18: =SUM(K18:T18) -> 0
A19: 1. Flammable and Poison - Cyanides | J19: =SUM(B19:I19) -> 0 | U19: =SUM(K19:T19) -> 0
A20: 1. Flammable and Poison - Organic poisons/pesticides (solid) | J20: =SUM(B20:I20) -> 0 | U20: =SUM(K20:T20) -> 0
A21: 1. Flammable and Poison - Organic poisons/pesticides (liquid) | J21: =SUM(B21:I21) -> 0 | U21: =SUM(K21:T21) -> 0
A22: 1. Flammable and Poison - Solid lead waste (solder) | J22: =SUM(B22:I22) -> 0 | U22: =SUM(K22:T22) -> 0
A23: 1. Flammable and Poison - Inorganic poisons/pesticides (solid) | J23: =SUM(B23:I23) -> 0 | U23: =SUM(K23:T23) -> 0
A24: 1. Flammable and Poison - Inorganic poisons/pesticides (liquid) | J24: =SUM(B24:I24) -> 0 | U24: =SUM(K24:T24) -> 0
A25: 1. Flammable and Poison - Hypochlorite compounds | J25: =SUM(B25:I25) -> 0 | U25: =SUM(K25:T25) -> 0
A26: 1. Flammable and Poison - Solvent sludge | J26: =SUM(B26:I26) -> 0 | U26: =SUM(K26:T26) -> 0
A27: 1. Flammable and Poison - Halogenated solvents | J27: =SUM(B27:I27) -> 0 | U27: =SUM(K27:T27) -> 0
A28: 1. Flammable and Poison - Non-halogenated solvents (toxic) | J28: =SUM(B28:I28) -> 0 | U28: =SUM(K28:T28) -> 0
A29: 1. Flammable and Poison - Reactive and explosive | B29: =SUM(B30:B38) -> 0 | C29: =SUM(C30:C38) -> 0 | D29: =SUM(D30:D38) -> 0 | E29: =SUM(E30:E38) -> 0 | F29: =SUM(F30:F38) -> 0 | G29: =SUM(G30:G38) -> 0 | H29: =SUM(H30:H38) -> 0 | I29: =SUM(I30:I38) -> 0 | J29: =SUM(B29:I29) -> 0 | K29: =SUM(K30:K38) -> 0 | L29: =SUM(L30:L38) -> 0 | M29: =SUM(M30:M38) -> 0 | N29: =SUM(N30:N38) -> 0 | O29: =SUM(O30:O38) -> 0 | P29: =SUM(P30:P38) -> 0 | Q29: =SUM(Q30:Q38) -> 0 | R29: =SUM(R30:R38) -> 0 | ... T29: =SUM(T30:T38) -> 0 | U29: =SUM(K29:T29) -> 0
A30: 1. Flammable and Poison - Reactives | J30: =SUM(B30:I30) -> 0 | U30: =SUM(K30:T30) -> 0
A31: 1. Flammable and Poison - Reactive cyanides | J31: =SUM(B31:I31) -> 0 | U31: =SUM(K31:T31) -> 0
A32: 1. Flammable and Poison - Reactive sulfides | J32: =SUM(B32:I32) -> 0 | U32: =SUM(K32:T32) -> 0
A33: 1. Flammable and Poison - Water reactive compounds, flammable gas producing, heat generating | J33: =SUM(B33:I33) -> 0 | U33: =SUM(K33:T33) -> 0
A34: 1. Flammable and Poison - Water reactive compounds, acid gas producing | J34: =SUM(B34:I34) -> 0 | U34: =SUM(K34:T34) -> 0
A35: 1. Flammable and Poison - Water reactive compounds, ammonia gas producing | J35: =SUM(B35:I35) -> 0 | U35: =SUM(K35:T35) -> 0
A36: 1. Flammable and Poison - Explosives | J36: =SUM(B36:I36) -> 0 | U36: =SUM(K36:T36) -> 0
A37: 1. Flammable and Poison - Ammunition | J37: =SUM(B37:I37) -> 0 | U37: =SUM(K37:T37) -> 0
A38: 1. Flammable and Poison - Fusees (marine flares) | J38: =SUM(B38:I38) -> 0 | U38: =SUM(K38:T38) -> 0
A39: 1. Flammable and Poison - Compressed gas cylinders | J39: =SUM(B39:I39) -> 0 | U39: =SUM(K39:T39) -> 0
A40: 1. Flammable and Poison - subtotal | B40: =B4+B9+B10+B15+B16+B29+B39 -> 0 | C40: =C4+C9+C10+C15+C16+C29+C39 -> 0 | D40: =D4+D9+D10+D15+D16+D29+D39 -> 0 | E40: =E4+E9+E10+E15+E16+E29+E39 -> 0 | F40: =F4+F9+F10+F15+F16+F29+F39 -> 0 | G40: =G4+G9+G10+G15+G16+G29+G39 -> 0 | H40: =H4+H9+H10+H15+H16+H29+H39 -> 0 | I40: =I4+I9+I10+I15+I16+I29+I39 -> 0 | J40: =SUM(B40:I40) -> 0 | K40: =K4+K9+K10+K15+K16+K29+K39 -> 0 | L40: =L4+L9+L10+L15+L16+L29+L39 -> 0 | M40: =M4+M9+M10+M15+M16+M29+M39 -> 0 | N40: =N4+N9+N10+N15+N16+N29+N39 -> 0 | O40: =O4+O9+O10+O15+O16+O29+O39 -> 0 | P40: =P4+P9+P10+P15+P16+P29+P39 -> 0 | Q40: =Q4+Q9+Q10+Q15+Q16+Q29+Q39 -> 0 | R40: =R4+R9+R10+R15+R16+R29+R39 -> 0 | ... T40: =T4+T9+T10+T15+T16+T29+T39 -> 0 | U40: =SUM(K40:T40) -> 0
A41: 2. PCB -containing - PCB-containing paint | J41: =SUM(B41:I41) -> 0 | U41: =SUM(K41:T41) -> 0
...

Sheet Nov
A2: åTrack more detail? Click [2] at top left.
A3: Material Type | B3: Pounds Collected by Program Type - Permanent Facility | C3: Pounds Collected by Program Type - Temporary (periodic) Facility | D3: Pounds Collected by Program Type - Mobile Facility | E3: Pounds Collected by Program Type - Recycle-only Facility | F3: Pounds Collected by Program Type - Door to Door (residential) Program | G3: Pounds Collected by Program Type - Curbside Program | H3: Pounds Collected by Program Type - Load Check | I3: Pounds Collected by Program Type - "Other" Prog Type (PT) PT_______ | J3: Pounds Collected by Program Type - Total Collected (pounds) | K3: Pounds Disposed / Diverted by Management Method - Destructive Incineration | L3: Pounds Disposed / Diverted by Management Method - Fuel Incineration | M3: Pounds Disposed / Diverted by Management Method - Landfill | N3: Pounds Disposed / Diverted by Management Method - Neutralization / Treatment | O3: Pounds Disposed / Diverted by Management Method - Recycled | P3: Pounds Disposed / Diverted by Management Method - Reused | Q3: Pounds Disposed / Diverted by Management Method - Stabilization | R3: Pounds Disposed / Diverted by Management Method - PaintCare | S3: Pounds Disposed / Diverted by Management Method - PaintCare Reuse | T3: Pounds Disposed / Diverted by Management Method - TRC | U3: Pounds Disposed / Diverted by Management Method - Total Disposed / Diverted (pounds)
A4: 1. Flammable and Poison - Flammable solids / liquids | B4: =SUM(B5:B8) -> 0 | C4: =SUM(C5:C8) -> 0 | D4: =SUM(D5:D8) -> 0 | E4: =SUM(E5:E8) -> 0 | F4: =SUM(F5:F8) -> 0 | G4: =SUM(G5:G8) -> 0 | H4: =SUM(H5:H8) -> 0 | I4: =SUM(I5:I8) -> 0 | J4: =SUM(B4:I4) -> 0 | K4: =SUM(K5:K8) -> 0 | L4: =SUM(L5:L8) -> 0 | M4: =SUM(M5:M8) -> 0 | N4: =SUM(N5:N8) -> 0 | O4: =SUM(O5:O8) -> 0 | P4: =SUM(P5:P8) -> 0 | Q4: =SUM(Q5:Q8) -> 0 | R4: =SUM(R5:R8) -> 0 | ... T4: =SUM(T5:T8) -> 0 | U4: =SUM(K4:T4) -> 0
A5: 1. Flammable and Poison - Flammable solids | J5: =SUM(B5:I5) -> 0 | U5: =SUM(K5:T5) -> 0
A6: 1. Flammable and Poison - Flammable liquids (loose pack) | J6: =SUM(B6:I6) -> 0 | U6: =SUM(K6:T6) -> 0
A7: 1. Flammable and Poison - Flammable cylinders | J7: =SUM(B7:I7) -> 0 | U7: =SUM(K7:T7) -> 0
A8: 1. Flammable and Poison - Non-halogenated solvents (flammable) | J8: =SUM(B8:I8) -> 0 | U8: =SUM(K8:T8) -> 0
A9: 1. Flammable and Poison - Bulked flammable liquids | J9: =SUM(B9:I9) -> 0 | U9: =SUM(K9:T9) -> 0
A10: 1. Flammable and Poison - Oil-based paints | B10: =SUM(B11:B14) -> 0 | C10: =SUM(C11:C14) -> 0 | D10: =SUM(D11:D14) -> 0 | E10: =SUM(E11:E14) -> 0 | F10: =SUM(F11:F14) -> 0 | G10: =SUM(G11:G14) -> 0 | H10: =SUM(H11:H14) -> 0 | I10: =SUM(I11:I14) -> 0 | J10: =SUM(B10:I10) -> 0 | K10: =SUM(K11:K14) -> 0 | L10: =SUM(L11:L14) -> 0 | M10: =SUM(M11:M14) -> 0 | N10: =SUM(N11:N14) -> 0 | O10: =SUM(O11:O14) -> 0 | P10: =SUM(P11:P14) -> 0 | Q10: =SUM(Q11:Q14) -> 0 | R10: =SUM(R11:R14) -> 0 | ... T10: =SUM(T11:T14) -> 0 | U10: =SUM(K10:T10) -> 0
A11: 1. Flammable and Poison - Oil-based paint (bulked) | J11: =SUM(B11:I11) -> 0 | U11: =SUM(K11:T11) -> 0
A12: 1. Flammable and Poison - Oil-based paint (loose packed) | J12: =SUM(B12:I12) -> 0 | U12: =SUM(K12:T12) -> 0
A13: 1. Flammable and Poison - Oil-based paint with PCBs | J13: =SUM(B13:I13) -> 0 | U13: =SUM(K13:T13) -> 0
A14: 1. Flammable and Poison - Oil-based paint sludge | J14: =SUM(B14:I14) -> 0 | U14: =SUM(K14:T14) -> 0
A15: 1. Flammable and Poison - Paint related material (PRM) | J15: =SUM(B15:I15) -> 0 | U15: =SUM(K15:T15) -> 0
A16: 1. Flammable and Poison - Poisons | B16: =SUM(B17:B28) -> 0 | C16: =SUM(C17:C28) -> 0 | D16: =SUM(D17:D28) -> 0 | E16: =SUM(E17:E28) -> 0 | F16: =SUM(F17:F28) -> 0 | G16: =SUM(G17:G28) -> 0 | H16: =SUM(H17:H28) -> 0 | I16: =SUM(I17:I28) -> 0 | J16: =SUM(B16:I16) -> 0 | K16: =SUM(K17:K28) -> 0 | L16: =SUM(L17:L28) -> 0 | M16: =SUM(M17:M28) -> 0 | N16: =SUM(N17:N28) -> 0 | O16: =SUM(O17:O28) -> 0 | P16: =SUM(P17:P28) -> 0 | Q16: =SUM(Q17:Q28) -> 0 | R16: =SUM(R17:R28) -> 0 | ... T16: =SUM(T17:T28) -> 0 | U16: =SUM(K16:T16) -> 0
A17: 1. Flammable and Poison - Poisons/toxic liquids | J17: =SUM(B17:I17) -> 0 | U17: =SUM(K17:T17) -> 0
A18: 1. Flammable and Poison - Poisons/toxic solids | J18: =SUM(B18:I18) -> 0 | U18: =SUM(K18:T18) -> 0
A19: 1. Flammable and Poison - Cyanides | J19: =SUM(B19:I19) -> 0 | U19: =SUM(K19:T19) -> 0
A20: 1. Flammable and Poison - Organic poisons/pesticides (solid) | J20: =SUM(B20:I20) -> 0 | U20: =SUM(K20:T20) -> 0
A21: 1. Flammable and Poison - Organic poisons/pesticides (liquid) | J21: =SUM(B21:I21) -> 0 | U21: =SUM(K21:T21) -> 0
A22: 1. Flammable and Poison - Solid lead waste (solder) | J22: =SUM(B22:I22) -> 0 | U22: =SUM(K22:T22) -> 0
A23: 1. Flammable and Poison - Inorganic poisons/pesticides (solid) | J23: =SUM(B23:I23) -> 0 | U23: =SUM(K23:T23) -> 0
A24: 1. Flammable and Poison - Inorganic poisons/pesticides (liquid) | J24: =SUM(B24:I24) -> 0 | U24: =SUM(K24:T24) -> 0
A25: 1. Flammable and Poison - Hypochlorite compounds | J25: =SUM(B25:I25) -> 0 | U25: =SUM(K25:T25) -> 0
A26: 1. Flammable and Poison - Solvent sludge | J26: =SUM(B26:I26) -> 0 | U26: =SUM(K26:T26) -> 0
A27: 1. Flammable and Poison - Halogenated solvents | J27: =SUM(B27:I27) -> 0 | U27: =SUM(K27:T27) -> 0
A28: 1. Flammable and Poison - Non-halogenated solvents (toxic) | J28: =SUM(B28:I28) -> 0 | U28: =SUM(K28:T28) -> 0
A29: 1. Flammable and Poison - Reactive and explosive | B29: =SUM(B30:B38) -> 0 | C29: =SUM(C30:C38) -> 0 | D29: =SUM(D30:D38) -> 0 | E29: =SUM(E30:E38) -> 0 | F29: =SUM(F30:F38) -> 0 | G29: =SUM(G30:G38) -> 0 | H29: =SUM(H30:H38) -> 0 | I29: =SUM(I30:I38) -> 0 | J29: =SUM(B29:I29) -> 0 | K29: =SUM(K30:K38) -> 0 | L29: =SUM(L30:L38) -> 0 | M29: =SUM(M30:M38) -> 0 | N29: =SUM(N30:N38) -> 0 | O29: =SUM(O30:O38) -> 0 | P29: =SUM(P30:P38) -> 0 | Q29: =SUM(Q30:Q38) -> 0 | R29: =SUM(R30:R38) -> 0 | ... T29: =SUM(T30:T38) -> 0 | U29: =SUM(K29:T29) -> 0
A30: 1. Flammable and Poison - Reactives | J30: =SUM(B30:I30) -> 0 | U30: =SUM(K30:T30) -> 0
A31: 1. Flammable and Poison - Reactive cyanides | J31: =SUM(B31:I31) -> 0 | U31: =SUM(K31:T31) -> 0
A32: 1. Flammable and Poison - Reactive sulfides | J32: =SUM(B32:I32) -> 0 | U32: =SUM(K32:T32) -> 0
A33: 1. Flammable and Poison - Water reactive compounds, flammable gas producing, heat generating | J33: =SUM(B33:I33) -> 0 | U33: =SUM(K33:T33) -> 0
A34: 1. Flammable and Poison - Water reactive compounds, acid gas producing | J34: =SUM(B34:I34) -> 0 | U34: =SUM(K34:T34) -> 0
A35: 1. Flammable and Poison - Water reactive compounds, ammonia gas producing | J35: =SUM(B35:I35) -> 0 | U35: =SUM(K35:T35) -> 0
A36: 1. Flammable and Poison - Explosives | J36: =SUM(B36:I36) -> 0 | U36: =SUM(K36:T36) -> 0
A37: 1. Flammable and Poison - Ammunition | J37: =SUM(B37:I37) -> 0 | U37: =SUM(K37:T37) -> 0
A38: 1. Flammable and Poison - Fusees (marine flares) | J38: =SUM(B38:I38) -> 0 | U38: =SUM(K38:T38) -> 0
A39: 1. Flammable and Poison - Compressed gas cylinders | J39: =SUM(B39:I39) -> 0 | U39: =SUM(K39:T39) -> 0
A40: 1. Flammable and Poison - subtotal | B40: =B4+B9+B10+B15+B16+B29+B39 -> 0 | C40: =C4+C9+C10+C15+C16+C29+C39 -> 0 | D40: =D4+D9+D10+D15+D16+D29+D39 -> 0 | E40: =E4+E9+E10+E15+E16+E29+E39 -> 0 | F40: =F4+F9+F10+F15+F16+F29+F39 -> 0 | G40: =G4+G9+G10+G15+G16+G29+G39 -> 0 | H40: =H4+H9+H10+H15+H16+H29+H39 -> 0 | I40: =I4+I9+I10+I15+I16+I29+I39 -> 0 | J40: =SUM(B40:I40) -> 0 | K40: =K4+K9+K10+K15+K16+K29+K39 -> 0 | L40: =L4+L9+L10+L15+L16+L29+L39 -> 0 | M40: =M4+M9+M10+M15+M16+M29+M39 -> 0 | N40: =N4+N9+N10+N15+N16+N29+N39 -> 0 | O40: =O4+O9+O10+O15+O16+O29+O39 -> 0 | P40: =P4+P9+P10+P15+P16+P29+P39 -> 0 | Q40: =Q4+Q9+Q10+Q15+Q16+Q29+Q39 -> 0 | R40: =R4+R9+R10+R15+R16+R29+R39 -> 0 | ... T40: =T4+T9+T10+T15+T16+T29+T39 -> 0 | U40: =SUM(K40:T40) -> 0
A41: 2. PCB -containing - PCB-containing paint | J41: =SUM(B41:I41) -> 0 | U41: =SUM(K41:T41) -> 0
...

Sheet Dec
A2: åTrack more detail? Click [2] at top left.
A3: Material Type | B3: Pounds Collected by Program Type - Permanent Facility | C3: Pounds Collected by Program Type - Temporary (periodic) Facility | D3: Pounds Collected by Program Type - Mobile Facility | E3: Pounds Collected by Program Type - Recycle-only Facility | F3: Pounds Collected by Program Type - Door to Door (residential) Program | G3: Pounds Collected by Program Type - Curbside Program | H3: Pounds Collected by Program Type - Load Check | I3: Pounds Collected by Program Type - "Other" Prog Type (PT) PT_______ | J3: Pounds Collected by Program Type - Total Collected (pounds) | K3: Pounds Disposed / Diverted by Management Method - Destructive Incineration | L3: Pounds Disposed / Diverted by Management Method - Fuel Incineration | M3: Pounds Disposed / Diverted by Management Method - Landfill | N3: Pounds Disposed / Diverted by Management Method - Neutralization / Treatment | O3: Pounds Disposed / Diverted by Management Method - Recycled | P3: Pounds Disposed / Diverted by Management Method - Reused | Q3: Pounds Disposed / Diverted by Management Method - Stabilization | R3: Pounds Disposed / Diverted by Management Method - PaintCare | S3: Pounds Disposed / Diverted by Management Method - PaintCare Reuse | T3: Pounds Disposed / Diverted by Management Method - TRC | U3: Pounds Disposed / Diverted by Management Method - Total Disposed / Diverted (pounds)
A4: 1. Flammable and Poison - Flammable solids / liquids | B4: =SUM(B5:B8) -> 0 | C4: =SUM(C5:C8) -> 0 | D4: =SUM(D5:D8) -> 0 | E4: =SUM(E5:E8) -> 0 | F4: =SUM(F5:F8) -> 0 | G4: =SUM(G5:G8) -> 0 | H4: =SUM(H5:H8) -> 0 | I4: =SUM(I5:I8) -> 0 | J4: =SUM(B4:I4) -> 0 | K4: =SUM(K5:K8) -> 0 | L4: =SUM(L5:L8) -> 0 | M4: =SUM(M5:M8) -> 0 | N4: =SUM(N5:N8) -> 0 | O4: =SUM(O5:O8) -> 0 | P4: =SUM(P5:P8) -> 0 | Q4: =SUM(Q5:Q8) -> 0 | R4: =SUM(R5:R8) -> 0 | ... T4: =SUM(T5:T8) -> 0 | U4: =SUM(K4:T4) -> 0
A5: 1. Flammable and Poison - Flammable solids | J5: =SUM(B5:I5) -> 0 | U5: =SUM(K5:T5) -> 0
A6: 1. Flammable and Poison - Flammable liquids (loose pack) | J6: =SUM(B6:I6) -> 0 | U6: =SUM(K6:T6) -> 0
A7: 1. Flammable and Poison - Flammable cylinders | J7: =SUM(B7:I7) -> 0 | U7: =SUM(K7:T7) -> 0
A8: 1. Flammable and Poison - Non-halogenated solvents (flammable) | J8: =SUM(B8:I8) -> 0 | U8: =SUM(K8:T8) -> 0
A9: 1. Flammable and Poison - Bulked flammable liquids | J9: =SUM(B9:I9) -> 0 | U9: =SUM(K9:T9) -> 0
A10: 1. Flammable and Poison - Oil-based paints | B10: =SUM(B11:B14) -> 0 | C10: =SUM(C11:C14) -> 0 | D10: =SUM(D11:D14) -> 0 | E10: =SUM(E11:E14) -> 0 | F10: =SUM(F11:F14) -> 0 | G10: =SUM(G11:G14) -> 0 | H10: =SUM(H11:H14) -> 0 | I10: =SUM(I11:I14) -> 0 | J10: =SUM(B10:I10) -> 0 | K10: =SUM(K11:K14) -> 0 | L10: =SUM(L11:L14) -> 0 | M10: =SUM(M11:M14) -> 0 | N10: =SUM(N11:N14) -> 0 | O10: =SUM(O11:O14) -> 0 | P10: =SUM(P11:P14) -> 0 | Q10: =SUM(Q11:Q14) -> 0 | R10: =SUM(R11:R14) -> 0 | ... T10: =SUM(T11:T14) -> 0 | U10: =SUM(K10:T10) -> 0
A11: 1. Flammable and Poison - Oil-based paint (bulked) | J11: =SUM(B11:I11) -> 0 | U11: =SUM(K11:T11) -> 0
A12: 1. Flammable and Poison - Oil-based paint (loose packed) | J12: =SUM(B12:I12) -> 0 | U12: =SUM(K12:T12) -> 0
A13: 1. Flammable and Poison - Oil-based paint with PCBs | J13: =SUM(B13:I13) -> 0 | U13: =SUM(K13:T13) -> 0
A14: 1. Flammable and Poison - Oil-based paint sludge | J14: =SUM(B14:I14) -> 0 | U14: =SUM(K14:T14) -> 0
A15: 1. Flammable and Poison - Paint related material (PRM) | J15: =SUM(B15:I15) -> 0 | U15: =SUM(K15:T15) -> 0
A16: 1. Flammable and Poison - Poisons | B16: =SUM(B17:B28) -> 0 | C16: =SUM(C17:C28) -> 0 | D16: =SUM(D17:D28) -> 0 | E16: =SUM(E17:E28) -> 0 | F16: =SUM(F17:F28) -> 0 | G16: =SUM(G17:G28) -> 0 | H16: =SUM(H17:H28) -> 0 | I16: =SUM(I17:I28) -> 0 | J16: =SUM(B16:I16) -> 0 | K16: =SUM(K17:K28) -> 0 | L16: =SUM(L17:L28) -> 0 | M16: =SUM(M17:M28) -> 0 | N16: =SUM(N17:N28) -> 0 | O16: =SUM(O17:O28) -> 0 | P16: =SUM(P17:P28) -> 0 | Q16: =SUM(Q17:Q28) -> 0 | R16: =SUM(R17:R28) -> 0 | ... T16: =SUM(T17:T28) -> 0 | U16: =SUM(K16:T16) -> 0
A17: 1. Flammable and Poison - Poisons/toxic liquids | J17: =SUM(B17:I17) -> 0 | U17: =SUM(K17:T17) -> 0
A18: 1. Flammable and Poison - Poisons/toxic solids | J18: =SUM(B18:I18) -> 0 | U18: =SUM(K18:T18) -> 0
A19: 1. Flammable and Poison - Cyanides | J19: =SUM(B19:I19) -> 0 | U19: =SUM(K19:T19) -> 0
A20: 1. Flammable and Poison - Organic poisons/pesticides (solid) | J20: =SUM(B20:I20) -> 0 | U20: =SUM(K20:T20) -> 0
A21: 1. Flammable and Poison - Organic poisons/pesticides (liquid) | J21: =SUM(B21:I21) -> 0 | U21: =SUM(K21:T21) -> 0
A22: 1. Flammable and Poison - Solid lead waste (solder) | J22: =SUM(B22:I22) -> 0 | U22: =SUM(K22:T22) -> 0
A23: 1. Flammable and Poison - Inorganic poisons/pesticides (solid) | J23: =SUM(B23:I23) -> 0 | U23: =SUM(K23:T23) -> 0
A24: 1. Flammable and Poison - Inorganic poisons/pesticides (liquid) | J24: =SUM(B24:I24) -> 0 | U24: =SUM(K24:T24) -> 0
A25: 1. Flammable and Poison - Hypochlorite compounds | J25: =SUM(B25:I25) -> 0 | U25: =SUM(K25:T25) -> 0
A26: 1. Flammable and Poison - Solvent sludge | J26: =SUM(B26:I26) -> 0 | U26: =SUM(K26:T26) -> 0
A27: 1. Flammable and Poison - Halogenated solvents | J27: =SUM(B27:I27) -> 0 | U27: =SUM(K27:T27) -> 0
A28: 1. Flammable and Poison - Non-halogenated solvents (toxic) | J28: =SUM(B28:I28) -> 0 | U28: =SUM(K28:T28) -> 0
A29: 1. Flammable and Poison - Reactive and explosive | B29: =SUM(B30:B38) -> 0 | C29: =SUM(C30:C38) -> 0 | D29: =SUM(D30:D38) -> 0 | E29: =SUM(E30:E38) -> 0 | F29: =SUM(F30:F38) -> 0 | G29: =SUM(G30:G38) -> 0 | H29: =SUM(H30:H38) -> 0 | I29: =SUM(I30:I38) -> 0 | J29: =SUM(B29:I29) -> 0 | K29: =SUM(K30:K38) -> 0 | L29: =SUM(L30:L38) -> 0 | M29: =SUM(M30:M38) -> 0 | N29: =SUM(N30:N38) -> 0 | O29: =SUM(O30:O38) -> 0 | P29: =SUM(P30:P38) -> 0 | Q29: =SUM(Q30:Q38) -> 0 | R29: =SUM(R30:R38) -> 0 | ... T29: =SUM(T30:T38) -> 0 | U29: =SUM(K29:T29) -> 0
A30: 1. Flammable and Poison - Reactives | J30: =SUM(B30:I30) -> 0 | U30: =SUM(K30:T30) -> 0
A31: 1. Flammable and Poison - Reactive cyanides | J31: =SUM(B31:I31) -> 0 | U31: =SUM(K31:T31) -> 0
A32: 1. Flammable and Poison - Reactive sulfides | J32: =SUM(B32:I32) -> 0 | U32: =SUM(K32:T32) -> 0
A33: 1. Flammable and Poison - Water reactive compounds, flammable gas producing, heat generating | J33: =SUM(B33:I33) -> 0 | U33: =SUM(K33:T33) -> 0
A34: 1. Flammable and Poison - Water reactive compounds, acid gas producing | J34: =SUM(B34:I34) -> 0 | U34: =SUM(K34:T34) -> 0
A35: 1. Flammable and Poison - Water reactive compounds, ammonia gas producing | J35: =SUM(B35:I35) -> 0 | U35: =SUM(K35:T35) -> 0
A36: 1. Flammable and Poison - Explosives | J36: =SUM(B36:I36) -> 0 | U36: =SUM(K36:T36) -> 0
A37: 1. Flammable and Poison - Ammunition | J37: =SUM(B37:I37) -> 0 | U37: =SUM(K37:T37) -> 0
A38: 1. Flammable and Poison - Fusees (marine flares) | J38: =SUM(B38:I38) -> 0 | U38: =SUM(K38:T38) -> 0
A39: 1. Flammable and Poison - Compressed gas cylinders | J39: =SUM(B39:I39) -> 0 | U39: =SUM(K39:T39) -> 0
A40: 1. Flammable and Poison - subtotal | B40: =B4+B9+B10+B15+B16+B29+B39 -> 0 | C40: =C4+C9+C10+C15+C16+C29+C39 -> 0 | D40: =D4+D9+D10+D15+D16+D29+D39 -> 0 | E40: =E4+E9+E10+E15+E16+E29+E39 -> 0 | F40: =F4+F9+F10+F15+F16+F29+F39 -> 0 | G40: =G4+G9+G10+G15+G16+G29+G39 -> 0 | H40: =H4+H9+H10+H15+H16+H29+H39 -> 0 | I40: =I4+I9+I10+I15+I16+I29+I39 -> 0 | J40: =SUM(B40:I40) -> 0 | K40: =K4+K9+K10+K15+K16+K29+K39 -> 0 | L40: =L4+L9+L10+L15+L16+L29+L39 -> 0 | M40: =M4+M9+M10+M15+M16+M29+M39 -> 0 | N40: =N4+N9+N10+N15+N16+N29+N39 -> 0 | O40: =O4+O9+O10+O15+O16+O29+O39 -> 0 | P40: =P4+P9+P10+P15+P16+P29+P39 -> 0 | Q40: =Q4+Q9+Q10+Q15+Q16+Q29+Q39 -> 0 | R40: =R4+R9+R10+R15+R16+R29+R39 -> 0 | ... T40: =T4+T9+T10+T15+T16+T29+T39 -> 0 | U40: =SUM(K40:T40) -> 0
A41: 2. PCB -containing - PCB-containing paint | J41: =SUM(B41:I41) -> 0 | U41: =SUM(K41:T41) -> 0
...

Sheet Jan
A2: åTrack more detail? Click [2] at top left.
A3: Material Type | B3: Pounds Collected by Program Type - Permanent Facility | C3: Pounds Collected by Program Type - Temporary (periodic) Facility | D3: Pounds Collected by Program Type - Mobile Facility | E3: Pounds Collected by Program Type - Recycle-only Facility | F3: Pounds Collected by Program Type - Door to Door (residential) Program | G3: Pounds Collected by Program Type - Curbside Program | H3: Pounds Collected by Program Type - Load Check | I3: Pounds Collected by Program Type - "Other" Prog Type (PT) PT_______ | J3: Pounds Collected by Program Type - Total Collected (pounds) | K3: Pounds Disposed / Diverted by Management Method - Destructive Incineration | L3: Pounds Disposed / Diverted by Management Method - Fuel Incineration | M3: Pounds Disposed / Diverted by Management Method - Landfill | N3: Pounds Disposed / Diverted by Management Method - Neutralization / Treatment | O3: Pounds Disposed / Diverted by Management Method - Recycled | P3: Pounds Disposed / Diverted by Management Method - Reused | Q3: Pounds Disposed / Diverted by Management Method - Stabilization | R3: Pounds Disposed / Diverted by Management Method - PaintCare | S3: Pounds Disposed / Diverted by Management Method - PaintCare Reuse | T3: Pounds Disposed / Diverted by Management Method - TRC | U3: Pounds Disposed / Diverted by Management Method - Total Disposed / Diverted (pounds)
A4: 1. Flammable and Poison - Flammable solids / liquids | B4: =SUM(B5:B8) -> 0 | C4: =SUM(C5:C8) -> 0 | D4: =SUM(D5:D8) -> 0 | E4: =SUM(E5:E8) -> 0 | F4: =SUM(F5:F8) -> 0 | G4: =SUM(G5:G8) -> 0 | H4: =SUM(H5:H8) -> 0 | I4: =SUM(I5:I8) -> 0 | J4: =SUM(B4:I4) -> 0 | K4: =SUM(K5:K8) -> 0 | L4: =SUM(L5:L8) -> 0 | M4: =SUM(M5:M8) -> 0 | N4: =SUM(N5:N8) -> 0 | O4: =SUM(O5:O8) -> 0 | P4: =SUM(P5:P8) -> 0 | Q4: =SUM(Q5:Q8) -> 0 | R4: =SUM(R5:R8) -> 0 | ... T4: =SUM(T5:T8) -> 0 | U4: =SUM(K4:T4) -> 0
A5: 1. Flammable and Poison - Flammable solids | J5: =SUM(B5:I5) -> 0 | U5: =SUM(K5:T5) -> 0
A6: 1. Flammable and Poison - Flammable liquids (loose pack) | J6: =SUM(B6:I6) -> 0 | U6: =SUM(K6:T6) -> 0
A7: 1. Flammable and Poison - Flammable cylinders | J7: =SUM(B7:I7) -> 0 | U7: =SUM(K7:T7) -> 0
A8: 1. Flammable and Poison - Non-halogenated solvents (flammable) | J8: =SUM(B8:I8) -> 0 | U8: =SUM(K8:T8) -> 0
A9: 1. Flammable and Poison - Bulked flammable liquids | J9: =SUM(B9:I9) -> 0 | U9: =SUM(K9:T9) -> 0
A10: 1. Flammable and Poison - Oil-based paints | B10: =SUM(B11:B14) -> 0 | C10: =SUM(C11:C14) -> 0 | D10: =SUM(D11:D14) -> 0 | E10: =SUM(E11:E14) -> 0 | F10: =SUM(F11:F14) -> 0 | G10: =SUM(G11:G14) -> 0 | H10: =SUM(H11:H14) -> 0 | I10: =SUM(I11:I14) -> 0 | J10: =SUM(B10:I10) -> 0 | K10: =SUM(K11:K14) -> 0 | L10: =SUM(L11:L14) -> 0 | M10: =SUM(M11:M14) -> 0 | N10: =SUM(N11:N14) -> 0 | O10: =SUM(O11:O14) -> 0 | P10: =SUM(P11:P14) -> 0 | Q10: =SUM(Q11:Q14) -> 0 | R10: =SUM(R11:R14) -> 0 | ... T10: =SUM(T11:T14) -> 0 | U10: =SUM(K10:T10) -> 0
A11: 1. Flammable and Poison - Oil-based paint (bulked) | J11: =SUM(B11:I11) -> 0 | U11: =SUM(K11:T11) -> 0
A12: 1. Flammable and Poison - Oil-based paint (loose packed) | J12: =SUM(B12:I12) -> 0 | U12: =SUM(K12:T12) -> 0
A13: 1. Flammable and Poison - Oil-based paint with PCBs | J13: =SUM(B13:I13) -> 0 | U13: =SUM(K13:T13) -> 0
A14: 1. Flammable and Poison - Oil-based paint sludge | J14: =SUM(B14:I14) -> 0 | U14: =SUM(K14:T14) -> 0
A15: 1. Flammable and Poison - Paint related material (PRM) | J15: =SUM(B15:I15) -> 0 | U15: =SUM(K15:T15) -> 0
A16: 1. Flammable and Poison - Poisons | B16: =SUM(B17:B28) -> 0 | C16: =SUM(C17:C28) -> 0 | D16: =SUM(D17:D28) -> 0 | E16: =SUM(E17:E28) -> 0 | F16: =SUM(F17:F28) -> 0 | G16: =SUM(G17:G28) -> 0 | H16: =SUM(H17:H28) -> 0 | I16: =SUM(I17:I28) -> 0 | J16: =SUM(B16:I16) -> 0 | K16: =SUM(K17:K28) -> 0 | L16: =SUM(L17:L28) -> 0 | M16: =SUM(M17:M28) -> 0 | N16: =SUM(N17:N28) -> 0 | O16: =SUM(O17:O28) -> 0 | P16: =SUM(P17:P28) -> 0 | Q16: =SUM(Q17:Q28) -> 0 | R16: =SUM(R17:R28) -> 0 | ... T16: =SUM(T17:T28) -> 0 | U16: =SUM(K16:T16) -> 0
A17: 1. Flammable and Poison - Poisons/toxic liquids | J17: =SUM(B17:I17) -> 0 | U17: =SUM(K17:T17) -> 0
A18: 1. Flammable and Poison - Poisons/toxic solids | J18: =SUM(B18:I18) -> 0 | U18: =SUM(K18:T18) -> 0
A19: 1. Flammable and Poison - Cyanides | J19: =SUM(B19:I19) -> 0 | U19: =SUM(K19:T19) -> 0
A20: 1. Flammable and Poison - Organic poisons/pesticides (solid) | J20: =SUM(B20:I20) -> 0 | U20: =SUM(K20:T20) -> 0
A21: 1. Flammable and Poison - Organic poisons/pesticides (liquid) | J21: =SUM(B21:I21) -> 0 | U21: =SUM(K21:T21) -> 0
A22: 1. Flammable and Poison - Solid lead waste (solder) | J22: =SUM(B22:I22) -> 0 | U22: =SUM(K22:T22) -> 0
A23: 1. Flammable and Poison - Inorganic poisons/pesticides (solid) | J23: =SUM(B23:I23) -> 0 | U23: =SUM(K23:T23) -> 0
A24: 1. Flammable and Poison - Inorganic poisons/pesticides (liquid) | J24: =SUM(B24:I24) -> 0 | U24: =SUM(K24:T24) -> 0
A25: 1. Flammable and Poison - Hypochlorite compounds | J25: =SUM(B25:I25) -> 0 | U25: =SUM(K25:T25) -> 0
A26: 1. Flammable and Poison - Solvent sludge | J26: =SUM(B26:I26) -> 0 | U26: =SUM(K26:T26) -> 0
A27: 1. Flammable and Poison - Halogenated solvents | J27: =SUM(B27:I27) -> 0 | U27: =SUM(K27:T27) -> 0
A28: 1. Flammable and Poison - Non-halogenated solvents (toxic) | J28: =SUM(B28:I28) -> 0 | U28: =SUM(K28:T28) -> 0
A29: 1. Flammable and Poison - Reactive and explosive | B29: =SUM(B30:B38) -> 0 | C29: =SUM(C30:C38) -> 0 | D29: =SUM(D30:D38) -> 0 | E29: =SUM(E30:E38) -> 0 | F29: =SUM(F30:F38) -> 0 | G29: =SUM(G30:G38) -> 0 | H29: =SUM(H30:H38) -> 0 | I29: =SUM(I30:I38) -> 0 | J29: =SUM(B29:I29) -> 0 | K29: =SUM(K30:K38) -> 0 | L29: =SUM(L30:L38) -> 0 | M29: =SUM(M30:M38) -> 0 | N29: =SUM(N30:N38) -> 0 | O29: =SUM(O30:O38) -> 0 | P29: =SUM(P30:P38) -> 0 | Q29: =SUM(Q30:Q38) -> 0 | R29: =SUM(R30:R38) -> 0 | ... T29: =SUM(T30:T38) -> 0 | U29: =SUM(K29:T29) -> 0
A30: 1. Flammable and Poison - Reactives | J30: =SUM(B30:I30) -> 0 | U30: =SUM(K30:T30) -> 0
A31: 1. Flammable and Poison - Reactive cyanides | J31: =SUM(B31:I31) -> 0 | U31: =SUM(K31:T31) -> 0
A32: 1. Flammable and Poison - Reactive sulfides | J32: =SUM(B32:I32) -> 0 | U32: =SUM(K32:T32) -> 0
A33: 1. Flammable and Poison - Water reactive compounds, flammable gas producing, heat generating | J33: =SUM(B33:I33) -> 0 | U33: =SUM(K33:T33) -> 0
A34: 1. Flammable and Poison - Water reactive compounds, acid gas producing | J34: =SUM(B34:I34) -> 0 | U34: =SUM(K34:T34) -> 0
A35: 1. Flammable and Poison - Water reactive compounds, ammonia gas producing | J35: =SUM(B35:I35) -> 0 | U35: =SUM(K35:T35) -> 0
A36: 1. Flammable and Poison - Explosives | J36: =SUM(B36:I36) -> 0 | U36: =SUM(K36:T36) -> 0
A37: 1. Flammable and Poison - Ammunition | J37: =SUM(B37:I37) -> 0 | U37: =SUM(K37:T37) -> 0
A38: 1. Flammable and Poison - Fusees (marine flares) | J38: =SUM(B38:I38) -> 0 | U38: =SUM(K38:T38) -> 0
A39: 1. Flammable and Poison - Compressed gas cylinders | J39: =SUM(B39:I39) -> 0 | U39: =SUM(K39:T39) -> 0
A40: 1. Flammable and Poison - subtotal | B40: =B4+B9+B10+B15+B16+B29+B39 -> 0 | C40: =C4+C9+C10+C15+C16+C29+C39 -> 0 | D40: =D4+D9+D10+D15+D16+D29+D39 -> 0 | E40: =E4+E9+E10+E15+E16+E29+E39 -> 0 | F40: =F4+F9+F10+F15+F16+F29+F39 -> 0 | G40: =G4+G9+G10+G15+G16+G29+G39 -> 0 | H40: =H4+H9+H10+H15+H16+H29+H39 -> 0 | I40: =I4+I9+I10+I15+I16+I29+I39 -> 0 | J40: =SUM(B40:I40) -> 0 | K40: =K4+K9+K10+K15+K16+K29+K39 -> 0 | L40: =L4+L9+L10+L15+L16+L29+L39 -> 0 | M40: =M4+M9+M10+M15+M16+M29+M39 -> 0 | N40: =N4+N9+N10+N15+N16+N29+N39 -> 0 | O40: =O4+O9+O10+O15+O16+O29+O39 -> 0 | P40: =P4+P9+P10+P15+P16+P29+P39 -> 0 | Q40: =Q4+Q9+Q10+Q15+Q16+Q29+Q39 -> 0 | R40: =R4+R9+R10+R15+R16+R29+R39 -> 0 | ... T40: =T4+T9+T10+T15+T16+T29+T39 -> 0 | U40: =SUM(K40:T40) -> 0
A41: 2. PCB -containing - PCB-containing paint | J41: =SUM(B41:I41) -> 0 | U41: =SUM(K41:T41) -> 0
...

Sheet Mar
A2: åTrack more detail? Click [2] at top left.
A3: Material Type | B3: Pounds Collected by Program Type - Permanent Facility | C3: Pounds Collected by Program Type - Temporary (periodic) Facility | D3: Pounds Collected by Program Type - Mobile Facility | E3: Pounds Collected by Program Type - Recycle-only Facility | F3: Pounds Collected by Program Type - Door to Door (residential) Program | G3: Pounds Collected by Program Type - Curbside Program | H3: Pounds Collected by Program Type - Load Check | I3: Pounds Collected by Program Type - "Other" Prog Type (PT) PT_______ | J3: Pounds Collected by Program Type - Total Collected (pounds) | K3: Pounds Disposed / Diverted by Management Method - Destructive Incineration | L3: Pounds Disposed / Diverted by Management Method - Fuel Incineration | M3: Pounds Disposed / Diverted by Management Method - Landfill | N3: Pounds Disposed / Diverted by Management Method - Neutralization / Treatment | O3: Pounds Disposed / Diverted by Management Method - Recycled | P3: Pounds Disposed / Diverted by Management Method - Reused | Q3: Pounds Disposed / Diverted by Management Method - Stabilization | R3: Pounds Disposed / Diverted by Management Method - PaintCare | S3: Pounds Disposed / Diverted by Management Method - PaintCare Reuse | T3: Pounds Disposed / Diverted by Management Method - TRC | U3: Pounds Disposed / Diverted by Management Method - Total Disposed / Diverted (pounds)
A4: 1. Flammable and Poison - Flammable solids / liquids | B4: =SUM(B5:B8) -> 0 | C4: =SUM(C5:C8) -> 0 | D4: =SUM(D5:D8) -> 0 | E4: =SUM(E5:E8) -> 0 | F4: =SUM(F5:F8) -> 0 | G4: =SUM(G5:G8) -> 0 | H4: =SUM(H5:H8) -> 0 | I4: =SUM(I5:I8) -> 0 | J4: =SUM(B4:I4) -> 0 | K4: =SUM(K5:K8) -> 0 | L4: =SUM(L5:L8) -> 0 | M4: =SUM(M5:M8) -> 0 | N4: =SUM(N5:N8) -> 0 | O4: =SUM(O5:O8) -> 0 | P4: =SUM(P5:P8) -> 0 | Q4: =SUM(Q5:Q8) -> 0 | R4: =SUM(R5:R8) -> 0 | ... T4: =SUM(T5:T8) -> 0 | U4: =SUM(K4:T4) -> 0
A5: 1. Flammable and Poison - Flammable solids | J5: =SUM(B5:I5) -> 0 | U5: =SUM(K5:T5) -> 0
A6: 1. Flammable and Poison - Flammable liquids (loose pack) | J6: =SUM(B6:I6) -> 0 | U6: =SUM(K6:T6) -> 0
A7: 1. Flammable and Poison - Flammable cylinders | J7: =SUM(B7:I7) -> 0 | U7: =SUM(K7:T7) -> 0
A8: 1. Flammable and Poison - Non-halogenated solvents (flammable) | J8: =SUM(B8:I8) -> 0 | U8: =SUM(K8:T8) -> 0
A9: 1. Flammable and Poison - Bulked flammable liquids | J9: =SUM(B9:I9) -> 0 | U9: =SUM(K9:T9) -> 0
