Workbook
Name _FY201415: #REF!
Name _FY201415: #REF!
Name _FY201415: #REF!
Name _FY201415: #REF!
Name _FY201415: #REF!
Name _FY201415: #REF!
Name _FY201415: #REF!
Name _FY201415: #REF!
Name _FY201415: #REF!
Name _FY201415: #REF!
Name _FY201415: #REF!
Name _FY201415: #REF!
Name _FY201415: #REF!
Name spcars: #REF!
Name spepaid: #REF!
Name spprint: #REF!
Name spprint: #REF!
Name spprint: #REF!
Name spprint: #REF!
Name spprint: #REF!
Name spprint: #REF!
Name spprint: #REF!
Name spprint: #REF!
Name spprint: #REF!
Name spprint: #REF!
Name spprint: #REF!
Name spprint: #REF!
Name spprint: #REF!
Name spprint: #REF!
Name spprintAug: #REF!
Name spprintAug: #REF!
Name spprintAug: #REF!
Name spprintAug: #REF!
Name spprintAug: #REF!
Name spprintAug: #REF!
Name spprintAug: #REF!
Name spprintAug: #REF!
Name spprintAug: #REF!
Name spprintAug: #REF!
Name spprintAug: #REF!
Name spprintAug: #REF!
Name spprintDec: #REF!
Name spprintDec: #REF!
Name spprintDec: #REF!
Name spprintDec: #REF!
Name spprintDec: #REF!
Name spprintDec: #REF!
Name spprintDec: #REF!
Name spprintDec: #REF!
Name spprintDec: #REF!
Name spprintDec: #REF!
Name spprintDec: #REF!
Name spprintDec: #REF!
Name spprintNov: #REF!
Name spprintNov: #REF!
Name spprintNov: #REF!
Name spprintNov: #REF!
Name spprintNov: #REF!
Name spprintNov: #REF!
Name spprintNov: #REF!

Sheet Instructions
A1: Instructions:
A2: 1. The "Jul", "Aug", "Sep", "Oct", "Nov", "Dec", "Jan", "Feb", "Mar", "Apr", "May", "Jun" and "FY2015-16" sheets contains details of Household Hazardous Waste Collection Information across cells A2:U127 respectively.
A3: 2. Screen readers JAWS and NVDA announce the input message automatically when users access the cell.

Sheet Jul
A2: åTrack more detail? Click [2] at top left.
A3: Material Type | B3: Pounds Collected by Program Type - Permanent Facility | C3: Pounds Collected by Program Type - Temporary (periodic) Facility | D3: Pounds Collected by Program Type - Mobile Facility | E3: Pounds Collected by Program Type - Recycle-only Facility | F3: Pounds Collected by Program Type - Door to Door (residential) Program | G3: Pounds Collected by Program Type - Curbside Program | H3: Pounds Collected by Program Type - Load Check | I3: Pounds Collected by Program Type - "Other" Prog Type (PT) PT_______ | J3: Pounds Collected by Program Type - Total Collected (pounds) | K3: Pounds Disposed / Diverted by Management Method - Destructive Incineration | L3: Pounds Disposed / Diverted by Management Method - Fuel Incineration | M3: Pounds Disposed / Diverted by Management Method - Landfill | N3: Pounds Disposed / Diverted by Management Method - Neutralization / Treatment | O3: Pounds Disposed / Diverted by Management Method - Recycled | P3: Pounds Disposed / Diverted by Management Method - Reused | Q3: Pounds Disposed / Diverted by Management Method - Stabilization | R3: Pounds Disposed / Diverted by Management Method - PaintCare | S3: Pounds Disposed / Diverted by Management Method - PaintCare Reuse | T3: Pounds Disposed / Diverted by Management Method - TRC | U3: Pounds Disposed / Diverted by Management Method - Total Disposed / Diverted (pounds)
A4: 1. Flammable and Poison - Flammable solids / liquids | B4: =SUM(B5:B8) -> 0 | C4: =SUM(C5:C8) -> 0 | D4: =SUM(D5:D8) -> 0 | E4: =SUM(E5:E8) -> 0 | F4: =SUM(F5:F8) -> 0 | G4: =SUM(G5:G8) -> 0 | H4: =SUM(H5:H8) -> 0 | I4: =SUM(I5:I8) -> 0 | J4: =SUM(B4:I4) -> 0 | K4: =SUM(K5:K8) -> 0 | L4: =SUM(L5:L8) -> 0 | M4: =SUM(M5:M8) -> 0 | N4: =SUM(N5:N8) -> 0 | O4: =SUM(O5:O8) -> 0 | P4: =SUM(P5:P8) -> 0 | Q4: =SUM(Q5:Q8) -> 0 | R4: =SUM(R5:R8) -> 0 | ... T4: =SUM(T5:T8) -> 0 | U4: =SUM(K4:T4) -> 0
A5: 1. Flammable and Poison - Flammable solids | J5: =SUM(B5:I5) -> 0 | U5: =SUM(K5:T5) -> 0
A6: 1. Flammable and Poison - Flammable liquids (loose pack) | J6: =SUM(B6:I6) -> 0 | U6: =SUM(K6:T6) -> 0
A7: 1. Flammable and Poison - Flammable cylinders | J7: =SUM(B7:I7) -> 0 | U7: =SUM(K7:T7) -> 0
A8: 1. Flammable and Poison - Non-halogenated solvents (flammable) | J8: =SUM(B8:I8) -> 0 | U8: =SUM(K8:T8) -> 0
A9: 1. Flammable and Poison - Bulked flammable liquids | J9: =SUM(B9:I9) -> 0 | U9: =SUM(K9:T9) -> 0
A10: 1. Flammable and Poison - Oil-based paints | B10: =SUM(B11:B14) -> 0 | C10: =SUM(C11:C14) -> 0 | D10: =SUM(D11:D14) -> 0 | E10: =SUM(E11:E14) -> 0 | F10: =SUM(F11:F14) -> 0 | G10: =SUM(G11:G14) -> 0 | H10: =SUM(H11:H14) -> 0 | I10: =SUM(I11:I14) -> 0 | J10: =SUM(B10:I10) -> 0 | K10: =SUM(K11:K14) -> 0 | L10: =SUM(L11:L14) -> 0 | M10: =SUM(M11:M14) -> 0 | N10: =SUM(N11:N14) -> 0 | O10: =SUM(O11:O14) -> 0 | P10: =SUM(P11:P14) -> 0 | Q10: =SUM(Q11:Q14) -> 0 | R10: =SUM(R11:R14) -> 0 | ... T10: =SUM(T11:T14) -> 0 | U10: =SUM(K10:T10) -> 0
A11: 1. Flammable and Poison - Oil-based paint (bulked) | J11: =SUM(B11:I11) -> 0 | U11: =SUM(K11:T11) -> 0
A12: 1. Flammable and Poison - Oil-based paint (loose packed) | J12: =SUM(B12:I12) -> 0 | U12: =SUM(K12:T12) -> 0
A13: 1. Flammable and Poison - Oil-based paint with PCBs | J13: =SUM(B13:I13) -> 0 | U13: =SUM(K13:T13) -> 0
A14: 1. Flammable and Poison - Oil-based paint sludge | J14: =SUM(B14:I14) -> 0 | U14: =SUM(K14:T14) -> 0
A15: 1. Flammable and Poison - Paint related material (PRM) | J15: =SUM(B15:I15) -> 0 | U15: =SUM(K15:T15) -> 0
A16: 1. Flammable and Poison - Poisons | B16: =SUM(B17:B28) -> 0 | C16: =SUM(C17:C28) -> 0 | D16: =SUM(D17:D28) -> 0 | E16: =SUM(E17:E28) -> 0 | F16: =SUM(F17:F28) -> 0 | G16: =SUM(G17:G28) -> 0 | H16: =SUM(H17:H28) -> 0 | I16: =SUM(I17:I28) -> 0 | J16: =SUM(B16:I16) -> 0 | K16: =SUM(K17:K28) -> 0 | L16: =SUM(L17:L28) -> 0 | M16: =SUM(M17:M28) -> 0 | N16: =SUM(N17:N28) -> 0 | O16: =SUM(O17:O28) -> 0 | P16: =SUM(P17:P28) -> 0 | Q16: =SUM(Q17:Q28) -> 0 | R16: =SUM(R17:R28) -> 0 | ... T16: =SUM(T17:T28) -> 0 | U16: =SUM(K16:T16) -> 0
A17: 1. Flammable and Poison - Poisons/toxic liquids | J17: =SUM(B17:I17) -> 0 | U17: =SUM(K17:T17) -> 0
A18: 1. Flammable and Poison - Poisons/toxic solids | J18: =SUM(B18:I18) -> 0 | U18: =SUM(K18:T18) -> 0
A19: 1. Flammable and Poison - Cyanides | J19: =SUM(B19:I19) -> 0 | U19: =SUM(K19:T19) -> 0
A20: 1. Flammable and Poison - Organic poisons/pesticides (solid) | J20: =SUM(B20:I20) -> 0 | U20: =SUM(K20:T20) -> 0
A21: 1. Flammable and Poison - Organic poisons/pesticides (liquid) | J21: =SUM(B21:I21) -> 0 | U21: =SUM(K21:T21) -> 0
A22: 1. Flammable and Poison - Solid lead waste (solder) | J22: =SUM(B22:I22) -> 0 | U22: =SUM(K22:T22) -> 0
A23: 1. Flammable and Poison - Inorganic poisons/pesticides (solid) | J23: =SUM(B23:I23) -> 0 | U23: =SUM(K23:T23) -> 0
A24: 1. Flammable and Poison - Inorganic poisons/pesticides (liquid) | J24: =SUM(B24:I24) -> 0 | U24: =SUM(K24:T24) -> 0
A25: 1. Flammable and Poison - Hypochlorite compounds | J25: =SUM(B25:I25) -> 0 | U25: =SUM(K25:T25) -> 0
A26: 1. Flammable and Poison - Solvent sludge | J26: =SUM(B26:I26) -> 0 | U26: =SUM(K26:T26) -> 0
A27: 1. Flammable and Poison - Halogenated solvents | J27: =SUM(B27:I27) -> 0 | U27: =SUM(K27:T27) -> 0
A28: 1. Flammable and Poison - Non-halogenated solvents (toxic) | J28: =SUM(B28:I28) -> 0 | U28: =SUM(K28:T28) -> 0
A29: 1. Flammable and Poison - Reactive and explosive | B29: =SUM(B30:B38) -> 0 | C29: =SUM(C30:C38) -> 0 | D29: =SUM(D30:D38) -> 0 | E29: =SUM(E30:E38) -> 0 | F29: =SUM(F30:F38) -> 0 | G29: =SUM(G30:G38) -> 0 | H29: =SUM(H30:H38) -> 0 | I29: =SUM(I30:I38) -> 0 | J29: =SUM(B29:I29) -> 0 | K29: =SUM(K30:K38) -> 0 | L29: =SUM(L30:L38) -> 0 | M29: =SUM(M30:M38) -> 0 | N29: =SUM(N30:N38) -> 0 | O29: =SUM(O30:O38) -> 0 | P29: =SUM(P30:P38) -> 0 | Q29: =SUM(Q30:Q38) -> 0 | R29: =SUM(R30:R38) -> 0 | ... T29: =SUM(T30:T38) -> 0 | U29: =SUM(K29:T29) -> 0
A30: 1. Flammable and Poison - Reactives | J30: =SUM(B30:I30) -> 0 | U30: =SUM(K30:T30) -> 0
A31: 1. Flammable and Poison - Reactive cyanides | J31: =SUM(B31:I31) -> 0 | U31: =SUM(K31:T31) -> 0
A32: 1. Flammable and Poison - Reactive sulfides | J32: =SUM(B32:I32) -> 0 | U32: =SUM(K32:T32) -> 0
A33: 1. Flammable and Poison - Water reactive compounds, flammable gas producing, heat generating | J33: =SUM(B33:I33) -> 0 | U33: =SUM(K33:T33) -> 0
A34: 1. Flammable and Poison - Water reactive compounds, acid gas producing | J34: =SUM(B34:I34) -> 0 | U34: =SUM(K34:T34) -> 0
A35: 1. Flammable and Poison - Water reactive compounds, ammonia gas producing | J35: =SUM(B35:I35) -> 0 | U35: =SUM(K35:T35) -> 0
A36: 1. Flammable and Poison - Explosives | J36: =SUM(B36:I36) -> 0 | U36: =SUM(K36:T36) -> 0
A37: 1. Flammable and Poison - Ammunition | J37: =SUM(B37:I37) -> 0 | U37: =SUM(K37:T37) -> 0
A38: 1. Flammable and Poison - Fusees (marine flares) | J38: =SUM(B38:I38) -> 0 | U38: =SUM(K38:T38) -> 0
A39: 1. Flammable and Poison - Compressed gas cylinders | J39: =SUM(B39:I39) -> 0 | U39: =SUM(K39:T39) -> 0
A40: 1. Flammable and Poison - subtotal | B40: =B4+B9+B10+B15+B16+B29+B39 -> 0 | C40: =C4+C9+C10+C15+C16+C29+C39 -> 0 | D40: =D4+D9+D10+D15+D16+D29+D39 -> 0 | E40: =E4+E9+E10+E15+E16+E29+E39 -> 0 | F40: =F4+F9+F10+F15+F16+F29+F39 -> 0 | G40: =G4+G9+G10+G15+G16+G29+G39 -> 0 | H40: =H4+H9+H10+H15+H16+H29+H39 -> 0 | I40: =I4+I9+I10+I15+I16+I29+I39 -> 0 | J40: =SUM(B40:I40) -> 0 | K40: =K4+K9+K10+K15+K16+K29+K39 -> 0 | L40: =L4+L9+L10+L15+L16+L29+L39 -> 0 | M40: =M4+M9+M10+M15+M16+M29+M39 -> 0 | N40: =N4+N9+N10+N15+N16+N29+N39 -> 0 | O40: =O4+O9+O10+O15+O16+O29+O39 -> 0 | P40: =P4+P9+P10+P15+P16+P29+P39 -> 0 | Q40: =Q4+Q9+Q10+Q15+Q16+Q29+Q39 -> 0 | R40: =R4+R9+R10+R15+R16+R29+R39 -> 0 | ... T40: =T4+T9+T10+T15+T16+T29+T39 -> 0 | U40: =SUM(K40:T40) -> 0
A41: 2. PCB -containing - PCB-containing paint | J41: =SUM(B41:I41) -> 0 | U41: =SUM(K41:T41) -> 0
A42: 2. PCB -containing - Other PCB waste (includes ballasts) | B42: =SUM(B43:B44) -> 0 | C42: =SUM(C43:C44) -> 0 | D42: =SUM(D43:D44) -> 0 | E42: =SUM(E43:E44) -> 0 | F42: =SUM(F43:F44) -> 0 | G42: =SUM(G43:G44) -> 0 | H42: =SUM(H43:H44) -> 0 | I42: =SUM(I43:I44) -> 0 | J42: =SUM(B42:I42) -> 0 | K42: =SUM(K43:K44) -> 0 | L42: =SUM(L43:L44) -> 0 | M42: =SUM(M43:M44) -> 0 | N42: =SUM(N43:N44) -> 0 | O42: =SUM(O43:O44) -> 0 | P42: =SUM(P43:P44) -> 0 | Q42: =SUM(Q43:Q44) -> 0 | R42: =SUM(R43:R44) -> 0 | ... T42: =SUM(T43:T44) -> 0 | U42: =SUM(K42:T42) -> 0
A43: 2. PCB -containing - Other PCB waste (solid) | J43: =SUM(B43:I43) -> 0 | U43: =SUM(K43:T43) -> 0
A44: 2. PCB -containing - Other PCB waste (liquid) | J44: =SUM(B44:I44) -> 0 | U44: =SUM(K44:T44) -> 0
A45: 2. PCB -containing - subtotal | B45: =SUM(B41:B42) -> 0 | C45: =SUM(C41:C42) -> 0 | D45: =SUM(D41:D42) -> 0 | E45: =SUM(E41:E42) -> 0 | F45: =SUM(F41:F42) -> 0 | G45: =SUM(G41:G42) -> 0 | H45: =SUM(H41:H42) -> 0 | I45: =SUM(I41:I42) -> 0 | J45: =SUM(B45:I45) -> 0 | K45: =SUM(K41:K42) -> 0 | L45: =SUM(L41:L42) -> 0 | M45: =SUM(M41:M42) -> 0 | N45: =SUM(N41:N42) -> 0 | O45: =SUM(O41:O42) -> 0 | P45: =SUM(P41:P42) -> 0 | Q45: =SUM(Q41:Q42) -> 0 | R45: =SUM(R41:R42) -> 0 | ... T45: =SUM(T41:T42) -> 0 | U45: =SUM(K45:T45) -> 0
A46: 3. Reclaimable - Antifreeze | J46: =SUM(B46:I46) -> 0 | U46: =SUM(K46:T46) -> 0
A47: 3. Reclaimable - Auto type batteries (motor vehicles) | J47: =SUM(B47:I47) -> 0 | U47: =SUM(K47:T47) -> 0
A48: 3. Reclaimable - Latex paint | J48: =SUM(B48:I48) -> 0 | U48: =SUM(K48:T48) -> 0
A49: 3. Reclaimable - Motor oil/oil products | B49: =SUM(B50:B51) -> 0 | C49: =SUM(C50:C51) -> 0 | D49: =SUM(D50:D51) -> 0 | E49: =SUM(E50:E51) -> 0 | F49: =SUM(F50:F51) -> 0 | G49: =SUM(G50:G51) -> 0 | H49: =SUM(H50:H51) -> 0 | I49: =SUM(I50:I51) -> 0 | J49: =SUM(B49:I49) -> 0 | K49: =SUM(K50:K51) -> 0 | L49: =SUM(L50:L51) -> 0 | M49: =SUM(M50:M51) -> 0 | N49: =SUM(N50:N51) -> 0 | O49: =SUM(O50:O51) -> 0 | P49: =SUM(P50:P51) -> 0 | Q49: =SUM(Q50:Q51) -> 0 | R49: =SUM(R50:R51) -> 0 | ... T49: =SUM(T50:T51) -> 0 | U49: =SUM(K49:T49) -> 0
A50: 3. Reclaimable - Motor oil (contaminated) | J50: =SUM(B50:I50) -> 0 | U50: =SUM(K50:T50) -> 0
A51: 3. Reclaimable - Motor oil (non-contaminated) | J51: =SUM(B51:I51) -> 0 | U51: =SUM(K51:T51) -> 0
A52: 3. Reclaimable - Used oil filters (recyclables only) | J52: =SUM(B52:I52) -> 0 | U52: =SUM(K52:T52) -> 0
A53: 3. Reclaimable - subtotal | B53: =B46+B47+B48+B49+B52 -> 0 | C53: =C46+C47+C48+C49+C52 -> 0 | D53: =D46+D47+D48+D49+D52 -> 0 | E53: =E46+E47+E48+E49+E52 -> 0 | F53: =F46+F47+F48+F49+F52 -> 0 | G53: =G46+G47+G48+G49+G52 -> 0 | H53: =H46+H47+H48+H49+H52 -> 0 | I53: =I46+I47+I48+I49+I52 -> 0 | J53: =SUM(B53:I53) -> 0 | K53: =K46+K47+K48+K49+K52 -> 0 | L53: =L46+L47+L48+L49+L52 -> 0 | M53: =M46+M47+M48+M49+M52 -> 0 | N53: =N46+N47+N48+N49+N52 -> 0 | O53: =O46+O47+O48+O49+O52 -> 0 | P53: =P46+P47+P48+P49+P52 -> 0 | Q53: =Q46+Q47+Q48+Q49+Q52 -> 0 | R53: =R46+R47+R48+R49+R52 -> 0 | ... T53: =T46+T47+T48+T49+T52 -> 0 | U53: =SUM(K53:T53) -> 0
A54: * For purposes of the Form 303 reporting process, materials listed under the Universal Waste category do not necessarily need to be managed as Universal Waste (i.e., they can also be managed by the higher hazardous waste standard). Energy recovery or fuel incineration is not considered recycling. If the waste cannot be managed by recycling, then it must be managed as a hazardous waste.
A55: 4. Universal Waste (UW) * - Mercury containing automatic switches / thermometers / and novelties | J55: =SUM(B55:I55) -> 0 | U55: =SUM(K55:T55) -> 0
A56: 4. Universal Waste (UW) * - Mercury containing thermostats | J56: =SUM(B56:I56) -> 0 | U56: =SUM(K56:T56) -> 0
A57: 4. Universal Waste (UW) * - Mercury containing waste (other) | B57: =SUM(B58:B59) -> 0 | C57: =SUM(C58:C59) -> 0 | D57: =SUM(D58:D59) -> 0 | E57: =SUM(E58:E59) -> 0 | F57: =SUM(F58:F59) -> 0 | G57: =SUM(G58:G59) -> 0 | H57: =SUM(H58:H59) -> 0 | I57: =SUM(I58:I59) -> 0 | J57: =SUM(B57:I57) -> 0 | K57: =SUM(K58:K59) -> 0 | L57: =SUM(L58:L59) -> 0 | M57: =SUM(M58:M59) -> 0 | N57: =SUM(N58:N59) -> 0 | O57: =SUM(O58:O59) -> 0 | P57: =SUM(P58:P59) -> 0 | Q57: =SUM(Q58:Q59) -> 0 | R57: =SUM(R58:R59) -> 0 | ... T57: =SUM(T58:T59) -> 0 | U57: =SUM(K57:T57) -> 0
A58: 4. Universal Waste (UW) * - Elemental mercury | J58: =SUM(B58:I58) -> 0 | U58: =SUM(K58:T58) -> 0
A59: 4. Universal Waste (UW) * - Organic mercury compounds | J59: =SUM(B59:I59) -> 0 | U59: =SUM(K59:T59) -> 0
A60: 4. Universal Waste (UW) * - Lamps | B60: =SUM(B61:B70) -> 0 | C60: =SUM(C61:C70) -> 0 | D60: =SUM(D61:D70) -> 0 | E60: =SUM(E61:E70) -> 0 | F60: =SUM(F61:F70) -> 0 | G60: =SUM(G61:G70) -> 0 | H60: =SUM(H61:H70) -> 0 | I60: =SUM(I61:I70) -> 0 | J60: =SUM(B60:I60) -> 0 | K60: =SUM(K61:K70) -> 0 | L60: =SUM(L61:L70) -> 0 | M60: =SUM(M61:M70) -> 0 | N60: =SUM(N61:N70) -> 0 | O60: =SUM(O61:O70) -> 0 | P60: =SUM(P61:P70) -> 0 | Q60: =SUM(Q61:Q70) -> 0 | R60: =SUM(R61:R70) -> 0 | ... T60: =SUM(T61:T70) -> 0 | U60: =SUM(K60:T60) -> 0
A61: 4. Universal Waste (UW) * - Fluorescent tubes (straight) | J61: =SUM(B61:I61) -> 0 | U61: =SUM(K61:T61) -> 0
A62: 4. Universal Waste (UW) * - Fluorescent tubes (u-shaped) | J62: =SUM(B62:I62) -> 0 | U62: =SUM(K62:T62) -> 0
A63: 4. Universal Waste (UW) * - Compact fluorescent tubes (CFLs) | J63: =SUM(B63:I63) -> 0 | U63: =SUM(K63:T63) -> 0
A64: 4. Universal Waste (UW) * - Fluorescent tubes (broken) | J64: =SUM(B64:I64) -> 0 | U64: =SUM(K64:T64) -> 0
A65: 4. Universal Waste (UW) * - HID bulbs, Hg vapor, high pressure sodium, metal halides | J65: =SUM(B65:I65) -> 0 | U65: =SUM(K65:T65) -> 0
A66: 4. Universal Waste (UW) * - Shattershields | J66: =SUM(B66:I66) -> 0 | U66: =SUM(K66:T66) -> 0
A67: 4. Universal Waste (UW) * - Low pressure sodium bulbs/lamsp | J67: =SUM(B67:I67) -> 0 | U67: =SUM(K67:T67) -> 0
A68: 4. Universal Waste (UW) * - Neon bulbs & related material | J68: =SUM(B68:I68) -> 0 | U68: =SUM(K68:T68) -> 0
A69: 4. Universal Waste (UW) * - UV lamps | J69: =SUM(B69:I69) -> 0 | U69: =SUM(K69:T69) -> 0
A70: 4. Universal Waste (UW) * - Lamps (other) | J70: =SUM(B70:I70) -> 0 | U70: =SUM(K70:T70) -> 0
A71: 4. Universal Waste (UW) * - Rechargeable batteries | B71: =SUM(B72:B75) -> 0 | C71: =SUM(C72:C75) -> 0 | D71: =SUM(D72:D75) -> 0 | E71: =SUM(E72:E75) -> 0 | F71: =SUM(F72:F75) -> 0 | G71: =SUM(G72:G75) -> 0 | H71: =SUM(H72:H75) -> 0 | I71: =SUM(I72:I75) -> 0 | J71: =SUM(B71:I71) -> 0 | K71: =SUM(K72:K75) -> 0 | L71: =SUM(L72:L75) -> 0 | M71: =SUM(M72:M75) -> 0 | N71: =SUM(N72:N75) -> 0 | O71: =SUM(O72:O75) -> 0 | P71: =SUM(P72:P75) -> 0 | Q71: =SUM(Q72:Q75) -> 0 | R71: =SUM(R72:R75) -> 0 | ... T71: =SUM(T72:T75) -> 0 | U71: =SUM(K71:T71) -> 0
A72: 4. Universal Waste (UW) * - Nickel-cadmium (NiCd) | J72: =SUM(B72:I72) -> 0 | U72: =SUM(K72:T72) -> 0
A73: 4. Universal Waste (UW) * - Nickel metal hydride (NiMH) | J73: =SUM(B73:I73) -> 0 | U73: =SUM(K73:T73) -> 0
A74: 4. Universal Waste (UW) * - Lithium-ion | J74: =SUM(B74:I74) -> 0 | U74: =SUM(K74:T74) -> 0
A75: 4. Universal Waste (UW) * - Rechargeable batteries (other) | J75: =SUM(B75:I75) -> 0 | U75: =SUM(K75:T75) -> 0
A76: 4. Universal Waste (UW) * - Other batteries | B76: =SUM(B77:B81) -> 0 | C76: =SUM(C77:C81) -> 0 | D76: =SUM(D77:D81) -> 0 | E76: =SUM(E77:E81) -> 0 | F76: =SUM(F77:F81) -> 0 | G76: =SUM(G77:G81) -> 0 | H76: =SUM(H77:H81) -> 0 | I76: =SUM(I77:I81) -> 0 | J76: =SUM(B76:I76) -> 0 | K76: =SUM(K77:K81) -> 0 | L76: =SUM(L77:L81) -> 0 | M76: =SUM(M77:M81) -> 0 | N76: =SUM(N77:N81) -> 0 | O76: =SUM(O77:O81) -> 0 | P76: =SUM(P77:P81) -> 0 | Q76: =SUM(Q77:Q81) -> 0 | R76: =SUM(R77:R81) -> 0 | ... T76: =SUM(T77:T81) -> 0 | U76: =SUM(K76:T76) -> 0
A77: 4. Universal Waste (UW) * - Other batteries (recycled) | J77: =SUM(B77:I77) -> 0 | U77: =SUM(K77:T77) -> 0
A78: 4. Universal Waste (UW) * - Other batteries (landfilled) | J78: =SUM(B78:I78) -> 0 | U78: =SUM(K78:T78) -> 0
A79: 4. Universal Waste (UW) * - Alkaline batteries | J79: =SUM(B79:I79) -> 0 | U79: =SUM(K79:T79) -> 0
A80: 4. Universal Waste (UW) * - Lithium batteries | J80: =SUM(B80:I80) -> 0 | U80: =SUM(K80:T80) -> 0
A81: 4. Universal Waste (UW) * - Gell cell batteries | J81: =SUM(B81:I81) -> 0 | U81: =SUM(K81:T81) -> 0
A82: 4. Universal Waste (UW) * - Aerosol cans | J82: =SUM(B82:I82) -> 0 | U82: =SUM(K82:T82) -> 0
A83: 4. Universal Waste (UW) * - subtotal | B83: =B55+B56+B57+B60+B71+B76+B82 -> 0 | C83: =C55+C56+C57+C60+C71+C76+C82 -> 0 | D83: =D55+D56+D57+D60+D71+D76+D82 -> 0 | E83: =E55+E56+E57+E60+E71+E76+E82 -> 0 | F83: =F55+F56+F57+F60+F71+F76+F82 -> 0 | G83: =G55+G56+G57+G60+G71+G76+G82 -> 0 | H83: =H55+H56+H57+H60+H71+H76+H82 -> 0 | I83: =I55+I56+I57+I60+I71+I76+I82 -> 0 | J83: =SUM(B83:I83) -> 0 | K83: =K55+K56+K57+K60+K71+K76+K82 -> 0 | L83: =L55+L56+L57+L60+L71+L76+L82 -> 0 | M83: =M55+M56+M57+M60+M71+M76+M82 -> 0 | N83: =N55+N56+N57+N60+N71+N76+N82 -> 0 | O83: =O55+O56+O57+O60+O71+O76+O82 -> 0 | P83: =P55+P56+P57+P60+P71+P76+P82 -> 0 | Q83: =Q55+Q56+Q57+Q60+Q71+Q76+Q82 -> 0 | R83: =R55+R56+R57+R60+R71+R76+R82 -> 0 | ... T83: =T55+T56+T57+T60+T71+T76+T82 -> 0 | U83: =SUM(K83:T83) -> 0
A84: Electronic Waste (UW) - Covered Electronic Devices | J84: =SUM(B84:I84) -> 0 | U84: =SUM(K84:T84) -> 0
A85: Electronic Waste (UW) - Other Electronic Devices | J85: =SUM(B85:I85) -> 0 | U85: =SUM(K85:T85) -> 0
A86: Electronic Waste (UW) - subtotal | B86: =SUM(B84:B85) -> 0 | C86: =SUM(C84:C85) -> 0 | D86: =SUM(D84:D85) -> 0 | E86: =SUM(E84:E85) -> 0 | F86: =SUM(F84:F85) -> 0 | G86: =SUM(G84:G85) -> 0 | H86: =SUM(H84:H85) -> 0 | I86: =SUM(I84:I85) -> 0 | J86: =SUM(B86:I86) -> 0 | K86: =SUM(K84:K85) -> 0 | L86: =SUM(L84:L85) -> 0 | M86: =SUM(M84:M85) -> 0 | N86: =SUM(N84:N85) -> 0 | O86: =SUM(O84:O85) -> 0 | P86: =SUM(P84:P85) -> 0 | Q86: =SUM(Q84:Q85) -> 0 | R86: =SUM(R84:R85) -> 0 | ... T86: =SUM(T84:T85) -> 0 | U86: =SUM(K86:T86) -> 0
A87: all UW subtotal | B87: =SUM(B83+B86) -> 0 | C87: =SUM(C83+C86) -> 0 | D87: =SUM(D83+D86) -> 0 | E87: =SUM(E83+E86) -> 0 | F87: =SUM(F83+F86) -> 0 | G87: =SUM(G83+G86) -> 0 | H87: =SUM(H83+H86) -> 0 | I87: =SUM(I83+I86) -> 0 | J87: =SUM(B87:I87) -> 0 | K87: =K83+K86 -> 0 | L87: =L83+L86 -> 0 | M87: =M83+M86 -> 0 | N87: =N83+N86 -> 0 | O87: =O83+O86 -> 0 | P87: =P83+P86 -> 0 | Q87: =Q83+Q86 -> 0 | R87: =R83+R86 -> 0 | ... T87: =T83+T86 -> 0 | U87: =SUM(K87:T87) -> 0
A88: 5. Acid - Inorganic and organic acid | B88: =SUM(B89:B95) -> 0 | C88: =SUM(C89:C95) -> 0 | D88: =SUM(D89:D95) -> 0 | E88: =SUM(E89:E95) -> 0 | F88: =SUM(F89:F95) -> 0 | G88: =SUM(G89:G95) -> 0 | H88: =SUM(H89:H95) -> 0 | I88: =SUM(I89:I95) -> 0 | J88: =SUM(B88:I88) -> 0 | K88: =SUM(K89:K95) -> 0 | L88: =SUM(L89:L95) -> 0 | M88: =SUM(M89:M95) -> 0 | N88: =SUM(N89:N95) -> 0 | O88: =SUM(O89:O95) -> 0 | P88: =SUM(P89:P95) -> 0 | Q88: =SUM(Q89:Q95) -> 0 | R88: =SUM(R89:R95) -> 0 | ... T88: =SUM(T89:T95) -> 0 | U88: =SUM(K88:T88) -> 0
A89: 5. Acid - Inorganic and organic acid (mixed) | J89: =SUM(B89:I89) -> 0 | U89: =SUM(K89:T89) -> 0
A90: 5. Acid - Inorganic acid (solid and liquid) | J90: =SUM(B90:I90) -> 0 | U90: =SUM(K90:T90) -> 0
A91: 5. Acid - Inorganic acid (solid) | J91: =SUM(B91:I91) -> 0 | U91: =SUM(K91:T91) -> 0
A92: 5. Acid - Inorganic acid (liquid) | J92: =SUM(B92:I92) -> 0 | U92: =SUM(K92:T92) -> 0
A93: 5. Acid - Organic acid (solid and liquid) | J93: =SUM(B93:I93) -> 0 | U93: =SUM(K93:T93) -> 0
A94: 5. Acid - Organic acid (solid) | J94: =SUM(B94:I94) -> 0 | U94: =SUM(K94:T94) -> 0
A95: 5. Acid - Organic acid (liquid) | J95: =SUM(B95:I95) -> 0 | U95: =SUM(K95:T95) -> 0
A96: 6. Base - Inorganic and organic base | B96: =SUM(B97:B103) -> 0 | C96: =SUM(C97:C103) -> 0 | D96: =SUM(D97:D103) -> 0 | E96: =SUM(E97:E103) -> 0 | F96: =SUM(F97:F103) -> 0 | G96: =SUM(G97:G103) -> 0 | H96: =SUM(H97:H103) -> 0 | I96: =SUM(I97:I103) -> 0 | J96: =SUM(B96:I96) -> 0 | K96: =SUM(K97:K103) -> 0 | L96: =SUM(L97:L103) -> 0 | M96: =SUM(M97:M103) -> 0 | N96: =SUM(N97:N103) -> 0 | O96: =SUM(O97:O103) -> 0 | P96: =SUM(P97:P103) -> 0 | Q96: =SUM(Q97:Q103) -> 0 | R96: =SUM(R97:R103) -> 0 | ... T96: =SUM(T97:T103) -> 0 | U96: =SUM(K96:T96) -> 0
A97: 6. Base - Inorganic and organic base (mixed) | J97: =SUM(B97:I97) -> 0 | U97: =SUM(K97:T97) -> 0
A98: 6. Base - Inorganic base (solid and liquid) | J98: =SUM(B98:I98) -> 0 | U98: =SUM(K98:T98) -> 0
A99: 6. Base - Inorganic base (solid) | J99: =SUM(B99:I99) -> 0 | U99: =SUM(K99:T99) -> 0
A100: 6. Base - Inorganic base (liquid) | J100: =SUM(B100:I100) -> 0 | U100: =SUM(K100:T100) -> 0
A101: 6. Base - Organic base (solid and liquid) | J101: =SUM(B101:I101) -> 0 | U101: =SUM(K101:T101) -> 0
...

Sheet Aug
A2: åTrack more detail? Click [2] at top left.
A3: Material Type | B3: Pounds Collected by Program Type - Permanent Facility | C3: Pounds Collected by Program Type - Temporary (periodic) Facility | D3: Pounds Collected by Program Type - Mobile Facility | E3: Pounds Collected by Program Type - Recycle-only Facility | F3: Pounds Collected by Program Type - Door to Door (residential) Program | G3: Pounds Collected by Program Type - Curbside Program | H3: Pounds Collected by Program Type - Load Check | I3: Pounds Collected by Program Type - "Other" Prog Type (PT) PT_______ | J3: Pounds Collected by Program Type - Total Collected (pounds) | K3: Pounds Disposed / Diverted by Management Method - Destructive Incineration | L3: Pounds Disposed / Diverted by Management Method - Fuel Incineration | M3: Pounds Disposed / Diverted by Management Method - Landfill | N3: Pounds Disposed / Diverted by Management Method - Neutralization / Treatment | O3: Pounds Disposed / Diverted by Management Method - Recycled | P3: Pounds Disposed / Diverted by Management Method - Reused | Q3: Pounds Disposed / Diverted by Management Method - Stabilization | R3: Pounds Disposed / Diverted by Management Method - PaintCare | S3: Pounds Disposed / Diverted by Management Method - PaintCare Reuse | T3: Pounds Disposed / Diverted by Management Method - TRC | U3: Pounds Disposed / Diverted by Management Method - Total Disposed / Diverted (pounds)
A4: 1. Flammable and Poison - Flammable solids / liquids | B4: =SUM(B5:B8) -> 0 | C4: =SUM(C5:C8) -> 0 | D4: =SUM(D5:D8) -> 0 | E4: =SUM(E5:E8) -> 0 | F4: =SUM(F5:F8) -> 0 | G4: =SUM(G5:G8) -> 0 | H4: =SUM(H5:H8) -> 0 | I4: =SUM(I5:I8) -> 0 | J4: =SUM(B4:I4) -> 0 | K4: =SUM(K5:K8) -> 0 | L4: =SUM(L5:L8) -> 0 | M4: =SUM(M5:M8) -> 0 | N4: =SUM(N5:N8) -> 0 | O4: =SUM(O5:O8) -> 0 | P4: =SUM(P5:P8) -> 0 | Q4: =SUM(Q5:Q8) -> 0 | R4: =SUM(R5:R8) -> 0 | ... T4: =SUM(T5:T8) -> 0 | U4: =SUM(K4:T4) -> 0
A5: 1. Flammable and Poison - Flammable solids | J5: =SUM(B5:I5) -> 0 | U5: =SUM(K5:T5) -> 0
A6: 1. Flammable and Poison - Flammable liquids (loose pack) | J6: =SUM(B6:I6) -> 0 | U6: =SUM(K6:T6) -> 0
A7: 1. Flammable and Poison - Flammable cylinders | J7: =SUM(B7:I7) -> 0 | U7: =SUM(K7:T7) -> 0
A8: 1. Flammable and Poison - Non-halogenated solvents (flammable) | J8: =SUM(B8:I8) -> 0 | U8: =SUM(K8:T8) -> 0
A9: 1. Flammable and Poison - Bulked flammable liquids | J9: =SUM(B9:I9) -> 0 | U9: =SUM(K9:T9) -> 0
A10: 1. Flammable and Poison - Oil-based paints | B10: =SUM(B11:B14) -> 0 | C10: =SUM(C11:C14) -> 0 | D10: =SUM(D11:D14) -> 0 | E10: =SUM(E11:E14) -> 0 | F10: =SUM(F11:F14) -> 0 | G10: =SUM(G11:G14) -> 0 | H10: =SUM(H11:H14) -> 0 | I10: =SUM(I11:I14) -> 0 | J10: =SUM(B10:I10) -> 0 | K10: =SUM(K11:K14) -> 0 | L10: =SUM(L11:L14) -> 0 | M10: =SUM(M11:M14) -> 0 | N10: =SUM(N11:N14) -> 0 | O10: =SUM(O11:O14) -> 0 | P10: =SUM(P11:P14) -> 0 | Q10: =SUM(Q11:Q14) -> 0 | R10: =SUM(R11:R14) -> 0 | ... T10: =SUM(T11:T14) -> 0 | U10: =SUM(K10:T10) -> 0
A11: 1. Flammable and Poison - Oil-based paint (bulked) | J11: =SUM(B11:I11) -> 0 | U11: =SUM(K11:T11) -> 0
A12: 1. Flammable and Poison - Oil-based paint (loose packed) | J12: =SUM(B12:I12) -> 0 | U12: =SUM(K12:T12) -> 0
A13: 1. Flammable and Poison - Oil-based paint with PCBs | J13: =SUM(B13:I13) -> 0 | U13: =SUM(K13:T13) -> 0
A14: 1. Flammable and Poison - Oil-based paint sludge | J14: =SUM(B14:I14) -> 0 | U14: =SUM(K14:T14) -> 0
A15: 1. Flammable and Poison - Paint related material (PRM) | J15: =SUM(B15:I15) -> 0 | U15: =SUM(K15:T15) -> 0
A16: 1. Flammable and Poison - Poisons | B16: =SUM(B17:B28) -> 0 | C16: =SUM(C17:C28) -> 0 | D16: =SUM(D17:D28) -> 0 | E16: =SUM(E17:E28) -> 0 | F16: =SUM(F17:F28) -> 0 | G16: =SUM(G17:G28) -> 0 | H16: =SUM(H17:H28) -> 0 | I16: =SUM(I17:I28) -> 0 | J16: =SUM(B16:I16) -> 0 | K16: =SUM(K17:K28) -> 0 | L16: =SUM(L17:L28) -> 0 | M16: =SUM(M17:M28) -> 0 | N16: =SUM(N17:N28) -> 0 | O16: =SUM(O17:O28) -> 0 | P16: =SUM(P17:P28) -> 0 | Q16: =SUM(Q17:Q28) -> 0 | R16: =SUM(R17:R28) -> 0 | ... T16: =SUM(T17:T28) -> 0 | U16: =SUM(K16:T16) -> 0
A17: 1. Flammable and Poison - Poisons/toxic liquids | J17: =SUM(B17:I17) -> 0 | U17: =SUM(K17:T17) -> 0
A18: 1. Flammable and Poison - Poisons/toxic solids | J18: =SUM(B18:I18) -> 0 | U18: =SUM(K18:T18) -> 0
A19: 1. Flammable and Poison - Cyanides | J19: =SUM(B19:I19) -> 0 | U19: =SUM(K19:T19) -> 0
A20: 1. Flammable and Poison - Organic poisons/pesticides (solid) | J20: =SUM(B20:I20) -> 0 | U20: =SUM(K20:T20) -> 0
A21: 1. Flammable and Poison - Organic poisons/pesticides (liquid) | J21: =SUM(B21:I21) -> 0 | U21: =SUM(K21:T21) -> 0
A22: 1. Flammable and Poison - Solid lead waste (solder) | J22: =SUM(B22:I22) -> 0 | U22: =SUM(K22:T22) -> 0
A23: 1. Flammable and Poison - Inorganic poisons/pesticides (solid) | J23: =SUM(B23:I23) -> 0 | U23: =SUM(K23:T23) -> 0
A24: 1. Flammable and Poison - Inorganic poisons/pesticides (liquid) | J24: =SUM(B24:I24) -> 0 | U24: =SUM(K24:T24) -> 0
A25: 1. Flammable and Poison - Hypochlorite compounds | J25: =SUM(B25:I25) -> 0 | U25: =SUM(K25:T25) -> 0
A26: 1. Flammable and Poison - Solvent sludge | J26: =SUM(B26:I26) -> 0 | U26: =SUM(K26:T26) -> 0
A27: 1. Flammable and Poison - Halogenated solvents | J27: =SUM(B27:I27) -> 0 | U27: =SUM(K27:T27) -> 0
A28: 1. Flammable and Poison - Non-halogenated solvents (toxic) | J28: =SUM(B28:I28) -> 0 | U28: =SUM(K28:T28) -> 0
A29: 1. Flammable and Poison - Reactive and explosive | B29: =SUM(B30:B38) -> 0 | C29: =SUM(C30:C38) -> 0 | D29: =SUM(D30:D38) -> 0 | E29: =SUM(E30:E38) -> 0 | F29: =SUM(F30:F38) -> 0 | G29: =SUM(G30:G38) -> 0 | H29: =SUM(H30:H38) -> 0 | I29: =SUM(I30:I38) -> 0 | J29: =SUM(B29:I29) -> 0 | K29: =SUM(K30:K38) -> 0 | L29: =SUM(L30:L38) -> 0 | M29: =SUM(M30:M38) -> 0 | N29: =SUM(N30:N38) -> 0 | O29: =SUM(O30:O38) -> 0 | P29: =SUM(P30:P38) -> 0 | Q29: =SUM(Q30:Q38) -> 0 | R29: =SUM(R30:R38) -> 0 | ... T29: =SUM(T30:T38) -> 0 | U29: =SUM(K29:T29) -> 0
A30: 1. Flammable and Poison - Reactives | J30: =SUM(B30:I30) -> 0 | U30: =SUM(K30:T30) -> 0
A31: 1. Flammable and Poison - Reactive cyanides | J31: =SUM(B31:I31) -> 0 | U31: =SUM(K31:T31) -> 0
A32: 1. Flammable and Poison - Reactive sulfides | J32: =SUM(B32:I32) -> 0 | U32: =SUM(K32:T32) -> 0
A33: 1. Flammable and Poison - Water reactive compounds, flammable gas producing, heat generating | J33: =SUM(B33:I33) -> 0 | U33: =SUM(K33:T33) -> 0
A34: 1. Flammable and Poison - Water reactive compounds, acid gas producing | J34: =SUM(B34:I34) -> 0 | U34: =SUM(K34:T34) -> 0
A35: 1. Flammable and Poison - Water reactive compounds, ammonia gas producing | J35: =SUM(B35:I35) -> 0 | U35: =SUM(K35:T35) -> 0
A36: 1. Flammable and Poison - Explosives | J36: =SUM(B36:I36) -> 0 | U36: =SUM(K36:T36) -> 0
A37: 1. Flammable and Poison - Ammunition | J37: =SUM(B37:I37) -> 0 | U37: =SUM(K37:T37) -> 0
A38: 1. Flammable and Poison - Fusees (marine flares) | J38: =SUM(B38:I38) -> 0 | U38: =SUM(K38:T38) -> 0
A39: 1. Flammable and Poison - Compressed gas cylinders | J39: =SUM(B39:I39) -> 0 | U39: =SUM(K39:T39) -> 0
A40: 1. Flammable and Poison - subtotal | B40: =B4+B9+B10+B15+B16+B29+B39 -> 0 | C40: =C4+C9+C10+C15+C16+C29+C39 -> 0 | D40: =D4+D9+D10+D15+D16+D29+D39 -> 0 | E40: =E4+E9+E10+E15+E16+E29+E39 -> 0 | F40: =F4+F9+F10+F15+F16+F29+F39 -> 0 | G40: =G4+G9+G10+G15+G16+G29+G39 -> 0 | H40: =H4+H9+H10+H15+H16+H29+H39 -> 0 | I40: =I4+I9+I10+I15+I16+I29+I39 -> 0 | J40: =SUM(B40:I40) -> 0 | K40: =K4+K9+K10+K15+K16+K29+K39 -> 0 | L40: =L4+L9+L10+L15+L16+L29+L39 -> 0 | M40: =M4+M9+M10+M15+M16+M29+M39 -> 0 | N40: =N4+N9+N10+N15+N16+N29+N39 -> 0 | O40: =O4+O9+O10+O15+O16+O29+O39 -> 0 | P40: =P4+P9+P10+P15+P16+P29+P39 -> 0 | Q40: =Q4+Q9+Q10+Q15+Q16+Q29+Q39 -> 0 | R40: =R4+R9+R10+R15+R16+R29+R39 -> 0 | ... T40: =T4+T9+T10+T15+T16+T29+T39 -> 0 | U40: =SUM(K40:T40) -> 0
A41: 2. PCB -containing - PCB-containing paint | J41: =SUM(B41:I41) -> 0 | U41: =SUM(K41:T41) -> 0
A42: 2. PCB -containing - Other PCB waste (includes ballasts) | B42: =SUM(B43:B44) -> 0 | C42: =SUM(C43:C44) -> 0 | D42: =SUM(D43:D44) -> 0 | E42: =SUM(E43:E44) -> 0 | F42: =SUM(F43:F44) -> 0 | G42: =SUM(G43:G44) -> 0 | H42: =SUM(H43:H44) -> 0 | I42: =SUM(I43:I44) -> 0 | J42: =SUM(B42:I42) -> 0 | K42: =SUM(K43:K44) -> 0 | L42: =SUM(L43:L44) -> 0 | M42: =SUM(M43:M44) -> 0 | N42: =SUM(N43:N44) -> 0 | O42: =SUM(O43:O44) -> 0 | P42: =SUM(P43:P44) -> 0 | Q42: =SUM(Q43:Q44) -> 0 | R42: =SUM(R43:R44) -> 0 | ... T42: =SUM(T43:T44) -> 0 | U42: =SUM(K42:T42) -> 0
A43: 2. PCB -containing - Other PCB waste (solid) | J43: =SUM(B43:I43) -> 0 | U43: =SUM(K43:T43) -> 0
A44: 2. PCB -containing - Other PCB waste (liquid) | J44: =SUM(B44:I44) -> 0 | U44: =SUM(K44:T44) -> 0
A45: 2. PCB -containing - subtotal | B45: =SUM(B41:B42) -> 0 | C45: =SUM(C41:C42) -> 0 | D45: =SUM(D41:D42) -> 0 | E45: =SUM(E41:E42) -> 0 | F45: =SUM(F41:F42) -> 0 | G45: =SUM(G41:G42) -> 0 | H45: =SUM(H41:H42) -> 0 | I45: =SUM(I41:I42) -> 0 | J45: =SUM(B45:I45) -> 0 | K45: =SUM(K41:K42) -> 0 | L45: =SUM(L41:L42) -> 0 | M45: =SUM(M41:M42) -> 0 | N45: =SUM(N41:N42) -> 0 | O45: =SUM(O41:O42) -> 0 | P45: =SUM(P41:P42) -> 0 | Q45: =SUM(Q41:Q42) -> 0 | R45: =SUM(R41:R42) -> 0 | ... T45: =SUM(T41:T42) -> 0 | U45: =SUM(K45:T45) -> 0
A46: 3. Reclaimable - Antifreeze | J46: =SUM(B46:I46) -> 0 | U46: =SUM(K46:T46) -> 0
A47: 3. Reclaimable - Auto type batteries (motor vehicles) | J47: =SUM(B47:I47) -> 0 | U47: =SUM(K47:T47) -> 0
A48: 3. Reclaimable - Latex paint | J48: =SUM(B48:I48) -> 0 | U48: =SUM(K48:T48) -> 0
A49: 3. Reclaimable - Motor oil/oil products | B49: =SUM(B50:B51) -> 0 | C49: =SUM(C50:C51) -> 0 | D49: =SUM(D50:D51) -> 0 | E49: =SUM(E50:E51) -> 0 | F49: =SUM(F50:F51) -> 0 | G49: =SUM(G50:G51) -> 0 | H49: =SUM(H50:H51) -> 0 | I49: =SUM(I50:I51) -> 0 | J49: =SUM(B49:I49) -> 0 | K49: =SUM(K50:K51) -> 0 | L49: =SUM(L50:L51) -> 0 | M49: =SUM(M50:M51) -> 0 | N49: =SUM(N50:N51) -> 0 | O49: =SUM(O50:O51) -> 0 | P49: =SUM(P50:P51) -> 0 | Q49: =SUM(Q50:Q51) -> 0 | R49: =SUM(R50:R51) -> 0 | ... T49: =SUM(T50:T51) -> 0 | U49: =SUM(K49:T49) -> 0
A50: 3. Reclaimable - Motor oil (contaminated) | J50: =SUM(B50:I50) -> 0 | U50: =SUM(K50:T50) -> 0
A51: 3. Reclaimable - Motor oil (non-contaminated) | J51: =SUM(B51:I51) -> 0 | U51: =SUM(K51:T51) -> 0
A52: 3. Reclaimable - Used oil filters (recyclables only) | J52: =SUM(B52:I52) -> 0 | U52: =SUM(K52:T52) -> 0
A53: 3. Reclaimable - subtotal | B53: =B46+B47+B48+B49+B52 -> 0 | C53: =C46+C47+C48+C49+C52 -> 0 | D53: =D46+D47+D48+D49+D52 -> 0 | E53: =E46+E47+E48+E49+E52 -> 0 | F53: =F46+F47+F48+F49+F52 -> 0 | G53: =G46+G47+G48+G49+G52 -> 0 | H53: =H46+H47+H48+H49+H52 -> 0 | I53: =I46+I47+I48+I49+I52 -> 0 | J53: =SUM(B53:I53) -> 0 | K53: =K46+K47+K48+K49+K52 -> 0 | L53: =L46+L47+L48+L49+L52 -> 0 | M53: =M46+M47+M48+M49+M52 -> 0 | N53: =N46+N47+N48+N49+N52 -> 0 | O53: =O46+O47+O48+O49+O52 -> 0 | P53: =P46+P47+P48+P49+P52 -> 0 | Q53: =Q46+Q47+Q48+Q49+Q52 -> 0 | R53: =R46+R47+R48+R49+R52 -> 0 | ... T53: =T46+T47+T48+T49+T52 -> 0 | U53: =SUM(K53:T53) -> 0
A54: * For purposes of the Form 303 reporting process, materials listed under the Universal Waste category do not necessarily need to be managed as Universal Waste (i.e., they can also be managed by the higher hazardous waste standard). Energy recovery or fuel incineration is not considered recycling. If the waste cannot be managed by recycling, then it must be managed as a hazardous waste.
A55: 4. Universal Waste (UW) * - Mercury containing automatic switches / thermometers / and novelties | J55: =SUM(B55:I55) -> 0 | U55: =SUM(K55:T55) -> 0
A56: 4. Universal Waste (UW) * - Mercury containing thermostats | J56: =SUM(B56:I56) -> 0 | U56: =SUM(K56:T56) -> 0
A57: 4. Universal Waste (UW) * - Mercury containing waste (other) | B57: =SUM(B58:B59) -> 0 | C57: =SUM(C58:C59) -> 0 | D57: =SUM(D58:D59) -> 0 | E57: =SUM(E58:E59) -> 0 | F57: =SUM(F58:F59) -> 0 | G57: =SUM(G58:G59) -> 0 | H57: =SUM(H58:H59) -> 0 | I57: =SUM(I58:I59) -> 0 | J57: =SUM(B57:I57) -> 0 | K57: =SUM(K58:K59) -> 0 | L57: =SUM(L58:L59) -> 0 | M57: =SUM(M58:M59) -> 0 | N57: =SUM(N58:N59) -> 0 | O57: =SUM(O58:O59) -> 0 | P57: =SUM(P58:P59) -> 0 | Q57: =SUM(Q58:Q59) -> 0 | R57: =SUM(R58:R59) -> 0 | ... T57: =SUM(T58:T59) -> 0 | U57: =SUM(K57:T57) -> 0
A58: 4. Universal Waste (UW) * - Elemental mercury | J58: =SUM(B58:I58) -> 0 | U58: =SUM(K58:T58) -> 0
A59: 4. Universal Waste (UW) * - Organic mercury compounds | J59: =SUM(B59:I59) -> 0 | U59: =SUM(K59:T59) -> 0
A60: 4. Universal Waste (UW) * - Lamps | B60: =SUM(B61:B70) -> 0 | C60: =SUM(C61:C70) -> 0 | D60: =SUM(D61:D70) -> 0 | E60: =SUM(E61:E70) -> 0 | F60: =SUM(F61:F70) -> 0 | G60: =SUM(G61:G70) -> 0 | H60: =SUM(H61:H70) -> 0 | I60: =SUM(I61:I70) -> 0 | J60: =SUM(B60:I60) -> 0 | K60: =SUM(K61:K70) -> 0 | L60: =SUM(L61:L70) -> 0 | M60: =SUM(M61:M70) -> 0 | N60: =SUM(N61:N70) -> 0 | O60: =SUM(O61:O70) -> 0 | P60: =SUM(P61:P70) -> 0 | Q60: =SUM(Q61:Q70) -> 0 | R60: =SUM(R61:R70) -> 0 | ... T60: =SUM(T61:T70) -> 0 | U60: =SUM(K60:T60) -> 0
A61: 4. Universal Waste (UW) * - Fluorescent tubes (straight) | J61: =SUM(B61:I61) -> 0 | U61: =SUM(K61:T61) -> 0
A62: 4. Universal Waste (UW) * - Fluorescent tubes (u-shaped) | J62: =SUM(B62:I62) -> 0 | U62: =SUM(K62:T62) -> 0
A63: 4. Universal Waste (UW) * - Compact fluorescent tubes (CFLs) | J63: =SUM(B63:I63) -> 0 | U63: =SUM(K63:T63) -> 0
A64: 4. Universal Waste (UW) * - Fluorescent tubes (broken) | J64: =SUM(B64:I64) -> 0 | U64: =SUM(K64:T64) -> 0
A65: 4. Universal Waste (UW) * - HID bulbs, Hg vapor, high pressure sodium, metal halides | J65: =SUM(B65:I65) -> 0 | U65: =SUM(K65:T65) -> 0
A66: 4. Universal Waste (UW) * - Shattershields | J66: =SUM(B66:I66) -> 0 | U66: =SUM(K66:T66) -> 0
A67: 4. Universal Waste (UW) * - Low pressure sodium bulbs/lamsp | J67: =SUM(B67:I67) -> 0 | U67: =SUM(K67:T67) -> 0
A68: 4. Universal Waste (UW) * - Neon bulbs & related material | J68: =SUM(B68:I68) -> 0 | U68: =SUM(K68:T68) -> 0
A69: 4. Universal Waste (UW) * - UV lamps | J69: =SUM(B69:I69) -> 0 | U69: =SUM(K69:T69) -> 0
A70: 4. Universal Waste (UW) * - Lamps (other) | J70: =SUM(B70:I70) -> 0 | U70: =SUM(K70:T70) -> 0
A71: 4. Universal Waste (UW) * - Rechargeable batteries | B71: =SUM(B72:B75) -> 0 | C71: =SUM(C72:C75) -> 0 | D71: =SUM(D72:D75) -> 0 | E71: =SUM(E72:E75) -> 0 | F71: =SUM(F72:F75) -> 0 | G71: =SUM(G72:G75) -> 0 | H71: =SUM(H72:H75) -> 0 | I71: =SUM(I72:I75) -> 0 | J71: =SUM(B71:I71) -> 0 | K71: =SUM(K72:K75) -> 0 | L71: =SUM(L72:L75) -> 0 | M71: =SUM(M72:M75) -> 0 | N71: =SUM(N72:N75) -> 0 | O71: =SUM(O72:O75) -> 0 | P71: =SUM(P72:P75) -> 0 | Q71: =SUM(Q72:Q75) -> 0 | R71: =SUM(R72:R75) -> 0 | ... T71: =SUM(T72:T75) -> 0 | U71: =SUM(K71:T71) -> 0
A72: 4. Universal Waste (UW) * - Nickel-cadmium (NiCd) | J72: =SUM(B72:I72) -> 0 | U72: =SUM(K72:T72) -> 0
A73: 4. Universal Waste (UW) * - Nickel metal hydride (NiMH) | J73: =SUM(B73:I73) -> 0 | U73: =SUM(K73:T73) -> 0
A74: 4. Universal Waste (UW) * - Lithium-ion | J74: =SUM(B74:I74) -> 0 | U74: =SUM(K74:T74) -> 0
A75: 4. Universal Waste (UW) * - Rechargeable batteries (other) | J75: =SUM(B75:I75) -> 0 | U75: =SUM(K75:T75) -> 0
A76: 4. Universal Waste (UW) * - Other batteries | B76: =SUM(B77:B81) -> 0 | C76: =SUM(C77:C81) -> 0 | D76: =SUM(D77:D81) -> 0 | E76: =SUM(E77:E81) -> 0 | F76: =SUM(F77:F81) -> 0 | G76: =SUM(G77:G81) -> 0 | H76: =SUM(H77:H81) -> 0 | I76: =SUM(I77:I81) -> 0 | J76: =SUM(B76:I76) -> 0 | K76: =SUM(K77:K81) -> 0 | L76: =SUM(L77:L81) -> 0 | M76: =SUM(M77:M81) -> 0 | N76: =SUM(N77:N81) -> 0 | O76: =SUM(O77:O81) -> 0 | P76: =SUM(P77:P81) -> 0 | Q76: =SUM(Q77:Q81) -> 0 | R76: =SUM(R77:R81) -> 0 | ... T76: =SUM(T77:T81) -> 0 | U76: =SUM(K76:T76) -> 0
A77: 4. Universal Waste (UW) * - Other batteries (recycled) | J77: =SUM(B77:I77) -> 0 | U77: =SUM(K77:T77) -> 0
A78: 4. Universal Waste (UW) * - Other batteries (landfilled) | J78: =SUM(B78:I78) -> 0 | U78: =SUM(K78:T78) -> 0
A79: 4. Universal Waste (UW) * - Alkaline batteries | J79: =SUM(B79:I79) -> 0 | U79: =SUM(K79:T79) -> 0
A80: 4. Universal Waste (UW) * - Lithium batteries | J80: =SUM(B80:I80) -> 0 | U80: =SUM(K80:T80) -> 0
A81: 4. Universal Waste (UW) * - Gell cell batteries | J81: =SUM(B81:I81) -> 0 | U81: =SUM(K81:T81) -> 0
A82: 4. Universal Waste (UW) * - Aerosol cans | J82: =SUM(B82:I82) -> 0 | U82: =SUM(K82:T82) -> 0
A83: 4. Universal Waste (UW) * - subtotal | B83: =B55+B56+B57+B60+B71+B76+B82 -> 0 | C83: =C55+C56+C57+C60+C71+C76+C82 -> 0 | D83: =D55+D56+D57+D60+D71+D76+D82 -> 0 | E83: =E55+E56+E57+E60+E71+E76+E82 -> 0 | F83: =F55+F56+F57+F60+F71+F76+F82 -> 0 | G83: =G55+G56+G57+G60+G71+G76+G82 -> 0 | H83: =H55+H56+H57+H60+H71+H76+H82 -> 0 | I83: =I55+I56+I57+I60+I71+I76+I82 -> 0 | J83: =SUM(B83:I83) -> 0 | K83: =K55+K56+K57+K60+K71+K76+K82 -> 0 | L83: =L55+L56+L57+L60+L71+L76+L82 -> 0 | M83: =M55+M56+M57+M60+M71+M76+M82 -> 0 | N83: =N55+N56+N57+N60+N71+N76+N82 -> 0 | O83: =O55+O56+O57+O60+O71+O76+O82 -> 0 | P83: =P55+P56+P57+P60+P71+P76+P82 -> 0 | Q83: =Q55+Q56+Q57+Q60+Q71+Q76+Q82 -> 0 | R83: =R55+R56+R57+R60+R71+R76+R82 -> 0 | ... T83: =T55+T56+T57+T60+T71+T76+T82 -> 0 | U83: =SUM(K83:T83) -> 0
A84: Electronic Waste (UW) - Covered Electronic Devices | J84: =SUM(B84:I84) -> 0 | U84: =SUM(K84:T84) -> 0
A85: Electronic Waste (UW) - Other Electronic Devices | J85: =SUM(B85:I85) -> 0 | U85: =SUM(K85:T85) -> 0
A86: Electronic Waste (UW) - subtotal | B86: =SUM(B84:B85) -> 0 | C86: =SUM(C84:C85) -> 0 | D86: =SUM(D84:D85) -> 0 | E86: =SUM(E84:E85) -> 0 | F86: =SUM(F84:F85) -> 0 | G86: =SUM(G84:G85) -> 0 | H86: =SUM(H84:H85) -> 0 | I86: =SUM(I84:I85) -> 0 | J86: =SUM(B86:I86) -> 0 | K86: =SUM(K84:K85) -> 0 | L86: =SUM(L84:L85) -> 0 | M86: =SUM(M84:M85) -> 0 | N86: =SUM(N84:N85) -> 0 | O86: =SUM(O84:O85) -> 0 | P86: =SUM(P84:P85) -> 0 | Q86: =SUM(Q84:Q85) -> 0 | R86: =SUM(R84:R85) -> 0 | ... T86: =SUM(T84:T85) -> 0 | U86: =SUM(K86:T86) -> 0
A87: all UW subtotal | B87: =SUM(B83+B86) -> 0 | C87: =SUM(C83+C86) -> 0 | D87: =SUM(D83+D86) -> 0 | E87: =SUM(E83+E86) -> 0 | F87: =SUM(F83+F86) -> 0 | G87: =SUM(G83+G86) -> 0 | H87: =SUM(H83+H86) -> 0 | I87: =SUM(I83+I86) -> 0 | J87: =SUM(B87:I87) -> 0 | K87: =K83+K86 -> 0 | L87: =L83+L86 -> 0 | M87: =M83+M86 -> 0 | N87: =N83+N86 -> 0 | O87: =O83+O86 -> 0 | P87: =P83+P86 -> 0 | Q87: =Q83+Q86 -> 0 | R87: =R83+R86 -> 0 | ... T87: =T83+T86 -> 0 | U87: =SUM(K87:T87) -> 0
A88: 5. Acid - Inorganic and organic acid | B88: =SUM(B89:B95) -> 0 | C88: =SUM(C89:C95) -> 0 | D88: =SUM(D89:D95) -> 0 | E88: =SUM(E89:E95) -> 0 | F88: =SUM(F89:F95) -> 0 | G88: =SUM(G89:G95) -> 0 | H88: =SUM(H89:H95) -> 0 | I88: =SUM(I89:I95) -> 0 | J88: =SUM(B88:I88) -> 0 | K88: =SUM(K89:K95) -> 0 | L88: =SUM(L89:L95) -> 0 | M88: =SUM(M89:M95) -> 0 | N88: =SUM(N89:N95) -> 0 | O88: =SUM(O89:O95) -> 0 | P88: =SUM(P89:P95) -> 0 | Q88: =SUM(Q89:Q95) -> 0 | R88: =SUM(R89:R95) -> 0 | ... T88: =SUM(T89:T95) -> 0 | U88: =SUM(K88:T88) -> 0
A89: 5. Acid - Inorganic and organic acid (mixed) | J89: =SUM(B89:I89) -> 0 | U89: =SUM(K89:T89) -> 0
A90: 5. Acid - Inorganic acid (solid and liquid) | J90: =SUM(B90:I90) -> 0 | U90: =SUM(K90:T90) -> 0
A91: 5. Acid - Inorganic acid (solid) | J91: =SUM(B91:I91) -> 0 | U91: =SUM(K91:T91) -> 0
A92: 5. Acid - Inorganic acid (liquid) | J92: =SUM(B92:I92) -> 0 | U92: =SUM(K92:T92) -> 0
A93: 5. Acid - Organic acid (solid and liquid) | J93: =SUM(B93:I93) -> 0 | U93: =SUM(K93:T93) -> 0
A94: 5. Acid - Organic acid (solid) | J94: =SUM(B94:I94) -> 0 | U94: =SUM(K94:T94) -> 0
A95: 5. Acid - Organic acid (liquid) | J95: =SUM(B95:I95) -> 0 | U95: =SUM(K95:T95) -> 0
A96: 6. Base - Inorganic and organic base | B96: =SUM(B97:B103) -> 0 | C96: =SUM(C97:C103) -> 0 | D96: =SUM(D97:D103) -> 0 | E96: =SUM(E97:E103) -> 0 | F96: =SUM(F97:F103) -> 0 | G96: =SUM(G97:G103) -> 0 | H96: =SUM(H97:H103) -> 0 | I96: =SUM(I97:I103) -> 0 | J96: =SUM(B96:I96) -> 0 | K96: =SUM(K97:K103) -> 0 | L96: =SUM(L97:L103) -> 0 | M96: =SUM(M97:M103) -> 0 | N96: =SUM(N97:N103) -> 0 | O96: =SUM(O97:O103) -> 0 | P96: =SUM(P97:P103) -> 0 | Q96: =SUM(Q97:Q103) -> 0 | R96: =SUM(R97:R103) -> 0 | ... T96: =SUM(T97:T103) -> 0 | U96: =SUM(K96:T96) -> 0
A97: 6. Base - Inorganic and organic base (mixed) | J97: =SUM(B97:I97) -> 0 | U97: =SUM(K97:T97) -> 0
A98: 6. Base - Inorganic base (solid and liquid) | J98: =SUM(B98:I98) -> 0 | U98: =SUM(K98:T98) -> 0
A99: 6. Base - Inorganic base (solid) | J99: =SUM(B99:I99) -> 0 | U99: =SUM(K99:T99) -> 0
A100: 6. Base - Inorganic base (liquid) | J100: =SUM(B100:I100) -> 0 | U100: =SUM(K100:T100) -> 0
A101: 6. Base - Organic base (solid and liquid) | J101: =SUM(B101:I101) -> 0 | U101: =SUM(K101:T101) -> 0
...

Sheet Sep
A2: åTrack more detail? Click [2] at top left.
A3: Material Type | B3: Pounds Collected by Program Type - Permanent Facility | C3: Pounds Collected by Program Type - Temporary (periodic) Facility | D3: Pounds Collected by Program Type - Mobile Facility | E3: Pounds Collected by Program Type - Recycle-only Facility | F3: Pounds Collected by Program Type - Door to Door (residential) Program | G3: Pounds Collected by Program Type - Curbside Program | H3: Pounds Collected by Program Type - Load Check | I3: Pounds Collected by Program Type - "Other" Prog Type (PT) PT_______ | J3: Pounds Collected by Program Type - Total Collected (pounds) | K3: Pounds Disposed / Diverted by Management Method - Destructive Incineration | L3: Pounds Disposed / Diverted by Management Method - Fuel Incineration | M3: Pounds Disposed / Diverted by Management Method - Landfill | N3: Pounds Disposed / Diverted by Management Method - Neutralization / Treatment | O3: Pounds Disposed / Diverted by Management Method - Recycled | P3: Pounds Disposed / Diverted by Management Method - Reused | Q3: Pounds Disposed / Diverted by Management Method - Stabilization | R3: Pounds Disposed / Diverted by Management Method - PaintCare | S3: Pounds Disposed / Diverted by Management Method - PaintCare Reuse | T3: Pounds Disposed / Diverted by Management Method - TRC | U3: Pounds Disposed / Diverted by Management Method - Total Disposed / Diverted (pounds)
A4: 1. Flammable and Poison - Flammable solids / liquids | B4: =SUM(B5:B8) -> 0 | C4: =SUM(C5:C8) -> 0 | D4: =SUM(D5:D8) -> 0 | E4: =SUM(E5:E8) -> 0 | F4: =SUM(F5:F8) -> 0 | G4: =SUM(G5:G8) -> 0 | H4: =SUM(H5:H8) -> 0 | I4: =SUM(I5:I8) -> 0 | J4: =SUM(B4:I4) -> 0 | K4: =SUM(K5:K8) -> 0 | L4: =SUM(L5:L8) -> 0 | M4: =SUM(M5:M8) -> 0 | N4: =SUM(N5:N8) -> 0 | O4: =SUM(O5:O8) -> 0 | P4: =SUM(P5:P8) -> 0 | Q4: =SUM(Q5:Q8) -> 0 | R4: =SUM(R5:R8) -> 0 | ... T4: =SUM(T5:T8) -> 0 | U4: =SUM(K4:T4) -> 0
A5: 1. Flammable and Poison - Flammable solids | J5: =SUM(B5:I5) -> 0 | U5: =SUM(K5:T5) -> 0
A6: 1. Flammable and Poison - Flammable liquids (loose pack) | J6: =SUM(B6:I6) -> 0 | U6: =SUM(K6:T6) -> 0
A7: 1. Flammable and Poison - Flammable cylinders | J7: =SUM(B7:I7) -> 0 | U7: =SUM(K7:T7) -> 0
A8: 1. Flammable and Poison - Non-halogenated solvents (flammable) | J8: =SUM(B8:I8) -> 0 | U8: =SUM(K8:T8) -> 0
A9: 1. Flammable and Poison - Bulked flammable liquids | J9: =SUM(B9:I9) -> 0 | U9: =SUM(K9:T9) -> 0
A10: 1. Flammable and Poison - Oil-based paints | B10: =SUM(B11:B14) -> 0 | C10: =SUM(C11:C14) -> 0 | D10: =SUM(D11:D14) -> 0 | E10: =SUM(E11:E14) -> 0 | F10: =SUM(F11:F14) -> 0 | G10: =SUM(G11:G14) -> 0 | H10: =SUM(H11:H14) -> 0 | I10: =SUM(I11:I14) -> 0 | J10: =SUM(B10:I10) -> 0 | K10: =SUM(K11:K14) -> 0 | L10: =SUM(L11:L14) -> 0 | M10: =SUM(M11:M14) -> 0 | N10: =SUM(N11:N14) -> 0 | O10: =SUM(O11:O14) -> 0 | P10: =SUM(P11:P14) -> 0 | Q10: =SUM(Q11:Q14) -> 0 | R10: =SUM(R11:R14) -> 0 | ... T10: =SUM(T11:T14) -> 0 | U10: =SUM(K10:T10) -> 0
A11: 1. Flammable and Poison - Oil-based paint (bulked) | J11: =SUM(B11:I11) -> 0 | U11: =SUM(K11:T11) -> 0
A12: 1. Flammable and Poison - Oil-based paint (loose packed) | J12: =SUM(B12:I12) -> 0 | U12: =SUM(K12:T12) -> 0
A13: 1. Flammable and Poison - Oil-based paint with PCBs | J13: =SUM(B13:I13) -> 0 | U13: =SUM(K13:T13) -> 0
A14: 1. Flammable and Poison - Oil-based paint sludge | J14: =SUM(B14:I14) -> 0 | U14: =SUM(K14:T14) -> 0
A15: 1. Flammable and Poison - Paint related material (PRM) | J15: =SUM(B15:I15) -> 0 | U15: =SUM(K15:T15) -> 0
A16: 1. Flammable and Poison - Poisons | B16: =SUM(B17:B28) -> 0 | C16: =SUM(C17:C28) -> 0 | D16: =SUM(D17:D28) -> 0 | E16: =SUM(E17:E28) -> 0 | F16: =SUM(F17:F28) -> 0 | G16: =SUM(G17:G28) -> 0 | H16: =SUM(H17:H28) -> 0 | I16: =SUM(I17:I28) -> 0 | J16: =SUM(B16:I16) -> 0 | K16: =SUM(K17:K28) -> 0 | L16: =SUM(L17:L28) -> 0 | M16: =SUM(M17:M28) -> 0 | N16: =SUM(N17:N28) -> 0 | O16: =SUM(O17:O28) -> 0 | P16: =SUM(P17:P28) -> 0 | Q16: =SUM(Q17:Q28) -> 0 | R16: =SUM(R17:R28) -> 0 | ... T16: =SUM(T17:T28) -> 0 | U16: =SUM(K16:T16) -> 0
A17: 1. Flammable and Poison - Poisons/toxic liquids | J17: =SUM(B17:I17) -> 0 | U17: =SUM(K17:T17) -> 0
A18: 1. Flammable and Poison - Poisons/toxic solids | J18: =SUM(B18:I18) -> 0 | U18: =SUM(K18:T18) -> 0
A19: 1. Flammable and Poison - Cyanides | J19: =SUM(B19:I19) -> 0 | U19: =SUM(K19:T19) -> 0
A20: 1. Flammable and Poison - Organic poisons/pesticides (solid) | J20: =SUM(B20:I20) -> 0 | U20: =SUM(K20:T20) -> 0
A21: 1. Flammable and Poison - Organic poisons/pesticides (liquid) | J21: =SUM(B21:I21) -> 0 | U21: =SUM(K21:T21) -> 0
A22: 1. Flammable and Poison - Solid lead waste (solder) | J22: =SUM(B22:I22) -> 0 | U22: =SUM(K22:T22) -> 0
A23: 1. Flammable and Poison - Inorganic poisons/pesticides (solid) | J23: =SUM(B23:I23) -> 0 | U23: =SUM(K23:T23) -> 0
A24: 1. Flammable and Poison - Inorganic poisons/pesticides (liquid) | J24: =SUM(B24:I24) -> 0 | U24: =SUM(K24:T24) -> 0
A25: 1. Flammable and Poison - Hypochlorite compounds | J25: =SUM(B25:I25) -> 0 | U25: =SUM(K25:T25) -> 0
A26: 1. Flammable and Poison - Solvent sludge | J26: =SUM(B26:I26) -> 0 | U26: =SUM(K26:T26) -> 0
A27: 1. Flammable and Poison - Halogenated solvents | J27: =SUM(B27:I27) -> 0 | U27: =SUM(K27:T27) -> 0
A28: 1. Flammable and Poison - Non-halogenated solvents (toxic) | J28: =SUM(B28:I28) -> 0 | U28: =SUM(K28:T28) -> 0
A29: 1. Flammable and Poison - Reactive and explosive | B29: =SUM(B30:B38) -> 0 | C29: =SUM(C30:C38) -> 0 | D29: =SUM(D30:D38) -> 0 | E29: =SUM(E30:E38) -> 0 | F29: =SUM(F30:F38) -> 0 | G29: =SUM(G30:G38) -> 0 | H29: =SUM(H30:H38) -> 0 | I29: =SUM(I30:I38) -> 0 | J29: =SUM(B29:I29) -> 0 | K29: =SUM(K30:K38) -> 0 | L29: =SUM(L30:L38) -> 0 | M29: =SUM(M30:M38) -> 0 | N29: =SUM(N30:N38) -> 0 | O29: =SUM(O30:O38) -> 0 | P29: =SUM(P30:P38) -> 0 | Q29: =SUM(Q30:Q38) -> 0 | R29: =SUM(R30:R38) -> 0 | ... T29: =SUM(T30:T38) -> 0 | U29: =SUM(K29:T29) -> 0
A30: 1. Flammable and Poison - Reactives | J30: =SUM(B30:I30) -> 0 | U30: =SUM(K30:T30) -> 0
A31: 1. Flammable and Poison - Reactive cyanides | J31: =SUM(B31:I31) -> 0 | U31: =SUM(K31:T31) -> 0
A32: 1. Flammable and Poison - Reactive sulfides | J32: =SUM(B32:I32) -> 0 | U32: =SUM(K32:T32) -> 0
A33: 1. Flammable and Poison - Water reactive compounds, flammable gas producing, heat generating | J33: =SUM(B33:I33) -> 0 | U33: =SUM(K33:T33) -> 0
A34: 1. Flammable and Poison - Water reactive compounds, acid gas producing | J34: =SUM(B34:I34) -> 0 | U34: =SUM(K34:T34) -> 0
A35: 1. Flammable and Poison - Water reactive compounds, ammonia gas producing | J35: =SUM(B35:I35) -> 0 | U35: =SUM(K35:T35) -> 0
A36: 1. Flammable and Poison - Explosives | J36: =SUM(B36:I36) -> 0 | U36: =SUM(K36:T36) -> 0
A37: 1. Flammable and Poison - Ammunition | J37: =SUM(B37:I37) -> 0 | U37: =SUM(K37:T37) -> 0
A38: 1. Flammable and Poison - Fusees (marine flares) | J38: =SUM(B38:I38) -> 0 | U38: =SUM(K38:T38) -> 0
A39: 1. Flammable and Poison - Compressed gas cylinders | J39: =SUM(B39:I39) -> 0 | U39: =SUM(K39:T39) -> 0
A40: 1. Flammable and Poison - subtotal | B40: =B4+B9+B10+B15+B16+B29+B39 -> 0 | C40: =C4+C9+C10+C15+C16+C29+C39 -> 0 | D40: =D4+D9+D10+D15+D16+D29+D39 -> 0 | E40: =E4+E9+E10+E15+E16+E29+E39 -> 0 | F40: =F4+F9+F10+F15+F16+F29+F39 -> 0 | G40: =G4+G9+G10+G15+G16+G29+G39 -> 0 | H40: =H4+H9+H10+H15+H16+H29+H39 -> 0 | I40: =I4+I9+I10+I15+I16+I29+I39 -> 0 | J40: =SUM(B40:I40) -> 0 | K40: =K4+K9+K10+K15+K16+K29+K39 -> 0 | L40: =L4+L9+L10+L15+L16+L29+L39 -> 0 | M40: =M4+M9+M10+M15+M16+M29+M39 -> 0 | N40: =N4+N9+N10+N15+N16+N29+N39 -> 0 | O40: =O4+O9+O10+O15+O16+O29+O39 -> 0 | P40: =P4+P9+P10+P15+P16+P29+P39 -> 0 | Q40: =Q4+Q9+Q10+Q15+Q16+Q29+Q39 -> 0 | R40: =R4+R9+R10+R15+R16+R29+R39 -> 0 | ... T40: =T4+T9+T10+T15+T16+T29+T39 -> 0 | U40: =SUM(K40:T40) -> 0
A41: 2. PCB -containing - PCB-containing paint | J41: =SUM(B41:I41) -> 0 | U41: =SUM(K41:T41) -> 0
A42: 2. PCB -containing - Other PCB waste (includes ballasts) | B42: =SUM(B43:B44) -> 0 | C42: =SUM(C43:C44) -> 0 | D42: =SUM(D43:D44) -> 0 | E42: =SUM(E43:E44) -> 0 | F42: =SUM(F43:F44) -> 0 | G42: =SUM(G43:G44) -> 0 | H42: =SUM(H43:H44) -> 0 | I42: =SUM(I43:I44) -> 0 | J42: =SUM(B42:I42) -> 0 | K42: =SUM(K43:K44) -> 0 | L42: =SUM(L43:L44) -> 0 | M42: =SUM(M43:M44) -> 0 | N42: =SUM(N43:N44) -> 0 | O42: =SUM(O43:O44) -> 0 | P42: =SUM(P43:P44) -> 0 | Q42: =SUM(Q43:Q44) -> 0 | R42: =SUM(R43:R44) -> 0 | ... T42: =SUM(T43:T44) -> 0 | U42: =SUM(K42:T42) -> 0
A43: 2. PCB -containing - Other PCB waste (solid) | J43: =SUM(B43:I43) -> 0 | U43: =SUM(K43:T43) -> 0
A44: 2. PCB -containing - Other PCB waste (liquid) | J44: =SUM(B44:I44) -> 0 | U44: =SUM(K44:T44) -> 0
A45: 2. PCB -containing - subtotal | B45: =SUM(B41:B42) -> 0 | C45: =SUM(C41:C42) -> 0 | D45: =SUM(D41:D42) -> 0 | E45: =SUM(E41:E42) -> 0 | F45: =SUM(F41:F42) -> 0 | G45: =SUM(G41:G42) -> 0 | H45: =SUM(H41:H42) -> 0 | I45: =SUM(I41:I42) -> 0 | J45: =SUM(B45:I45) -> 0 | K45: =SUM(K41:K42) -> 0 | L45: =SUM(L41:L42) -> 0 | M45: =SUM(M41:M42) -> 0 | N45: =SUM(N41:N42) -> 0 | O45: =SUM(O41:O42) -> 0 | P45: =SUM(P41:P42) -> 0 | Q45: =SUM(Q41:Q42) -> 0 | R45: =SUM(R41:R42) -> 0 | ... T45: =SUM(T41:T42) -> 0 | U45: =SUM(K45:T45) -> 0
A46: 3. Reclaimable - Antifreeze | J46: =SUM(B46:I46) -> 0 | U46: =SUM(K46:T46) -> 0
A47: 3. Reclaimable - Auto type batteries (motor vehicles) | J47: =SUM(B47:I47) -> 0 | U47: =SUM(K47:T47) -> 0
A48: 3. Reclaimable - Latex paint | J48: =SUM(B48:I48) -> 0 | U48: =SUM(K48:T48) -> 0
A49: 3. Reclaimable - Motor oil/oil products | B49: =SUM(B50:B51) -> 0 | C49: =SUM(C50:C51) -> 0 | D49: =SUM(D50:D51) -> 0 | E49: =SUM(E50:E51) -> 0 | F49: =SUM(F50:F51) -> 0 | G49: =SUM(G50:G51) -> 0 | H49: =SUM(H50:H51) -> 0 | I49: =SUM(I50:I51) -> 0 | J49: =SUM(B49:I49) -> 0 | K49: =SUM(K50:K51) -> 0 | L49: =SUM(L50:L51) -> 0 | M49: =SUM(M50:M51) -> 0 | N49: =SUM(N50:N51) -> 0 | O49: =SUM(O50:O51) -> 0 | P49: =SUM(P50:P51) -> 0 | Q49: =SUM(Q50:Q51) -> 0 | R49: =SUM(R50:R51) -> 0 | ... T49: =SUM(T50:T51) -> 0 | U49: =SUM(K49:T49) -> 0
A50: 3. Reclaimable - Motor oil (contaminated) | J50: =SUM(B50:I50) -> 0 | U50: =SUM(K50:T50) -> 0
A51: 3. Reclaimable - Motor oil (non-contaminated) | J51: =SUM(B51:I51) -> 0 | U51: =SUM(K51:T51) -> 0
A52: 3. Reclaimable - Used oil filters (recyclables only) | J52: =SUM(B52:I52) -> 0 | U52: =SUM(K52:T52) -> 0
A53: 3. Reclaimable - subtotal | B53: =B46+B47+B48+B49+B52 -> 0 | C53: =C46+C47+C48+C49+C52 -> 0 | D53: =D46+D47+D48+D49+D52 -> 0 | E53: =E46+E47+E48+E49+E52 -> 0 | F53: =F46+F47+F48+F49+F52 -> 0 | G53: =G46+G47+G48+G49+G52 -> 0 | H53: =H46+H47+H48+H49+H52 -> 0 | I53: =I46+I47+I48+I49+I52 -> 0 | J53: =SUM(B53:I53) -> 0 | K53: =K46+K47+K48+K49+K52 -> 0 | L53: =L46+L47+L48+L49+L52 -> 0 | M53: =M46+M47+M48+M49+M52 -> 0 | N53: =N46+N47+N48+N49+N52 -> 0 | O53: =O46+O47+O48+O49+O52 -> 0 | P53: =P46+P47+P48+P49+P52 -> 0 | Q53: =Q46+Q47+Q48+Q49+Q52 -> 0 | R53: =R46+R47+R48+R49+R52 -> 0 | ... T53: =T46+T47+T48+T49+T52 -> 0 | U53: =SUM(K53:T53) -> 0
A54: * For purposes of the Form 303 reporting process, materials listed under the Universal Waste category do not necessarily need to be managed as Universal Waste (i.e., they can also be managed by the higher hazardous waste standard). Energy recovery or fuel incineration is not considered recycling. If the waste cannot be managed by recycling, then it must be managed as a hazardous waste.
A55: 4. Universal Waste (UW) * - Mercury containing automatic switches / thermometers / and novelties | J55: =SUM(B55:I55) -> 0 | U55: =SUM(K55:T55) -> 0
A56: 4. Universal Waste (UW) * - Mercury containing thermostats | J56: =SUM(B56:I56) -> 0 | U56: =SUM(K56:T56) -> 0
A57: 4. Universal Waste (UW) * - Mercury containing waste (other) | B57: =SUM(B58:B59) -> 0 | C57: =SUM(C58:C59) -> 0 | D57: =SUM(D58:D59) -> 0 | E57: =SUM(E58:E59) -> 0 | F57: =SUM(F58:F59) -> 0 | G57: =SUM(G58:G59) -> 0 | H57: =SUM(H58:H59) -> 0 | I57: =SUM(I58:I59) -> 0 | J57: =SUM(B57:I57) -> 0 | K57: =SUM(K58:K59) -> 0 | L57: =SUM(L58:L59) -> 0 | M57: =SUM(M58:M59) -> 0 | N57: =SUM(N58:N59) -> 0 | O57: =SUM(O58:O59) -> 0 | P57: =SUM(P58:P59) -> 0 | Q57: =SUM(Q58:Q59) -> 0 | R57: =SUM(R58:R59) -> 0 | ... T57: =SUM(T58:T59) -> 0 | U57: =SUM(K57:T57) -> 0
A58: 4. Universal Waste (UW) * - Elemental mercury | J58: =SUM(B58:I58) -> 0 | U58: =SUM(K58:T58) -> 0
A59: 4. Universal Waste (UW) * - Organic mercury compounds | J59: =SUM(B59:I59) -> 0 | U59: =SUM(K59:T59) -> 0
A60: 4. Universal Waste (UW) * - Lamps | B60: =SUM(B61:B70) -> 0 | C60: =SUM(C61:C70) -> 0 | D60: =SUM(D61:D70) -> 0 | E60: =SUM(E61:E70) -> 0 | F60: =SUM(F61:F70) -> 0 | G60: =SUM(G61:G70) -> 0 | H60: =SUM(H61:H70) -> 0 | I60: =SUM(I61:I70) -> 0 | J60: =SUM(B60:I60) -> 0 | K60: =SUM(K61:K70) -> 0 | L60: =SUM(L61:L70) -> 0 | M60: =SUM(M61:M70) -> 0 | N60: =SUM(N61:N70) -> 0 | O60: =SUM(O61:O70) -> 0 | P60: =SUM(P61:P70) -> 0 | Q60: =SUM(Q61:Q70) -> 0 | R60: =SUM(R61:R70) -> 0 | ... T60: =SUM(T61:T70) -> 0 | U60: =SUM(K60:T60) -> 0
A61: 4. Universal Waste (UW) * - Fluorescent tubes (straight) | J61: =SUM(B61:I61) -> 0 | U61: =SUM(K61:T61) -> 0
A62: 4. Universal Waste (UW) * - Fluorescent tubes (u-shaped) | J62: =SUM(B62:I62) -> 0 | U62: =SUM(K62:T62) -> 0
A63: 4. Universal Waste (UW) * - Compact fluorescent tubes (CFLs) | J63: =SUM(B63:I63) -> 0 | U63: =SUM(K63:T63) -> 0
A64: 4. Universal Waste (UW) * - Fluorescent tubes (broken) | J64: =SUM(B64:I64) -> 0 | U64: =SUM(K64:T64) -> 0
A65: 4. Universal Waste (UW) * - HID bulbs, Hg vapor, high pressure sodium, metal halides | J65: =SUM(B65:I65) -> 0 | U65: =SUM(K65:T65) -> 0
A66: 4. Universal Waste (UW) * - Shattershields | J66: =SUM(B66:I66) -> 0 | U66: =SUM(K66:T66) -> 0
A67: 4. Universal Waste (UW) * - Low pressure sodium bulbs/lamsp | J67: =SUM(B67:I67) -> 0 | U67: =SUM(K67:T67) -> 0
A68: 4. Universal Waste (UW) * - Neon bulbs & related material | J68: =SUM(B68:I68) -> 0 | U68: =SUM(K68:T68) -> 0
A69: 4. Universal Waste (UW) * - UV lamps | J69: =SUM(B69:I69) -> 0 | U69: =SUM(K69:T69) -> 0
A70: 4. Universal Waste (UW) * - Lamps (other) | J70: =SUM(B70:I70) -> 0 | U70: =SUM(K70:T70) -> 0
A71: 4. Universal Waste (UW) * - Rechargeable batteries | B71: =SUM(B72:B75) -> 0 | C71: =SUM(C72:C75) -> 0 | D71: =SUM(D72:D75) -> 0 | E71: =SUM(E72:E75) -> 0 | F71: =SUM(F72:F75) -> 0 | G71: =SUM(G72:G75) -> 0 | H71: =SUM(H72:H75) -> 0 | I71: =SUM(I72:I75) -> 0 | J71: =SUM(B71:I71) -> 0 | K71: =SUM(K72:K75) -> 0 | L71: =SUM(L72:L75) -> 0 | M71: =SUM(M72:M75) -> 0 | N71: =SUM(N72:N75) -> 0 | O71: =SUM(O72:O75) -> 0 | P71: =SUM(P72:P75) -> 0 | Q71: =SUM(Q72:Q75) -> 0 | R71: =SUM(R72:R75) -> 0 | ... T71: =SUM(T72:T75) -> 0 | U71: =SUM(K71:T71) -> 0
A72: 4. Universal Waste (UW) * - Nickel-cadmium (NiCd) | J72: =SUM(B72:I72) -> 0 | U72: =SUM(K72:T72) -> 0
A73: 4. Universal Waste (UW) * - Nickel metal hydride (NiMH) | J73: =SUM(B73:I73) -> 0 | U73: =SUM(K73:T73) -> 0
A74: 4. Universal Waste (UW) * - Lithium-ion | J74: =SUM(B74:I74) -> 0 | U74: =SUM(K74:T74) -> 0
A75: 4. Universal Waste (UW) * - Rechargeable batteries (other) | J75: =SUM(B75:I75) -> 0 | U75: =SUM(K75:T75) -> 0
A76: 4. Universal Waste (UW) * - Other batteries | B76: =SUM(B77:B81) -> 0 | C76: =SUM(C77:C81) -> 0 | D76: =SUM(D77:D81) -> 0 | E76: =SUM(E77:E81) -> 0 | F76: =SUM(F77:F81) -> 0 | G76: =SUM(G77:G81) -> 0 | H76: =SUM(H77:H81) -> 0 | I76: =SUM(I77:I81) -> 0 | J76: =SUM(B76:I76) -> 0 | K76: =SUM(K77:K81) -> 0 | L76: =SUM(L77:L81) -> 0 | M76: =SUM(M77:M81) -> 0 | N76: =SUM(N77:N81) -> 0 | O76: =SUM(O77:O81) -> 0 | P76: =SUM(P77:P81) -> 0 | Q76: =SUM(Q77:Q81) -> 0 | R76: =SUM(R77:R81) -> 0 | ... T76: =SUM(T77:T81) -> 0 | U76: =SUM(K76:T76) -> 0
A77: 4. Universal Waste (UW) * - Other batteries (recycled) | J77: =SUM(B77:I77) -> 0 | U77: =SUM(K77:T77) -> 0
A78: 4. Universal Waste (UW) * - Other batteries (landfilled) | J78: =SUM(B78:I78) -> 0 | U78: =SUM(K78:T78) -> 0
A79: 4. Universal Waste (UW) * - Alkaline batteries | J79: =SUM(B79:I79) -> 0 | U79: =SUM(K79:T79) -> 0
A80: 4. Universal Waste (UW) * - Lithium batteries | J80: =SUM(B80:I80) -> 0 | U80: =SUM(K80:T80) -> 0
A81: 4. Universal Waste (UW) * - Gell cell batteries | J81: =SUM(B81:I81) -> 0 | U81: =SUM(K81:T81) -> 0
A82: 4. Universal Waste (UW) * - Aerosol cans | J82: =SUM(B82:I82) -> 0 | U82: =SUM(K82:T82) -> 0
A83: 4. Universal Waste (UW) * - subtotal | B83: =B55+B56+B57+B60+B71+B76+B82 -> 0 | C83: =C55+C56+C57+C60+C71+C76+C82 -> 0 | D83: =D55+D56+D57+D60+D71+D76+D82 -> 0 | E83: =E55+E56+E57+E60+E71+E76+E82 -> 0 | F83: =F55+F56+F57+F60+F71+F76+F82 -> 0 | G83: =G55+G56+G57+G60+G71+G76+G82 -> 0 | H83: =H55+H56+H57+H60+H71+H76+H82 -> 0 | I83: =I55+I56+I57+I60+I71+I76+I82 -> 0 | J83: =SUM(B83:I83) -> 0 | K83: =K55+K56+K57+K60+K71+K76+K82 -> 0 | L83: =L55+L56+L57+L60+L71+L76+L82 -> 0 | M83: =M55+M56+M57+M60+M71+M76+M82 -> 0 | N83: =N55+N56+N57+N60+N71+N76+N82 -> 0 | O83: =O55+O56+O57+O60+O71+O76+O82 -> 0 | P83: =P55+P56+P57+P60+P71+P76+P82 -> 0 | Q83: =Q55+Q56+Q57+Q60+Q71+Q76+Q82 -> 0 | R83: =R55+R56+R57+R60+R71+R76+R82 -> 0 | ... T83: =T55+T56+T57+T60+T71+T76+T82 -> 0 | U83: =SUM(K83:T83) -> 0
A84: Electronic Waste (UW) - Covered Electronic Devices | J84: =SUM(B84:I84) -> 0 | U84: =SUM(K84:T84) -> 0
A85: Electronic Waste (UW) - Other Electronic Devices | J85: =SUM(B85:I85) -> 0 | U85: =SUM(K85:T85) -> 0
A86: Electronic Waste (UW) - subtotal | B86: =SUM(B84:B85) -> 0 | C86: =SUM(C84:C85) -> 0 | D86: =SUM(D84:D85) -> 0 | E86: =SUM(E84:E85) -> 0 | F86: =SUM(F84:F85) -> 0 | G86: =SUM(G84:G85) -> 0 | H86: =SUM(H84:H85) -> 0 | I86: =SUM(I84:I85) -> 0 | J86: =SUM(B86:I86) -> 0 | K86: =SUM(K84:K85) -> 0 | L86: =SUM(L84:L85) -> 0 | M86: =SUM(M84:M85) -> 0 | N86: =SUM(N84:N85) -> 0 | O86: =SUM(O84:O85) -> 0 | P86: =SUM(P84:P85) -> 0 | Q86: =SUM(Q84:Q85) -> 0 | R86: =SUM(R84:R85) -> 0 | ... T86: =SUM(T84:T85) -> 0 | U86: =SUM(K86:T86) -> 0
A87: all UW subtotal | B87: =SUM(B83+B86) -> 0 | C87: =SUM(C83+C86) -> 0 | D87: =SUM(D83+D86) -> 0 | E87: =SUM(E83+E86) -> 0 | F87: =SUM(F83+F86) -> 0 | G87: =SUM(G83+G86) -> 0 | H87: =SUM(H83+H86) -> 0 | I87: =SUM(I83+I86) -> 0 | J87: =SUM(B87:I87) -> 0 | K87: =K83+K86 -> 0 | L87: =L83+L86 -> 0 | M87: =M83+M86 -> 0 | N87: =N83+N86 -> 0 | O87: =O83+O86 -> 0 | P87: =P83+P86 -> 0 | Q87: =Q83+Q86 -> 0 | R87: =R83+R86 -> 0 | ... T87: =T83+T86 -> 0 | U87: =SUM(K87:T87) -> 0
A88: 5. Acid - Inorganic and organic acid | B88: =SUM(B89:B95) -> 0 | C88: =SUM(C89:C95) -> 0 | D88: =SUM(D89:D95) -> 0 | E88: =SUM(E89:E95) -> 0 | F88: =SUM(F89:F95) -> 0 | G88: =SUM(G89:G95) -> 0 | H88: =SUM(H89:H95) -> 0 | I88: =SUM(I89:I95) -> 0 | J88: =SUM(B88:I88) -> 0 | K88: =SUM(K89:K95) -> 0 | L88: =SUM(L89:L95) -> 0 | M88: =SUM(M89:M95) -> 0 | N88: =SUM(N89:N95) -> 0 | O88: =SUM(O89:O95) -> 0 | P88: =SUM(P89:P95) -> 0 | Q88: =SUM(Q89:Q95) -> 0 | R88: =SUM(R89:R95) -> 0 | ... T88: =SUM(T89:T95) -> 0 | U88: =SUM(K88:T88) -> 0
A89: 5. Acid - Inorganic and organic acid (mixed) | J89: =SUM(B89:I89) -> 0 | U89: =SUM(K89:T89) -> 0
A90: 5. Acid - Inorganic acid (solid and liquid) | J90: =SUM(B90:I90) -> 0 | U90: =SUM(K90:T90) -> 0
A91: 5. Acid - Inorganic acid (solid) | J91: =SUM(B91:I91) -> 0 | U91: =SUM(K91:T91) -> 0
A92: 5. Acid - Inorganic acid (liquid) | J92: =SUM(B92:I92) -> 0 | U92: =SUM(K92:T92) -> 0
A93: 5. Acid - Organic acid (solid and liquid) | J93: =SUM(B93:I93) -> 0 | U93: =SUM(K93:T93) -> 0
A94: 5. Acid - Organic acid (solid) | J94: =SUM(B94:I94) -> 0 | U94: =SUM(K94:T94) -> 0
A95: 5. Acid - Organic acid (liquid) | J95: =SUM(B95:I95) -> 0 | U95: =SUM(K95:T95) -> 0
A96: 6. Base - Inorganic and organic base | B96: =SUM(B97:B103) -> 0 | C96: =SUM(C97:C103) -> 0 | D96: =SUM(D97:D103) -> 0 | E96: =SUM(E97:E103) -> 0 | F96: =SUM(F97:F103) -> 0 | G96: =SUM(G97:G103) -> 0 | H96: =SUM(H97:H103) -> 0 | I96: =SUM(I97:I103) -> 0 | J96: =SUM(B96:I96) -> 0 | K96: =SUM(K97:K103) -> 0 | L96: =SUM(L97:L103) -> 0 | M96: =SUM(M97:M103) -> 0 | N96: =SUM(N97:N103) -> 0 | O96: =SUM(O97:O103) -> 0 | P96: =SUM(P97:P103) -> 0 | Q96: =SUM(Q97:Q103) -> 0 | R96: =SUM(R97:R103) -> 0 | ... T96: =SUM(T97:T103) -> 0 | U96: =SUM(K96:T96) -> 0
A97: 6. Base - Inorganic and organic base (mixed) | J97: =SUM(B97:I97) -> 0 | U97: =SUM(K97:T97) -> 0
A98: 6. Base - Inorganic base (solid and liquid) | J98: =SUM(B98:I98) -> 0 | U98: =SUM(K98:T98) -> 0
A99: 6. Base - Inorganic base (solid) | J99: =SUM(B99:I99) -> 0 | U99: =SUM(K99:T99) -> 0
A100: 6. Base - Inorganic base (liquid) | J100: =SUM(B100:I100) -> 0 | U100: =SUM(K100:T100) -> 0
A101: 6. Base - Organic base (solid and liquid) | J101: =SUM(B101:I101) -> 0 | U101: =SUM(K101:T101) -> 0
...

Sheet Oct
A2: åTrack more detail? Click [2] at top left.
A3: Material Type | B3: Pounds Collected by Program Type - Permanent Facility | C3: Pounds Collected by Program Type - Temporary (periodic) Facility | D3: Pounds Collected by Program Type - Mobile Facility | E3: Pounds Collected by Program Type - Recycle-only Facility | F3: Pounds Collected by Program Type - Door to Door (residential) Program | G3: Pounds Collected by Program Type - Curbside Program | H3: Pounds Collected by Program Type - Load Check | I3: Pounds Collected by Program Type - "Other" Prog Type (PT) PT_______ | J3: Pounds Collected by Program Type - Total Collected (pounds) | K3: Pounds Disposed / Diverted by Management Method - Destructive Incineration | L3: Pounds Disposed / Diverted by Management Method - Fuel Incineration | M3: Pounds Disposed / Diverted by Management Method - Landfill | N3: Pounds Disposed / Diverted by Management Method - Neutralization / Treatment | O3: Pounds Disposed / Diverted by Management Method - Recycled | P3: Pounds Disposed / Diverted by Management Method - Reused | Q3: Pounds Disposed / Diverted by Management Method - Stabilization | R3: Pounds Disposed / Diverted by Management Method - PaintCare | S3: Pounds Disposed / Diverted by Management Method - PaintCare Reuse | T3: Pounds Disposed / Diverted by Management Method - TRC | U3: Pounds Disposed / Diverted by Management Method - Total Disposed / Diverted (pounds)
A4: 1. Flammable and Poison - Flammable solids / liquids | B4: =SUM(B5:B8) -> 0 | C4: =SUM(C5:C8) -> 0 | D4: =SUM(D5:D8) -> 0 | E4: =SUM(E5:E8) -> 0 | F4: =SUM(F5:F8) -> 0 | G4: =SUM(G5:G8) -> 0 | H4: =SUM(H5:H8) -> 0 | I4: =SUM(I5:I8) -> 0 | J4: =SUM(B4:I4) -> 0 | K4: =SUM(K5:K8) -> 0 | L4: =SUM(L5:L8) -> 0 | M4: =SUM(M5:M8) -> 0 | N4: =SUM(N5:N8) -> 0 | O4: =SUM(O5:O8) -> 0 | P4: =SUM(P5:P8) -> 0 | Q4: =SUM(Q5:Q8) -> 0 | R4: =SUM(R5:R8) -> 0 | ... T4: =SUM(T5:T8) -> 0 | U4: =SUM(K4:T4) -> 0
A5: 1. Flammable and Poison - Flammable solids | J5: =SUM(B5:I5) -> 0 | U5: =SUM(K5:T5) -> 0
A6: 1. Flammable and Poison - Flammable liquids (loose pack) | J6: =SUM(B6:I6) -> 0 | U6: =SUM(K6:T6) -> 0
A7: 1. Flammable and Poison - Flammable cylinders | J7: =SUM(B7:I7) -> 0 | U7: =SUM(K7:T7) -> 0
A8: 1. Flammable and Poison - Non-halogenated solvents (flammable) | J8: =SUM(B8:I8) -> 0 | U8: =SUM(K8:T8) -> 0
A9: 1. Flammable and Poison - Bulked flammable liquids | J9: =SUM(B9:I9) -> 0 | U9: =SUM(K9:T9) -> 0
A10: 1. Flammable and Poison - Oil-based paints | B10: =SUM(B11:B14) -> 0 | C10: =SUM(C11:C14) -> 0 | D10: =SUM(D11:D14) -> 0 | E10: =SUM(E11:E14) -> 0 | F10: =SUM(F11:F14) -> 0 | G10: =SUM(G11:G14) -> 0 | H10: =SUM(H11:H14) -> 0 | I10: =SUM(I11:I14) -> 0 | J10: =SUM(B10:I10) -> 0 | K10: =SUM(K11:K14) -> 0 | L10: =SUM(L11:L14) -> 0 | M10: =SUM(M11:M14) -> 0 | N10: =SUM(N11:N14) -> 0 | O10: =SUM(O11:O14) -> 0 | P10: =SUM(P11:P14) -> 0 | Q10: =SUM(Q11:Q14) -> 0 | R10: =SUM(R11:R14) -> 0 | ... T10: =SUM(T11:T14) -> 0 | U10: =SUM(K10:T10) -> 0
A11: 1. Flammable and Poison - Oil-based paint (bulked) | J11: =SUM(B11:I11) -> 0 | U11: =SUM(K11:T11) -> 0
A12: 1. Flammable and Poison - Oil-based paint (loose packed) | J12: =SUM(B12:I12) -> 0 | U12: =SUM(K12:T12) -> 0
A13: 1. Flammable and Poison - Oil-based paint with PCBs | J13: =SUM(B13:I13) -> 0 | U13: =SUM(K13:T13) -> 0
A14: 1. Flammable and Poison - Oil-based paint sludge | J14: =SUM(B14:I14) -> 0 | U14: =SUM(K14:T14) -> 0
A15: 1. Flammable and Poison - Paint related material (PRM) | J15: =SUM(B15:I15) -> 0 | U15: =SUM(K15:T15) -> 0
A16: 1. Flammable and Poison - Poisons | B16: =SUM(B17:B28) -> 0 | C16: =SUM(C17:C28) -> 0 | D16: =SUM(D17:D28) -> 0 | E16: =SUM(E17:E28) -> 0 | F16: =SUM(F17:F28) -> 0 | G16: =SUM(G17:G28) -> 0 | H16: =SUM(H17:H28) -> 0 | I16: =SUM(I17:I28) -> 0 | J16: =SUM(B16:I16) -> 0 | K16: =SUM(K17:K28) -> 0 | L16: =SUM(L17:L28) -> 0 | M16: =SUM(M17:M28) -> 0 | N16: =SUM(N17:N28) -> 0 | O16: =SUM(O17:O28) -> 0 | P16: =SUM(P17:P28) -> 0 | Q16: =SUM(Q17:Q28) -> 0 | R16: =SUM(R17:R28) -> 0 | ... T16: =SUM(T17:T28) -> 0 | U16: =SUM(K16:T16) -> 0
A17: 1. Flammable and Poison - Poisons/toxic liquids | J17: =SUM(B17:I17) -> 0 | U17: =SUM(K17:T17) -> 0
A18: 1. Flammable and Poison - Poisons/toxic solids | J18: =SUM(B18:I18) -> 0 | U18: =SUM(K18:T18) -> 0
A19: 1. Flammable and Poison - Cyanides | J19: =SUM(B19:I19) -> 0 | U19: =SUM(K19:T19) -> 0
A20: 1. Flammable and Poison - Organic poisons/pesticides (solid) | J20: =SUM(B20:I20) -> 0 | U20: =SUM(K20:T20) -> 0
A21: 1. Flammable and Poison - Organic poisons/pesticides (liquid) | J21: =SUM(B21:I21) -> 0 | U21: =SUM(K21:T21) -> 0
A22: 1. Flammable and Poison - Solid lead waste (solder) | J22: =SUM(B22:I22) -> 0 | U22: =SUM(K22:T22) -> 0
A23: 1. Flammable and Poison - Inorganic poisons/pesticides (solid) | J23: =SUM(B23:I23) -> 0 | U23: =SUM(K23:T23) -> 0
A24: 1. Flammable and Poison - Inorganic poisons/pesticides (liquid) | J24: =SUM(B24:I24) -> 0 | U24: =SUM(K24:T24) -> 0
A25: 1. Flammable and Poison - Hypochlorite compounds | J25: =SUM(B25:I25) -> 0 | U25: =SUM(K25:T25) -> 0
A26: 1. Flammable and Poison - Solvent sludge | J26: =SUM(B26:I26) -> 0 | U26: =SUM(K26:T26) -> 0
A27: 1. Flammable and Poison - Halogenated solvents | J27: =SUM(B27:I27) -> 0 | U27: =SUM(K27:T27) -> 0
A28: 1. Flammable and Poison - Non-halogenated solvents (toxic) | J28: =SUM(B28:I28) -> 0 | U28: =SUM(K28:T28) -> 0
A29: 1. Flammable and Poison - Reactive and explosive | B29: =SUM(B30:B38) -> 0 | C29: =SUM(C30:C38) -> 0 | D29: =SUM(D30:D38) -> 0 | E29: =SUM(E30:E38) -> 0 | F29: =SUM(F30:F38) -> 0 | G29: =SUM(G30:G38) -> 0 | H29: =SUM(H30:H38) -> 0 | I29: =SUM(I30:I38) -> 0 | J29: =SUM(B29:I29) -> 0 | K29: =SUM(K30:K38) -> 0 | L29: =SUM(L30:L38) -> 0 | M29: =SUM(M30:M38) -> 0 | N29: =SUM(N30:N38) -> 0 | O29: =SUM(O30:O38) -> 0 | P29: =SUM(P30:P38) -> 0 | Q29: =SUM(Q30:Q38) -> 0 | R29: =SUM(R30:R38) -> 0 | ... T29: =SUM(T30:T38) -> 0 | U29: =SUM(K29:T29) -> 0
A30: 1. Flammable and Poison - Reactives | J30: =SUM(B30:I30) -> 0 | U30: =SUM(K30:T30) -> 0
A31: 1. Flammable and Poison - Reactive cyanides | J31: =SUM(B31:I31) -> 0 | U31: =SUM(K31:T31) -> 0
A32: 1. Flammable and Poison - Reactive sulfides | J32: =SUM(B32:I32) -> 0 | U32: =SUM(K32:T32) -> 0
A33: 1. Flammable and Poison - Water reactive compounds, flammable gas producing, heat generating | J33: =SUM(B33:I33) -> 0 | U33: =SUM(K33:T33) -> 0
A34: 1. Flammable and Poison - Water reactive compounds, acid gas producing | J34: =SUM(B34:I34) -> 0 | U34: =SUM(K34:T34) -> 0
A35: 1. Flammable and Poison - Water reactive compounds, ammonia gas producing | J35: =SUM(B35:I35) -> 0 | U35: =SUM(K35:T35) -> 0
A36: 1. Flammable and Poison - Explosives | J36: =SUM(B36:I36) -> 0 | U36: =SUM(K36:T36) -> 0
A37: 1. Flammable and Poison - Ammunition | J37: =SUM(B37:I37) -> 0 | U37: =SUM(K37:T37) -> 0
A38: 1. Flammable and Poison - Fusees (marine flares) | J38: =SUM(B38:I38) -> 0 | U38: =SUM(K38:T38) -> 0
A39: 1. Flammable and Poison - Compressed gas cylinders | J39: =SUM(B39:I39) -> 0 | U39: =SUM(K39:T39) -> 0
A40: 1. Flammable and Poison - subtotal | B40: =B4+B9+B10+B15+B16+B29+B39 -> 0 | C40: =C4+C9+C10+C15+C16+C29+C39 -> 0 | D40: =D4+D9+D10+D15+D16+D29+D39 -> 0 | E40: =E4+E9+E10+E15+E16+E29+E39 -> 0 | F40: =F4+F9+F10+F15+F16+F29+F39 -> 0 | G40: =G4+G9+G10+G15+G16+G29+G39 -> 0 | H40: =H4+H9+H10+H15+H16+H29+H39 -> 0 | I40: =I4+I9+I10+I15+I16+I29+I39 -> 0 | J40: =SUM(B40:I40) -> 0 | K40: =K4+K9+K10+K15+K16+K29+K39 -> 0 | L40: =L4+L9+L10+L15+L16+L29+L39 -> 0 | M40: =M4+M9+M10+M15+M16+M29+M39 -> 0 | N40: =N4+N9+N10+N15+N16+N29+N39 -> 0 | O40: =O4+O9+O10+O15+O16+O29+O39 -> 0 | P40: =P4+P9+P10+P15+P16+P29+P39 -> 0 | Q40: =Q4+Q9+Q10+Q15+Q16+Q29+Q39 -> 0 | R40: =R4+R9+R10+R15+R16+R29+R39 -> 0 | ... T40: =T4+T9+T10+T15+T16+T29+T39 -> 0 | U40: =SUM(K40:T40) -> 0
A41: 2. PCB -containing - PCB-containing paint | J41: =SUM(B41:I41) -> 0 | U41: =SUM(K41:T41) -> 0
A42: 2. PCB -containing - Other PCB waste (includes ballasts) | B42: =SUM(B43:B44) -> 0 | C42: =SUM(C43:C44) -> 0 | D42: =SUM(D43:D44) -> 0 | E42: =SUM(E43:E44) -> 0 | F42: =SUM(F43:F44) -> 0 | G42: =SUM(G43:G44) -> 0 | H42: =SUM(H43:H44) -> 0 | I42: =SUM(I43:I44) -> 0 | J42: =SUM(B42:I42) -> 0 | K42: =SUM(K43:K44) -> 0 | L42: =SUM(L43:L44) -> 0 | M42: =SUM(M43:M44) -> 0 | N42: =SUM(N43:N44) -> 0 | O42: =SUM(O43:O44) -> 0 | P42: =SUM(P43:P44) -> 0 | Q42: =SUM(Q43:Q44) -> 0 | R42: =SUM(R43:R44) -> 0 | ... T42: =SUM(T43:T44) -> 0 | U42: =SUM(K42:T42) -> 0
A43: 2. PCB -containing - Other PCB waste (solid) | J43: =SUM(B43:I43) -> 0 | U43: =SUM(K43:T43) -> 0
A44: 2. PCB -containing - Other PCB waste (liquid) | J44: =SUM(B44:I44) -> 0 | U44: =SUM(K44:T44) -> 0
A45: 2. PCB -containing - subtotal | B45: =SUM(B41:B42) -> 0 | C45: =SUM(C41:C42) -> 0 | D45: =SUM(D41:D42) -> 0 | E45: =SUM(E41:E42) -> 0 | F45: =SUM(F41:F42) -> 0 | G45: =SUM(G41:G42) -> 0 | H45: =SUM(H41:H42) -> 0 | I45: =SUM(I41:I42) -> 0 | J45: =SUM(B45:I45) -> 0 | K45: =SUM(K41:K42) -> 0 | L45: =SUM(L41:L42) -> 0 | M45: =SUM(M41:M42) -> 0 | N45: =SUM(N41:N42) -> 0 | O45: =SUM(O41:O42) -> 0 | P45: =SUM(P41:P42) -> 0 | Q45: =SUM(Q41:Q42) -> 0 | R45: =SUM(R41:R42) -> 0 | ... T45: =SUM(T41:T42) -> 0 | U45: =SUM(K45:T45) -> 0
A46: 3. Reclaimable - Antifreeze | J46: =SUM(B46:I46) -> 0 | U46: =SUM(K46:T46) -> 0
A47: 3. Reclaimable - Auto type batteries (motor vehicles) | J47: =SUM(B47:I47) -> 0 | U47: =SUM(K47:T47) -> 0
A48: 3. Reclaimable - Latex paint | J48: =SUM(B48:I48) -> 0 | U48: =SUM(K48:T48) -> 0
A49: 3. Reclaimable - Motor oil/oil products | B49: =SUM(B50:B51) -> 0 | C49: =SUM(C50:C51) -> 0 | D49: =SUM(D50:D51) -> 0 | E49: =SUM(E50:E51) -> 0 | F49: =SUM(F50:F51) -> 0 | G49: =SUM(G50:G51) -> 0 | H49: =SUM(H50:H51) -> 0 | I49: =SUM(I50:I51) -> 0 | J49: =SUM(B49:I49) -> 0 | K49: =SUM(K50:K51) -> 0 | L49: =SUM(L50:L51) -> 0 | M49: =SUM(M50:M51) -> 0 | N49: =SUM(N50:N51) -> 0 | O49: =SUM(O50:O51) -> 0 | P49: =SUM(P50:P51) -> 0 | Q49: =SUM(Q50:Q51) -> 0 | R49: =SUM(R50:R51) -> 0 | ... T49: =SUM(T50:T51) -> 0 | U49: =SUM(K49:T49) -> 0
A50: 3. Reclaimable - Motor oil (contaminated) | J50: =SUM(B50:I50) -> 0 | U50: =SUM(K50:T50) -> 0
A51: 3. Reclaimable - Motor oil (non-contaminated) | J51: =SUM(B51:I51) -> 0 | U51: =SUM(K51:T51) -> 0
A52: 3. Reclaimable - Used oil filters (recyclables only) | J52: =SUM(B52:I52) -> 0 | U52: =SUM(K52:T52) -> 0
A53: 3. Reclaimable - subtotal | B53: =B46+B47+B48+B49+B52 -> 0 | C53: =C46+C47+C48+C49+C52 -> 0 | D53: =D46+D47+D48+D49+D52 -> 0 | E53: =E46+E47+E48+E49+E52 -> 0 | F53: =F46+F47+F48+F49+F52 -> 0 | G53: =G46+G47+G48+G49+G52 -> 0 | H53: =H46+H47+H48+H49+H52 -> 0 | I53: =I46+I47+I48+I49+I52 -> 0 | J53: =SUM(B53:I53) -> 0 | K53: =K46+K47+K48+K49+K52 -> 0 | L53: =L46+L47+L48+L49+L52 -> 0 | M53: =M46+M47+M48+M49+M52 -> 0 | N53: =N46+N47+N48+N49+N52 -> 0 | O53: =O46+O47+O48+O49+O52 -> 0 | P53: =P46+P47+P48+P49+P52 -> 0 | Q53: =Q46+Q47+Q48+Q49+Q52 -> 0 | R53: =R46+R47+R48+R49+R52 -> 0 | ... T53: =T46+T47+T48+T49+T52 -> 0 | U53: =SUM(K53:T53) -> 0
A54: * For purposes of the Form 303 reporting process, materials listed under the Universal Waste category do not necessarily need to be managed as Universal Waste (i.e., they can also be managed by the higher hazardous waste standard). Energy recovery or fuel incineration is not considered recycling. If the waste cannot be managed by recycling, then it must be managed as a hazardous waste.
A55: 4. Universal Waste (UW) * - Mercury containing automatic switches / thermometers / and novelties | J55: =SUM(B55:I55) -> 0 | U55: =SUM(K55:T55) -> 0
A56: 4. Universal Waste (UW) * - Mercury containing thermostats | J56: =SUM(B56:I56) -> 0 | U56: =SUM(K56:T56) -> 0
A57: 4. Universal Waste (UW) * - Mercury containing waste (other) | B57: =SUM(B58:B59) -> 0 | C57: =SUM(C58:C59) -> 0 | D57: =SUM(D58:D59) -> 0 | E57: =SUM(E58:E59) -> 0 | F57: =SUM(F58:F59) -> 0 | G57: =SUM(G58:G59) -> 0 | H57: =SUM(H58:H59) -> 0 | I57: =SUM(I58:I59) -> 0 | J57: =SUM(B57:I57) -> 0 | K57: =SUM(K58:K59) -> 0 | L57: =SUM(L58:L59) -> 0 | M57: =SUM(M58:M59) -> 0 | N57: =SUM(N58:N59) -> 0 | O57: =SUM(O58:O59) -> 0 | P57: =SUM(P58:P59) -> 0 | Q57: =SUM(Q58:Q59) -> 0 | R57: =SUM(R58:R59) -> 0 | ... T57: =SUM(T58:T59) -> 0 | U57: =SUM(K57:T57) -> 0
A58: 4. Universal Waste (UW) * - Elemental mercury | J58: =SUM(B58:I58) -> 0 | U58: =SUM(K58:T58) -> 0
A59: 4. Universal Waste (UW) * - Organic mercury compounds | J59: =SUM(B59:I59) -> 0 | U59: =SUM(K59:T59) -> 0
A60: 4. Universal Waste (UW) * - Lamps | B60: =SUM(B61:B70) -> 0 | C60: =SUM(C61:C70) -> 0 | D60: =SUM(D61:D70) -> 0 | E60: =SUM(E61:E70) -> 0 | F60: =SUM(F61:F70) -> 0 | G60: =SUM(G61:G70) -> 0 | H60: =SUM(H61:H70) -> 0 | I60: =SUM(I61:I70) -> 0 | J60: =SUM(B60:I60) -> 0 | K60: =SUM(K61:K70) -> 0 | L60: =SUM(L61:L70) -> 0 | M60: =SUM(M61:M70) -> 0 | N60: =SUM(N61:N70) -> 0 | O60: =SUM(O61:O70) -> 0 | P60: =SUM(P61:P70) -> 0 | Q60: =SUM(Q61:Q70) -> 0 | R60: =SUM(R61:R70) -> 0 | ... T60: =SUM(T61:T70) -> 0 | U60: =SUM(K60:T60) -> 0
A61: 4. Universal Waste (UW) * - Fluorescent tubes (straight) | J61: =SUM(B61:I61) -> 0 | U61: =SUM(K61:T61) -> 0
A62: 4. Universal Waste (UW) * - Fluorescent tubes (u-shaped) | J62: =SUM(B62:I62) -> 0 | U62: =SUM(K62:T62) -> 0
A63: 4. Universal Waste (UW) * - Compact fluorescent tubes (CFLs) | J63: =SUM(B63:I63) -> 0 | U63: =SUM(K63:T63) -> 0
A64: 4. Universal Waste (UW) * - Fluorescent tubes (broken) | J64: =SUM(B64:I64) -> 0 | U64: =SUM(K64:T64) -> 0
A65: 4. Universal Waste (UW) * - HID bulbs, Hg vapor, high pressure sodium, metal halides | J65: =SUM(B65:I65) -> 0 | U65: =SUM(K65:T65) -> 0
A66: 4. Universal Waste (UW) * - Shattershields | J66: =SUM(B66:I66) -> 0 | U66: =SUM(K66:T66) -> 0
A67: 4. Universal Waste (UW) * - Low pressure sodium bulbs/lamsp | J67: =SUM(B67:I67) -> 0 | U67: =SUM(K67:T67) -> 0
A68: 4. Universal Waste (UW) * - Neon bulbs & related material | J68: =SUM(B68:I68) -> 0 | U68: =SUM(K68:T68) -> 0
A69: 4. Universal Waste (UW) * - UV lamps | J69: =SUM(B69:I69) -> 0 | U69: =SUM(K69:T69) -> 0
A70: 4. Universal Waste (UW) * - Lamps (other) | J70: =SUM(B70:I70) -> 0 | U70: =SUM(K70:T70) -> 0
A71: 4. Universal Waste (UW) * - Rechargeable batteries | B71: =SUM(B72:B75) -> 0 | C71: =SUM(C72:C75) -> 0 | D71: =SUM(D72:D75) -> 0 | E71: =SUM(E72:E75) -> 0 | F71: =SUM(F72:F75) -> 0 | G71: =SUM(G72:G75) -> 0 | H71: =SUM(H72:H75) -> 0 | I71: =SUM(I72:I75) -> 0 | J71: =SUM(B71:I71) -> 0 | K71: =SUM(K72:K75) -> 0 | L71: =SUM(L72:L75) -> 0 | M71: =SUM(M72:M75) -> 0 | N71: =SUM(N72:N75) -> 0 | O71: =SUM(O72:O75) -> 0 | P71: =SUM(P72:P75) -> 0 | Q71: =SUM(Q72:Q75) -> 0 | R71: =SUM(R72:R75) -> 0 | ... T71: =SUM(T72:T75) -> 0 | U71: =SUM(K71:T71) -> 0
A72: 4. Universal Waste (UW) * - Nickel-cadmium (NiCd) | J72: =SUM(B72:I72) -> 0 | U72: =SUM(K72:T72) -> 0
A73: 4. Universal Waste (UW) * - Nickel metal hydride (NiMH) | J73: =SUM(B73:I73) -> 0 | U73: =SUM(K73:T73) -> 0
A74: 4. Universal Waste (UW) * - Lithium-ion | J74: =SUM(B74:I74) -> 0 | U74: =SUM(K74:T74) -> 0
A75: 4. Universal Waste (UW) * - Rechargeable batteries (other) | J75: =SUM(B75:I75) -> 0 | U75: =SUM(K75:T75) -> 0
A76: 4. Universal Waste (UW) * - Other batteries | B76: =SUM(B77:B81) -> 0 | C76: =SUM(C77:C81) -> 0 | D76: =SUM(D77:D81) -> 0 | E76: =SUM(E77:E81) -> 0 | F76: =SUM(F77:F81) -> 0 | G76: =SUM(G77:G81) -> 0 | H76: =SUM(H77:H81) -> 0 | I76: =SUM(I77:I81) -> 0 | J76: =SUM(B76:I76) -> 0 | K76: =SUM(K77:K81) -> 0 | L76: =SUM(L77:L81) -> 0 | M76: =SUM(M77:M81) -> 0 | N76: =SUM(N77:N81) -> 0 | O76: =SUM(O77:O81) -> 0 | P76: =SUM(P77:P81) -> 0 | Q76: =SUM(Q77:Q81) -> 0 | R76: =SUM(R77:R81) -> 0 | ... T76: =SUM(T77:T81) -> 0 | U76: =SUM(K76:T76) -> 0
A77: 4. Universal Waste (UW) * - Other batteries (recycled) | J77: =SUM(B77:I77) -> 0 | U77: =SUM(K77:T77) -> 0
A78: 4. Universal Waste (UW) * - Other batteries (landfilled) | J78: =SUM(B78:I78) -> 0 | U78: =SUM(K78:T78) -> 0
A79: 4. Universal Waste (UW) * - Alkaline batteries | J79: =SUM(B79:I79) -> 0 | U79: =SUM(K79:T79) -> 0
A80: 4. Universal Waste (UW) * - Lithium batteries | J80: =SUM(B80:I80) -> 0 | U80: =SUM(K80:T80) -> 0
A81: 4. Universal Waste (UW) * - Gell cell batteries | J81: =SUM(B81:I81) -> 0 | U81: =SUM(K81:T81) -> 0
A82: 4. Universal Waste (UW) * - Aerosol cans | J82: =SUM(B82:I82) -> 0 | U82: =SUM(K82:T82) -> 0
A83: 4. Universal Waste (UW) * - subtotal | B83: =B55+B56+B57+B60+B71+B76+B82 -> 0 | C83: =C55+C56+C57+C60+C71+C76+C82 -> 0 | D83: =D55+D56+D57+D60+D71+D76+D82 -> 0 | E83: =E55+E56+E57+E60+E71+E76+E82 -> 0 | F83: =F55+F56+F57+F60+F71+F76+F82 -> 0 | G83: =G55+G56+G57+G60+G71+G76+G82 -> 0 | H83: =H55+H56+H57+H60+H71+H76+H82 -> 0 | I83: =I55+I56+I57+I60+I71+I76+I82 -> 0 | J83: =SUM(B83:I83) -> 0 | K83: =K55+K56+K57+K60+K71+K76+K82 -> 0 | L83: =L55+L56+L57+L60+L71+L76+L82 -> 0 | M83: =M55+M56+M57+M60+M71+M76+M82 -> 0 | N83: =N55+N56+N57+N60+N71+N76+N82 -> 0 | O83: =O55+O56+O57+O60+O71+O76+O82 -> 0 | P83: =P55+P56+P57+P60+P71+P76+P82 -> 0 | Q83: =Q55+Q56+Q57+Q60+Q71+Q76+Q82 -> 0 | R83: =R55+R56+R57+R60+R71+R76+R82 -> 0 | ... T83: =T55+T56+T57+T60+T71+T76+T82 -> 0 | U83: =SUM(K83:T83) -> 0
A84: Electronic Waste (UW) - Covered Electronic Devices | J84: =SUM(B84:I84) -> 0 | U84: =SUM(K84:T84) -> 0
A85: Electronic Waste (UW) - Other Electronic Devices | J85: =SUM(B85:I85) -> 0 | U85: =SUM(K85:T85) -> 0
A86: Electronic Waste (UW) - subtotal | B86: =SUM(B84:B85) -> 0 | C86: =SUM(C84:C85) -> 0 | D86: =SUM(D84:D85) -> 0 | E86: =SUM(E84:E85) -> 0 | F86: =SUM(F84:F85) -> 0 | G86: =SUM(G84:G85) -> 0 | H86: =SUM(H84:H85) -> 0 | I86: =SUM(I84:I85) -> 0 | J86: =SUM(B86:I86) -> 0 | K86: =SUM(K84:K85) -> 0 | L86: =SUM(L84:L85) -> 0 | M86: =SUM(M84:M85) -> 0 | N86: =SUM(N84:N85) -> 0 | O86: =SUM(O84:O85) -> 0 | P86: =SUM(P84:P85) -> 0 | Q86: =SUM(Q84:Q85) -> 0 | R86: =SUM(R84:R85) -> 0 | ... T86: =SUM(T84:T85) -> 0 | U86: =SUM(K86:T86) -> 0
A87: all UW subtotal | B87: =SUM(B83+B86) -> 0 | C87: =SUM(C83+C86) -> 0 | D87: =SUM(D83+D86) -> 0 | E87: =SUM(E83+E86) -> 0 | F87: =SUM(F83+F86) -> 0 | G87: =SUM(G83+G86) -> 0 | H87: =SUM(H83+H86) -> 0 | I87: =SUM(I83+I86) -> 0 | J87: =SUM(B87:I87) -> 0 | K87: =K83+K86 -> 0 | L87: =L83+L86 -> 0 | M87: =M83+M86 -> 0 | N87: =N83+N86 -> 0 | O87: =O83+O86 -> 0 | P87: =P83+P86 -> 0 | Q87: =Q83+Q86 -> 0 | R87: =R83+R86 -> 0 | ... T87: =T83+T86 -> 0 | U87: =SUM(K87:T87) -> 0
A88: 5. Acid - Inorganic and organic acid | B88: =SUM(B89:B95) -> 0 | C88: =SUM(C89:C95) -> 0 | D88: =SUM(D89:D95) -> 0 | E88: =SUM(E89:E95) -> 0 | F88: =SUM(F89:F95) -> 0 | G88: =SUM(G89:G95) -> 0 | H88: =SUM(H89:H95) -> 0 | I88: =SUM(I89:I95) -> 0 | J88: =SUM(B88:I88) -> 0 | K88: =SUM(K89:K95) -> 0 | L88: =SUM(L89:L95) -> 0 | M88: =SUM(M89:M95) -> 0 | N88: =SUM(N89:N95) -> 0 | O88: =SUM(O89:O95) -> 0 | P88: =SUM(P89:P95) -> 0 | Q88: =SUM(Q89:Q95) -> 0 | R88: =SUM(R89:R95) -> 0 | ... T88: =SUM(T89:T95) -> 0 | U88: =SUM(K88:T88) -> 0
A89: 5. Acid - Inorganic and organic acid (mixed) | J89: =SUM(B89:I89) -> 0 | U89: =SUM(K89:T89) -> 0
A90: 5. Acid - Inorganic acid (solid and liquid) | J90: =SUM(B90:I90) -> 0 | U90: =SUM(K90:T90) -> 0
A91: 5. Acid - Inorganic acid (solid) | J91: =SUM(B91:I91) -> 0 | U91: =SUM(K91:T91) -> 0
A92: 5. Acid - Inorganic acid (liquid) | J92: =SUM(B92:I92) -> 0 | U92: =SUM(K92:T92) -> 0
A93: 5. Acid - Organic acid (solid and liquid) | J93: =SUM(B93:I93) -> 0 | U93: =SUM(K93:T93) -> 0
A94: 5. Acid - Organic acid (solid) | J94: =SUM(B94:I94) -> 0 | U94: =SUM(K94:T94) -> 0
A95: 5. Acid - Organic acid (liquid) | J95: =SUM(B95:I95) -> 0 | U95: =SUM(K95:T95) -> 0
A96: 6. Base - Inorganic and organic base | B96: =SUM(B97:B103) -> 0 | C96: =SUM(C97:C103) -> 0 | D96: =SUM(D97:D103) -> 0 | E96: =SUM(E97:E103) -> 0 | F96: =SUM(F97:F103) -> 0 | G96: =SUM(G97:G103) -> 0 | H96: =SUM(H97:H103) -> 0 | I96: =SUM(I97:I103) -> 0 | J96: =SUM(B96:I96) -> 0 | K96: =SUM(K97:K103) -> 0 | L96: =SUM(L97:L103) -> 0 | M96: =SUM(M97:M103) -> 0 | N96: =SUM(N97:N103) -> 0 | O96: =SUM(O97:O103) -> 0 | P96: =SUM(P97:P103) -> 0 | Q96: =SUM(Q97:Q103) -> 0 | R96: =SUM(R97:R103) -> 0 | ... T96: =SUM(T97:T103) -> 0 | U96: =SUM(K96:T96) -> 0
A97: 6. Base - Inorganic and organic base (mixed) | J97: =SUM(B97:I97) -> 0 | U97: =SUM(K97:T97) -> 0
A98: 6. Base - Inorganic base (solid and liquid) | J98: =SUM(B98:I98) -> 0 | U98: =SUM(K98:T98) -> 0
A99: 6. Base - Inorganic base (solid) | J99: =SUM(B99:I99) -> 0 | U99: =SUM(K99:T99) -> 0
A100: 6. Base - Inorganic base (liquid) | J100: =SUM(B100:I100) -> 0 | U100: =SUM(K100:T100) -> 0
A101: 6. Base - Organic base (solid and liquid) | J101: =SUM(B101:I101) -> 0 | U101: =SUM(K101:T101) -> 0
...

Sheet Nov
A2: åTrack more detail? Click [2] at top left.
A3: Material Type | B3: Pounds Collected by Program Type - Permanent Facility | C3: Pounds Collected by Program Type - Temporary (periodic) Facility | D3: Pounds Collected by Program Type - Mobile Facility | E3: Pounds Collected by Program Type - Recycle-only Facility | F3: Pounds Collected by Program Type - Door to Door (residential) Program | G3: Pounds Collected by Program Type - Curbside Program | H3: Pounds Collected by Program Type - Load Check | I3: Pounds Collected by Program Type - "Other" Prog Type (PT) PT_______ | J3: Pounds Collected by Program Type - Total Collected (pounds) | K3: Pounds Disposed / Diverted by Management Method - Destructive Incineration | L3: Pounds Disposed / Diverted by Management Method - Fuel Incineration | M3: Pounds Disposed / Diverted by Management Method - Landfill | N3: Pounds Disposed / Diverted by Management Method - Neutralization / Treatment | O3: Pounds Disposed / Diverted by Management Method - Recycled | P3: Pounds Disposed / Diverted by Management Method - Reused | Q3: Pounds Disposed / Diverted by Management Method - Stabilization | R3: Pounds Disposed / Diverted by Management Method - PaintCare | S3: Pounds Disposed / Diverted by Management Method - PaintCare Reuse | T3: Pounds Disposed / Diverted by Management Method - TRC | U3: Pounds Disposed / Diverted by Management Method - Total Disposed / Diverted (pounds)
A4: 1. Flammable and Poison - Flammable solids / liquids | B4: =SUM(B5:B8) -> 0 | C4: =SUM(C5:C8) -> 0 | D4: =SUM(D5:D8) -> 0 | E4: =SUM(E5:E8) -> 0 | F4: =SUM(F5:F8) -> 0 | G4: =SUM(G5:G8) -> 0 | H4: =SUM(H5:H8) -> 0 | I4: =SUM(I5:I8) -> 0 | J4: =SUM(B4:I4) -> 0 | K4: =SUM(K5:K8) -> 0 | L4: =SUM(L5:L8) -> 0 | M4: =SUM(M5:M8) -> 0 | N4: =SUM(N5:N8) -> 0 | O4: =SUM(O5:O8) -> 0 | P4: =SUM(P5:P8) -> 0 | Q4: =SUM(Q5:Q8) -> 0 | R4: =SUM(R5:R8) -> 0 | ... T4: =SUM(T5:T8) -> 0 | U4: =SUM(K4:T4) -> 0
A5: 1. Flammable and Poison - Flammable solids | J5: =SUM(B5:I5) -> 0 | U5: =SUM(K5:T5) -> 0
A6: 1. Flammable and Poison - Flammable liquids (loose pack) | J6: =SUM(B6:I6) -> 0 | U6: =SUM(K6:T6) -> 0
A7: 1. Flammable and Poison - Flammable cylinders | J7: =SUM(B7:I7) -> 0 | U7: =SUM(K7:T7) -> 0
A8: 1. Flammable and Poison - Non-halogenated solvents (flammable) | J8: =SUM(B8:I8) -> 0 | U8: =SUM(K8:T8) -> 0
A9: 1. Flammable and Poison - Bulked flammable liquids | J9: =SUM(B9:I9) -> 0 | U9: =SUM(K9:T9) -> 0
A10: 1. Flammable and Poison - Oil-based paints | B10: =SUM(B11:B14) -> 0 | C10: =SUM(C11:C14) -> 0 | D10: =SUM(D11:D14) -> 0 | E10: =SUM(E11:E14) -> 0 | F10: =SUM(F11:F14) -> 0 | G10: =SUM(G11:G14) -> 0 | H10: =SUM(H11:H14) -> 0 | I10: =SUM(I11:I14) -> 0 | J10: =SUM(B10:I10) -> 0 | K10: =SUM(K11:K14) -> 0 | L10: =SUM(L11:L14) -> 0 | M10: =SUM(M11:M14) -> 0 | N10: =SUM(N11:N14) -> 0 | O10: =SUM(O11:O14) -> 0 | P10: =SUM(P11:P14) -> 0 | Q10: =SUM(Q11:Q14) -> 0 | R10: =SUM(R11:R14) -> 0 | ... T10: =SUM(T11:T14) -> 0 | U10: =SUM(K10:T10) -> 0
A11: 1. Flammable and Poison - Oil-based paint (bulked) | J11: =SUM(B11:I11) -> 0 | U11: =SUM(K11:T11) -> 0
A12: 1. Flammable and Poison - Oil-based paint (loose packed) | J12: =SUM(B12:I12) -> 0 | U12: =SUM(K12:T12) -> 0
A13: 1. Flammable and Poison - Oil-based paint with PCBs | J13: =SUM(B13:I13) -> 0 | U13: =SUM(K13:T13) -> 0
A14: 1. Flammable and Poison - Oil-based paint sludge | J14: =SUM(B14:I14) -> 0 | U14: =SUM(K14:T14) -> 0
A15: 1. Flammable and Poison - Paint related material (PRM) | J15: =SUM(B15:I15) -> 0 | U15: =SUM(K15:T15) -> 0
A16: 1. Flammable and Poison - Poisons | B16: =SUM(B17:B28) -> 0 | C16: =SUM(C17:C28) -> 0 | D16: =SUM(D17:D28) -> 0 | E16: =SUM(E17:E28) -> 0 | F16: =SUM(F17:F28) -> 0 | G16: =SUM(G17:G28) -> 0 | H16: =SUM(H17:H28) -> 0 | I16: =SUM(I17:I28) -> 0 | J16: =SUM(B16:I16) -> 0 | K16: =SUM(K17:K28) -> 0 | L16: =SUM(L17:L28) -> 0 | M16: =SUM(M17:M28) -> 0 | N16: =SUM(N17:N28) -> 0 | O16: =SUM(O17:O28) -> 0 | P16: =SUM(P17:P28) -> 0 | Q16: =SUM(Q17:Q28) -> 0 | R16: =SUM(R17:R28) -> 0 | ... T16: =SUM(T17:T28) -> 0 | U16: =SUM(K16:T16) -> 0
A17: 1. Flammable and Poison - Poisons/toxic liquids | J17: =SUM(B17:I17) -> 0 | U17: =SUM(K17:T17) -> 0
A18: 1. Flammable and Poison - Poisons/toxic solids | J18: =SUM(B18:I18) -> 0 | U18: =SUM(K18:T18) -> 0
A19: 1. Flammable and Poison - Cyanides | J19: =SUM(B19:I19) -> 0 | U19: =SUM(K19:T19) -> 0
A20: 1. Flammable and Poison - Organic poisons/pesticides (solid) | J20: =SUM(B20:I20) -> 0 | U20: =SUM(K20:T20) -> 0
A21: 1. Flammable and Poison - Organic poisons/pesticides (liquid) | J21: =SUM(B21:I21) -> 0 | U21: =SUM(K21:T21) -> 0
A22: 1. Flammable and Poison - Solid lead waste (solder) | J22: =SUM(B22:I22) -> 0 | U22: =SUM(K22:T22) -> 0
A23: 1. Flammable and Poison - Inorganic poisons/pesticides (solid) | J23: =SUM(B23:I23) -> 0 | U23: =SUM(K23:T23) -> 0
A24: 1. Flammable and Poison - Inorganic poisons/pesticides (liquid) | J24: =SUM(B24:I24) -> 0 | U24: =SUM(K24:T24) -> 0
A25: 1. Flammable and Poison - Hypochlorite compounds | J25: =SUM(B25:I25) -> 0 | U25: =SUM(K25:T25) -> 0
A26: 1. Flammable and Poison - Solvent sludge | J26: =SUM(B26:I26) -> 0 | U26: =SUM(K26:T26) -> 0
A27: 1. Flammable and Poison - Halogenated solvents | J27: =SUM(B27:I27) -> 0 | U27: =SUM(K27:T27) -> 0
A28: 1. Flammable and Poison - Non-halogenated solvents (toxic) | J28: =SUM(B28:I28) -> 0 | U28: =SUM(K28:T28) -> 0
A29: 1. Flammable and Poison - Reactive and explosive | B29: =SUM(B30:B38) -> 0 | C29: =SUM(C30:C38) -> 0 | D29: =SUM(D30:D38) -> 0 | E29: =SUM(E30:E38) -> 0 | F29: =SUM(F30:F38) -> 0 | G29: =SUM(G30:G38) -> 0 | H29: =SUM(H30:H38) -> 0 | I29: =SUM(I30:I38) -> 0 | J29: =SUM(B29:I29) -> 0 | K29: =SUM(K30:K38) -> 0 | L29: =SUM(L30:L38) -> 0 | M29: =SUM(M30:M38) -> 0 | N29: =SUM(N30:N38) -> 0 | O29: =SUM(O30:O38) -> 0 | P29: =SUM(P30:P38) -> 0 | Q29: =SUM(Q30:Q38) -> 0 | R29: =SUM(R30:R38) -> 0 | ... T29: =SUM(T30:T38) -> 0 | U29: =SUM(K29:T29) -> 0
A30: 1. Flammable and Poison - Reactives | J30: =SUM(B30:I30) -> 0 | U30: =SUM(K30:T30) -> 0
A31: 1. Flammable and Poison - Reactive cyanides | J31: =SUM(B31:I31) -> 0 | U31: =SUM(K31:T31) -> 0
A32: 1. Flammable and Poison - Reactive sulfides | J32: =SUM(B32:I32) -> 0 | U32: =SUM(K32:T32) -> 0
A33: 1. Flammable and Poison - Water reactive compounds, flammable gas producing, heat generating | J33: =SUM(B33:I33) -> 0 | U33: =SUM(K33:T33) -> 0
A34: 1. Flammable and Poison - Water reactive compounds, acid gas producing | J34: =SUM(B34:I34) -> 0 | U34: =SUM(K34:T34) -> 0
A35: 1. Flammable and Poison - Water reactive compounds, ammonia gas producing | J35: =SUM(B35:I35) -> 0 | U35: =SUM(K35:T35) -> 0
A36: 1. Flammable and Poison - Explosives | J36: =SUM(B36:I36) -> 0 | U36: =SUM(K36:T36) -> 0
A37: 1. Flammable and Poison - Ammunition | J37: =SUM(B37:I37) -> 0 | U37: =SUM(K37:T37) -> 0
A38: 1. Flammable and Poison - Fusees (marine flares) | J38: =SUM(B38:I38) -> 0 | U38: =SUM(K38:T38) -> 0
A39: 1. Flammable and Poison - Compressed gas cylinders | J39: =SUM(B39:I39) -> 0 | U39: =SUM(K39:T39) -> 0
A40: 1. Flammable and Poison - subtotal | B40: =B4+B9+B10+B15+B16+B29+B39 -> 0 | C40: =C4+C9+C10+C15+C16+C29+C39 -> 0 | D40: =D4+D9+D10+D15+D16+D29+D39 -> 0 | E40: =E4+E9+E10+E15+E16+E29+E39 -> 0 | F40: =F4+F9+F10+F15+F16+F29+F39 -> 0 | G40: =G4+G9+G10+G15+G16+G29+G39 -> 0 | H40: =H4+H9+H10+H15+H16+H29+H39 -> 0 | I40: =I4+I9+I10+I15+I16+I29+I39 -> 0 | J40: =SUM(B40:I40) -> 0 | K40: =K4+K9+K10+K15+K16+K29+K39 -> 0 | L40: =L4+L9+L10+L15+L16+L29+L39 -> 0 | M40: =M4+M9+M10+M15+M16+M29+M39 -> 0 | N40: =N4+N9+N10+N15+N16+N29+N39 -> 0 | O40: =O4+O9+O10+O15+O16+O29+O39 -> 0 | P40: =P4+P9+P10+P15+P16+P29+P39 -> 0 | Q40: =Q4+Q9+Q10+Q15+Q16+Q29+Q39 -> 0 | R40: =R4+R9+R10+R15+R16+R29+R39 -> 0 | ... T40: =T4+T9+T10+T15+T16+T29+T39 -> 0 | U40: =SUM(K40:T40) -> 0
A41: 2. PCB -containing - PCB-containing paint | J41: =SUM(B41:I41) -> 0 | U41: =SUM(K41:T41) -> 0
A42: 2. PCB -containing - Other PCB waste (includes ballasts) | B42: =SUM(B43:B44) -> 0 | C42: =SUM(C43:C44) -> 0 | D42: =SUM(D43:D44) -> 0 | E42: =SUM(E43:E44) -> 0 | F42: =SUM(F43:F44) -> 0 | G42: =SUM(G43:G44) -> 0 | H42: =SUM(H43:H44) -> 0 | I42: =SUM(I43:I44) -> 0 | J42: =SUM(B42:I42) -> 0 | K42: =SUM(K43:K44) -> 0 | L42: =SUM(L43:L44) -> 0 | M42: =SUM(M43:M44) -> 0 | N42: =SUM(N43:N44) -> 0 | O42: =SUM(O43:O44) -> 0 | P42: =SUM(P43:P44) -> 0 | Q42: =SUM(Q43:Q44) -> 0 | R42: =SUM(R43:R44) -> 0 | ... T42: =SUM(T43:T44) -> 0 | U42: =SUM(K42:T42) -> 0
A43: 2. PCB -containing - Other PCB waste (solid) | J43: =SUM(B43:I43) -> 0 | U43: =SUM(K43:T43) -> 0
A44: 2. PCB -containing - Other PCB waste (liquid) | J44: =SUM(B44:I44) -> 0 | U44: =SUM(K44:T44) -> 0
A45: 2. PCB -containing - subtotal | B45: =SUM(B41:B42) -> 0 | C45: =SUM(C41:C42) -> 0 | D45: =SUM(D41:D42) -> 0 | E45: =SUM(E41:E42) -> 0 | F45: =SUM(F41:F42) -> 0 | G45: =SUM(G41:G42) -> 0 | H45: =SUM(H41:H42) -> 0 | I45: =SUM(I41:I42) -> 0 | J45: =SUM(B45:I45) -> 0 | K45: =SUM(K41:K42) -> 0 | L45: =SUM(L41:L42) -> 0 | M45: =SUM(M41:M42) -> 0 | N45: =SUM(N41:N42) -> 0 | O45: =SUM(O41:O42) -> 0 | P45: =SUM(P41:P42) -> 0 | Q45: =SUM(Q41:Q42) -> 0 | R45: =SUM(R41:R42) -> 0 | ... T45: =SUM(T41:T42) -> 0 | U45: =SUM(K45:T45) -> 0
A46: 3. Reclaimable - Antifreeze | J46: =SUM(B46:I46) -> 0 | U46: =SUM(K46:T46) -> 0
A47: 3. Reclaimable - Auto type batteries (motor vehicles) | J47: =SUM(B47:I47) -> 0 | U47: =SUM(K47:T47) -> 0
A48: 3. Reclaimable - Latex paint | J48: =SUM(B48:I48) -> 0 | U48: =SUM(K48:T48) -> 0
A49: 3. Reclaimable - Motor oil/oil products | B49: =SUM(B50:B51) -> 0 | C49: =SUM(C50:C51) -> 0 | D49: =SUM(D50:D51) -> 0 | E49: =SUM(E50:E51) -> 0 | F49: =SUM(F50:F51) -> 0 | G49: =SUM(G50:G51) -> 0 | H49: =SUM(H50:H51) -> 0 | I49: =SUM(I50:I51) -> 0 | J49: =SUM(B49:I49) -> 0 | K49: =SUM(K50:K51) -> 0 | L49: =SUM(L50:L51) -> 0 | M49: =SUM(M50:M51) -> 0 | N49: =SUM(N50:N51) -> 0 | O49: =SUM(O50:O51) -> 0 | P49: =SUM(P50:P51) -> 0 | Q49: =SUM(Q50:Q51) -> 0 | R49: =SUM(R50:R51) -> 0 | ... T49: =SUM(T50:T51) -> 0 | U49: =SUM(K49:T49) -> 0
A50: 3. Reclaimable - Motor oil (contaminated) | J50: =SUM(B50:I50) -> 0 | U50: =SUM(K50:T50) -> 0
A51: 3. Reclaimable - Motor oil (non-contaminated) | J51: =SUM(B51:I51) -> 0 | U51: =SUM(K51:T51) -> 0
A52: 3. Reclaimable - Used oil filters (recyclables only) | J52: =SUM(B52:I52) -> 0 | U52: =SUM(K52:T52) -> 0
A53: 3. Reclaimable - subtotal | B53: =B46+B47+B48+B49+B52 -> 0 | C53: =C46+C47+C48+C49+C52 -> 0 | D53: =D46+D47+D48+D49+D52 -> 0 | E53: =E46+E47+E48+E49+E52 -> 0 | F53: =F46+F47+F48+F49+F52 -> 0 | G53: =G46+G47+G48+G49+G52 -> 0 | H53: =H46+H47+H48+H49+H52 -> 0 | I53: =I46+I47+I48+I49+I52 -> 0 | J53: =SUM(B53:I53) -> 0 | K53: =K46+K47+K48+K49+K52 -> 0 | L53: =L46+L47+L48+L49+L52 -> 0 | M53: =M46+M47+M48+M49+M52 -> 0 | N53: =N46+N47+N48+N49+N52 -> 0 | O53: =O46+O47+O48+O49+O52 -> 0 | P53: =P46+P47+P48+P49+P52 -> 0 | Q53: =Q46+Q47+Q48+Q49+Q52 -> 0 | R53: =R46+R47+R48+R49+R52 -> 0 | ... T53: =T46+T47+T48+T49+T52 -> 0 | U53: =SUM(K53:T53) -> 0
A54: * For purposes of the Form 303 reporting process, materials listed under the Universal Waste category do not necessarily need to be managed as Universal Waste (i.e., they can also be managed by the higher hazardous waste standard). Energy recovery or fuel incineration is not considered recycling. If the waste cannot be managed by recycling, then it must be managed as a hazardous waste.
A55: 4. Universal Waste (UW) * - Mercury containing automatic switches / thermometers / and novelties | J55: =SUM(B55:I55) -> 0 | U55: =SUM(K55:T55) -> 0
A56: 4. Universal Waste (UW) * - Mercury containing thermostats | J56: =SUM(B56:I56) -> 0 | U56: =SUM(K56:T56) -> 0
A57: 4. Universal Waste (UW) * - Mercury containing waste (other) | B57: =SUM(B58:B59) -> 0 | C57: =SUM(C58:C59) -> 0 | D57: =SUM(D58:D59) -> 0 | E57: =SUM(E58:E59) -> 0 | F57: =SUM(F58:F59) -> 0 | G57: =SUM(G58:G59) -> 0 | H57: =SUM(H58:H59) -> 0 | I57: =SUM(I58:I59) -> 0 | J57: =SUM(B57:I57) -> 0 | K57: =SUM(K58:K59) -> 0 | L57: =SUM(L58:L59) -> 0 | M57: =SUM(M58:M59) -> 0 | N57: =SUM(N58:N59) -> 0 | O57: =SUM(O58:O59) -> 0 | P57: =SUM(P58:P59) -> 0 | Q57: =SUM(Q58:Q59) -> 0 | R57: =SUM(R58:R59) -> 0 | ... T57: =SUM(T58:T59) -> 0 | U57: =SUM(K57:T57) -> 0
A58: 4. Universal Waste (UW) * - Elemental mercury | J58: =SUM(B58:I58) -> 0 | U58: =SUM(K58:T58) -> 0
A59: 4. Universal Waste (UW) * - Organic mercury compounds | J59: =SUM(B59:I59) -> 0 | U59: =SUM(K59:T59) -> 0
A60: 4. Universal Waste (UW) * - Lamps | B60: =SUM(B61:B70) -> 0 | C60: =SUM(C61:C70) -> 0 | D60: =SUM(D61:D70) -> 0 | E60: =SUM(E61:E70) -> 0 | F60: =SUM(F61:F70) -> 0 | G60: =SUM(G61:G70) -> 0 | H60: =SUM(H61:H70) -> 0 | I60: =SUM(I61:I70) -> 0 | J60: =SUM(B60:I60) -> 0 | K60: =SUM(K61:K70) -> 0 | L60: =SUM(L61:L70) -> 0 | M60: =SUM(M61:M70) -> 0 | N60: =SUM(N61:N70) -> 0 | O60: =SUM(O61:O70) -> 0 | P60: =SUM(P61:P70) -> 0 | Q60: =SUM(Q61:Q70) -> 0 | R60: =SUM(R61:R70) -> 0 | ... T60: =SUM(T61:T70) -> 0 | U60: =SUM(K60:T60) -> 0
A61: 4. Universal Waste (UW) * - Fluorescent tubes (straight) | J61: =SUM(B61:I61) -> 0 | U61: =SUM(K61:T61) -> 0
A62: 4. Universal Waste (UW) * - Fluorescent tubes (u-shaped) | J62: =SUM(B62:I62) -> 0 | U62: =SUM(K62:T62) -> 0
A63: 4. Universal Waste (UW) * - Compact fluorescent tubes (CFLs) | J63: =SUM(B63:I63) -> 0 | U63: =SUM(K63:T63) -> 0
A64: 4. Universal Waste (UW) * - Fluorescent tubes (broken) | J64: =SUM(B64:I64) -> 0 | U64: =SUM(K64:T64) -> 0
A65: 4. Universal Waste (UW) * - HID bulbs, Hg vapor, high pressure sodium, metal halides | J65: =SUM(B65:I65) -> 0 | U65: =SUM(K65:T65) -> 0
A66: 4. Universal Waste (UW) * - Shattershields | J66: =SUM(B66:I66) -> 0 | U66: =SUM(K66:T66) -> 0
A67: 4. Universal Waste (UW) * - Low pressure sodium bulbs/lamsp | J67: =SUM(B67:I67) -> 0 | U67: =SUM(K67:T67) -> 0
A68: 4. Universal Waste (UW) * - Neon bulbs & related material | J68: =SUM(B68:I68) -> 0 | U68: =SUM(K68:T68) -> 0
A69: 4. Universal Waste (UW) * - UV lamps | J69: =SUM(B69:I69) -> 0 | U69: =SUM(K69:T69) -> 0
A70: 4. Universal Waste (UW) * - Lamps (other) | J70: =SUM(B70:I70) -> 0 | U70: =SUM(K70:T70) -> 0
A71: 4. Universal Waste (UW) * - Rechargeable batteries | B71: =SUM(B72:B75) -> 0 | C71: =SUM(C72:C75) -> 0 | D71: =SUM(D72:D75) -> 0 | E71: =SUM(E72:E75) -> 0 | F71: =SUM(F72:F75) -> 0 | G71: =SUM(G72:G75) -> 0 | H71: =SUM(H72:H75) -> 0 | I71: =SUM(I72:I75) -> 0 | J71: =SUM(B71:I71) -> 0 | K71: =SUM(K72:K75) -> 0 | L71: =SUM(L72:L75) -> 0 | M71: =SUM(M72:M75) -> 0 | N71: =SUM(N72:N75) -> 0 | O71: =SUM(O72:O75) -> 0 | P71: =SUM(P72:P75) -> 0 | Q71: =SUM(Q72:Q75) -> 0 | R71: =SUM(R72:R75) -> 0 | ... T71: =SUM(T72:T75) -> 0 | U71: =SUM(K71:T71) -> 0
A72: 4. Universal Waste (UW) * - Nickel-cadmium (NiCd) | J72: =SUM(B72:I72) -> 0 | U72: =SUM(K72:T72) -> 0
A73: 4. Universal Waste (UW) * - Nickel metal hydride (NiMH) | J73: =SUM(B73:I73) -> 0 | U73: =SUM(K73:T73) -> 0
A74: 4. Universal Waste (UW) * - Lithium-ion | J74: =SUM(B74:I74) -> 0 | U74: =SUM(K74:T74) -> 0
A75: 4. Universal Waste (UW) * - Rechargeable batteries (other) | J75: =SUM(B75:I75) -> 0 | U75: =SUM(K75:T75) -> 0
A76: 4. Universal Waste (UW) * - Other batteries | B76: =SUM(B77:B81) -> 0 | C76: =SUM(C77:C81) -> 0 | D76: =SUM(D77:D81) -> 0 | E76: =SUM(E77:E81) -> 0 | F76: =SUM(F77:F81) -> 0 | G76: =SUM(G77:G81) -> 0 | H76: =SUM(H77:H81) -> 0 | I76: =SUM(I77:I81) -> 0 | J76: =SUM(B76:I76) -> 0 | K76: =SUM(K77:K81) -> 0 | L76: =SUM(L77:L81) -> 0 | M76: =SUM(M77:M81) -> 0 | N76: =SUM(N77:N81) -> 0 | O76: =SUM(O77:O81) -> 0 | P76: =SUM(P77:P81) -> 0 | Q76: =SUM(Q77:Q81) -> 0 | R76: =SUM(R77:R81) -> 0 | ... T76: =SUM(T77:T81) -> 0 | U76: =SUM(K76:T76) -> 0
A77: 4. Universal Waste (UW) * - Other batteries (recycled) | J77: =SUM(B77:I77) -> 0 | U77: =SUM(K77:T77) -> 0
A78: 4. Universal Waste (UW) * - Other batteries (landfilled) | J78: =SUM(B78:I78) -> 0 | U78: =SUM(K78:T78) -> 0
A79: 4. Universal Waste (UW) * - Alkaline batteries | J79: =SUM(B79:I79) -> 0 | U79: =SUM(K79:T79) -> 0
A80: 4. Universal Waste (UW) * - Lithium batteries | J80: =SUM(B80:I80) -> 0 | U80: =SUM(K80:T80) -> 0
A81: 4. Universal Waste (UW) * - Gell cell batteries | J81: =SUM(B81:I81) -> 0 | U81: =SUM(K81:T81) -> 0
A82: 4. Universal Waste (UW) * - Aerosol cans | J82: =SUM(B82:I82) -> 0 | U82: =SUM(K82:T82) -> 0
A83: 4. Universal Waste (UW) * - subtotal | B83: =B55+B56+B57+B60+B71+B76+B82 -> 0 | C83: =C55+C56+C57+C60+C71+C76+C82 -> 0 | D83: =D55+D56+D57+D60+D71+D76+D82 -> 0 | E83: =E55+E56+E57+E60+E71+E76+E82 -> 0 | F83: =F55+F56+F57+F60+F71+F76+F82 -> 0 | G83: =G55+G56+G57+G60+G71+G76+G82 -> 0 | H83: =H55+H56+H57+H60+H71+H76+H82 -> 0 | I83: =I55+I56+I57+I60+I71+I76+I82 -> 0 | J83: =SUM(B83:I83) -> 0 | K83: =K55+K56+K57+K60+K71+K76+K82 -> 0 | L83: =L55+L56+L57+L60+L71+L76+L82 -> 0 | M83: =M55+M56+M57+M60+M71+M76+M82 -> 0 | N83: =N55+N56+N57+N60+N71+N76+N82 -> 0 | O83: =O55+O56+O57+O60+O71+O76+O82 -> 0 | P83: =P55+P56+P57+P60+P71+P76+P82 -> 0 | Q83: =Q55+Q56+Q57+Q60+Q71+Q76+Q82 -> 0 | R83: =R55+R56+R57+R60+R71+R76+R82 -> 0 | ... T83: =T55+T56+T57+T60+T71+T76+T82 -> 0 | U83: =SUM(K83:T83) -> 0
A84: Electronic Waste (UW) - Covered Electronic Devices | J84: =SUM(B84:I84) -> 0 | U84: =SUM(K84:T84) -> 0
A85: Electronic Waste (UW) - Other Electronic Devices | J85: =SUM(B85:I85) -> 0 | U85: =SUM(K85:T85) -> 0
A86: Electronic Waste (UW) - subtotal | B86: =SUM(B84:B85) -> 0 | C86: =SUM(C84:C85) -> 0 | D86: =SUM(D84:D85) -> 0 | E86: =SUM(E84:E85) -> 0 | F86: =SUM(F84:F85) -> 0 | G86: =SUM(G84:G85) -> 0 | H86: =SUM(H84:H85) -> 0 | I86: =SUM(I84:I85) -> 0 | J86: =SUM(B86:I86) -> 0 | K86: =SUM(K84:K85) -> 0 | L86: =SUM(L84:L85) -> 0 | M86: =SUM(M84:M85) -> 0 | N86: =SUM(N84:N85) -> 0 | O86: =SUM(O84:O85) -> 0 | P86: =SUM(P84:P85) -> 0 | Q86: =SUM(Q84:Q85) -> 0 | R86: =SUM(R84:R85) -> 0 | ... T86: =SUM(T84:T85) -> 0 | U86: =SUM(K86:T86) -> 0
A87: all UW subtotal | B87: =SUM(B83+B86) -> 0 | C87: =SUM(C83+C86) -> 0 | D87: =SUM(D83+D86) -> 0 | E87: =SUM(E83+E86) -> 0 | F87: =SUM(F83+F86) -> 0 | G87: =SUM(G83+G86) -> 0 | H87: =SUM(H83+H86) -> 0 | I87: =SUM(I83+I86) -> 0 | J87: =SUM(B87:I87) -> 0 | K87: =K83+K86 -> 0 | L87: =L83+L86 -> 0 | M87: =M83+M86 -> 0 | N87: =N83+N86 -> 0 | O87: =O83+O86 -> 0 | P87: =P83+P86 -> 0 | Q87: =Q83+Q86 -> 0 | R87: =R83+R86 -> 0 | ... T87: =T83+T86 -> 0 | U87: =SUM(K87:T87) -> 0
A88: 5. Acid - Inorganic and organic acid | B88: =SUM(B89:B95) -> 0 | C88: =SUM(C89:C95) -> 0 | D88: =SUM(D89:D95) -> 0 | E88: =SUM(E89:E95) -> 0 | F88: =SUM(F89:F95) -> 0 | G88: =SUM(G89:G95) -> 0 | H88: =SUM(H89:H95) -> 0 | I88: =SUM(I89:I95) -> 0 | J88: =SUM(B88:I88) -> 0 | K88: =SUM(K89:K95) -> 0 | L88: =SUM(L89:L95) -> 0 | M88: =SUM(M89:M95) -> 0 | N88: =SUM(N89:N95) -> 0 | O88: =SUM(O89:O95) -> 0 | P88: =SUM(P89:P95) -> 0 | Q88: =SUM(Q89:Q95) -> 0 | R88: =SUM(R89:R95) -> 0 | ... T88: =SUM(T89:T95) -> 0 | U88: =SUM(K88:T88) -> 0
A89: 5. Acid - Inorganic and organic acid (mixed) | J89: =SUM(B89:I89) -> 0 | U89: =SUM(K89:T89) -> 0
A90: 5. Acid - Inorganic acid (solid and liquid) | J90: =SUM(B90:I90) -> 0 | U90: =SUM(K90:T90) -> 0
A91: 5. Acid - Inorganic acid (solid) | J91: =SUM(B91:I91) -> 0 | U91: =SUM(K91:T91) -> 0
A92: 5. Acid - Inorganic acid (liquid) | J92: =SUM(B92:I92) -> 0 | U92: =SUM(K92:T92) -> 0
A93: 5. Acid - Organic acid (solid and liquid) | J93: =SUM(B93:I93) -> 0 | U93: =SUM(K93:T93) -> 0
A94: 5. Acid - Organic acid (solid) | J94: =SUM(B94:I94) -> 0 | U94: =SUM(K94:T94) -> 0
A95: 5. Acid - Organic acid (liquid) | J95: =SUM(B95:I95) -> 0 | U95: =SUM(K95:T95) -> 0
A96: 6. Base - Inorganic and organic base | B96: =SUM(B97:B103) -> 0 | C96: =SUM(C97:C103) -> 0 | D96: =SUM(D97:D103) -> 0 | E96: =SUM(E97:E103) -> 0 | F96: =SUM(F97:F103) -> 0 | G96: =SUM(G97:G103) -> 0 | H96: =SUM(H97:H103) -> 0 | I96: =SUM(I97:I103) -> 0 | J96: =SUM(B96:I96) -> 0 | K96: =SUM(K97:K103) -> 0 | L96: =SUM(L97:L103) -> 0 | M96: =SUM(M97:M103) -> 0 | N96: =SUM(N97:N103) -> 0 | O96: =SUM(O97:O103) -> 0 | P96: =SUM(P97:P103) -> 0 | Q96: =SUM(Q97:Q103) -> 0 | R96: =SUM(R97:R103) -> 0 | ... T96: =SUM(T97:T103) -> 0 | U96: =SUM(K96:T96) -> 0
A97: 6. Base - Inorganic and organic base (mixed) | J97: =SUM(B97:I97) -> 0 | U97: =SUM(K97:T97) -> 0
A98: 6. Base - Inorganic base (solid and liquid) | J98: =SUM(B98:I98) -> 0 | U98: =SUM(K98:T98) -> 0
A99: 6. Base - Inorganic base (solid) | J99: =SUM(B99:I99) -> 0 | U99: =SUM(K99:T99) -> 0
A100: 6. Base - Inorganic base (liquid) | J100: =SUM(B100:I100) -> 0 | U100: =SUM(K100:T100) -> 0
A101: 6. Base - Organic base (solid and liquid) | J101: =SUM(B101:I101) -> 0 | U101: =SUM(K101:T101) -> 0
...

Sheet Dec
A2: åTrack more detail? Click [2] at top left.
A3: Material Type | B3: Pounds Collected by Program Type - Permanent Facility | C3: Pounds Collected by Program Type - Temporary (periodic) Facility | D3: Pounds Collected by Program Type - Mobile Facility | E3: Pounds Collected by Program Type - Recycle-only Facility | F3: Pounds Collected by Program Type - Door to Door (residential) Program | G3: Pounds Collected by Program Type - Curbside Program | H3: Pounds Collected by Program Type - Load Check | I3: Pounds Collected by Program Type - "Other" Prog Type (PT) PT_______ | J3: Pounds Collected by Program Type - Total Collected (pounds) | K3: Pounds Disposed / Diverted by Management Method - Destructive Incineration | L3: Pounds Disposed / Diverted by Management Method - Fuel Incineration | M3: Pounds Disposed / Diverted by Management Method - Landfill | N3: Pounds Disposed / Diverted by Management Method - Neutralization / Treatment | O3: Pounds Disposed / Diverted by Management Method - Recycled | P3: Pounds Disposed / Diverted by Management Method - Reused | Q3: Pounds Disposed / Diverted by Management Method - Stabilization | R3: Pounds Disposed / Diverted by Management Method - PaintCare | S3: Pounds Disposed / Diverted by Management Method - PaintCare Reuse | T3: Pounds Disposed / Diverted by Management Method - TRC | U3: Pounds Disposed / Diverted by Management Method - Total Disposed / Diverted (pounds)
A4: 1. Flammable and Poison - Flammable solids / liquids | B4: =SUM(B5:B8) -> 0 | C4: =SUM(C5:C8) -> 0 | D4: =SUM(D5:D8) -> 0 | E4: =SUM(E5:E8) -> 0 | F4: =SUM(F5:F8) -> 0 | G4: =SUM(G5:G8) -> 0 | H4: =SUM(H5:H8) -> 0 | I4: =SUM(I5:I8) -> 0 | J4: =SUM(B4:I4) -> 0 | K4: =SUM(K5:K8) -> 0 | L4: =SUM(L5:L8) -> 0 | M4: =SUM(M5:M8) -> 0 | N4: =SUM(N5:N8) -> 0 | O4: =SUM(O5:O8) -> 0 | P4: =SUM(P5:P8) -> 0 | Q4: =SUM(Q5:Q8) -> 0 | R4: =SUM(R5:R8) -> 0 | ... T4: =SUM(T5:T8) -> 0 | U4: =SUM(K4:T4) -> 0
A5: 1. Flammable and Poison - Flammable solids | J5: =SUM(B5:I5) -> 0 | U5: =SUM(K5:T5) -> 0
A6: 1. Flammable and Poison - Flammable liquids (loose pack) | J6: =SUM(B6:I6) -> 0 | U6: =SUM(K6:T6) -> 0
A7: 1. Flammable and Poison - Flammable cylinders | J7: =SUM(B7:I7) -> 0 | U7: =SUM(K7:T7) -> 0
A8: 1. Flammable and Poison - Non-halogenated solvents (flammable) | J8: =SUM(B8:I8) -> 0 | U8: =SUM(K8:T8) -> 0
A9: 1. Flammable and Poison - Bulked flammable liquids | J9: =SUM(B9:I9) -> 0 | U9: =SUM(K9:T9) -> 0
A10: 1. Flammable and Poison - Oil-based paints | B10: =SUM(B11:B14) -> 0 | C10: =SUM(C11:C14) -> 0 | D10: =SUM(D11:D14) -> 0 | E10: =SUM(E11:E14) -> 0 | F10: =SUM(F11:F14) -> 0 | G10: =SUM(G11:G14) -> 0 | H10: =SUM(H11:H14) -> 0 | I10: =SUM(I11:I14) -> 0 | J10: =SUM(B10:I10) -> 0 | K10: =SUM(K11:K14) -> 0 | L10: =SUM(L11:L14) -> 0 | M10: =SUM(M11:M14) -> 0 | N10: =SUM(N11:N14) -> 0 | O10: =SUM(O11:O14) -> 0 | P10: =SUM(P11:P14) -> 0 | Q10: =SUM(Q11:Q14) -> 0 | R10: =SUM(R11:R14) -> 0 | ... T10: =SUM(T11:T14) -> 0 | U10: =SUM(K10:T10) -> 0
A11: 1. Flammable and Poison - Oil-based paint (bulked) | J11: =SUM(B11:I11) -> 0 | U11: =SUM(K11:T11) -> 0
A12: 1. Flammable and Poison - Oil-based paint (loose packed) | J12: =SUM(B12:I12) -> 0 | U12: =SUM(K12:T12) -> 0
A13: 1. Flammable and Poison - Oil-based paint with PCBs | J13: =SUM(B13:I13) -> 0 | U13: =SUM(K13:T13) -> 0
A14: 1. Flammable and Poison - Oil-based paint sludge | J14: =SUM(B14:I14) -> 0 | U14: =SUM(K14:T14) -> 0
A15: 1. Flammable and Poison - Paint related material (PRM) | J15: =SUM(B15:I15) -> 0 | U15: =SUM(K15:T15) -> 0
A16: 1. Flammable and Poison - Poisons | B16: =SUM(B17:B28) -> 0 | C16: =SUM(C17:C28) -> 0 | D16: =SUM(D17:D28) -> 0 | E16: =SUM(E17:E28) -> 0 | F16: =SUM(F17:F28) -> 0 | G16: =SUM(G17:G28) -> 0 | H16: =SUM(H17:H28) -> 0 | I16: =SUM(I17:I28) -> 0 | J16: =SUM(B16:I16) -> 0 | K16: =SUM(K17:K28) -> 0 | L16: =SUM(L17:L28) -> 0 | M16: =SUM(M17:M28) -> 0 | N16: =SUM(N17:N28) -> 0 | O16: =SUM(O17:O28) -> 0 | P16: =SUM(P17:P28) -> 0 | Q16: =SUM(Q17:Q28) -> 0 | R16: =SUM(R17:R28) -> 0 | ... T16: =SUM(T17:T28) -> 0 | U16: =SUM(K16:T16) -> 0
A17: 1. Flammable and Poison - Poisons/toxic liquids | J17: =SUM(B17:I17) -> 0 | U17: =SUM(K17:T17) -> 0
A18: 1. Flammable and Poison - Poisons/toxic solids | J18: =SUM(B18:I18) -> 0 | U18: =SUM(K18:T18) -> 0
A19: 1. Flammable and Poison - Cyanides | J19: =SUM(B19:I19) -> 0 | U19: =SUM(K19:T19) -> 0
A20: 1. Flammable and Poison - Organic poisons/pesticides (solid) | J20: =SUM(B20:I20) -> 0 | U20: =SUM(K20:T20) -> 0
A21: 1. Flammable and Poison - Organic poisons/pesticides (liquid) | J21: =SUM(B21:I21) -> 0 | U21: =SUM(K21:T21) -> 0
A22: 1. Flammable and Poison - Solid lead waste (solder) | J22: =SUM(B22:I22) -> 0 | U22: =SUM(K22:T22) -> 0
A23: 1. Flammable and Poison - Inorganic poisons/pesticides (solid) | J23: =SUM(B23:I23) -> 0 | U23: =SUM(K23:T23) -> 0
A24: 1. Flammable and Poison - Inorganic poisons/pesticides (liquid) | J24: =SUM(B24:I24) -> 0 | U24: =SUM(K24:T24) -> 0
A25: 1. Flammable and Poison - Hypochlorite compounds | J25: =SUM(B25:I25) -> 0 | U25: =SUM(K25:T25) -> 0
A26: 1. Flammable and Poison - Solvent sludge | J26: =SUM(B26:I26) -> 0 | U26: =SUM(K26:T26) -> 0
A27: 1. Flammable and Poison - Halogenated solvents | J27: =SUM(B27:I27) -> 0 | U27: =SUM(K27:T27) -> 0
A28: 1. Flammable and Poison - Non-halogenated solvents (toxic) | J28: =SUM(B28:I28) -> 0 | U28: =SUM(K28:T28) -> 0
A29: 1. Flammable and Poison - Reactive and explosive | B29: =SUM(B30:B38) -> 0 | C29: =SUM(C30:C38) -> 0 | D29: =SUM(D30:D38) -> 0 | E29: =SUM(E30:E38) -> 0 | F29: =SUM(F30:F38) -> 0 | G29: =SUM(G30:G38) -> 0 | H29: =SUM(H30:H38) -> 0 | I29: =SUM(I30:I38) -> 0 | J29: =SUM(B29:I29) -> 0 | K29: =SUM(K30:K38) -> 0 | L29: =SUM(L30:L38) -> 0 | M29: =SUM(M30:M38) -> 0 | N29: =SUM(N30:N38) -> 0 | O29: =SUM(O30:O38) -> 0 | P29: =SUM(P30:P38) -> 0 | Q29: =SUM(Q30:Q38) -> 0 | R29: =SUM(R30:R38) -> 0 | ... T29: =SUM(T30:T38) -> 0 | U29: =SUM(K29:T29) -> 0
A30: 1. Flammable and Poison - Reactives | J30: =SUM(B30:I30) -> 0 | U30: =SUM(K30:T30) -> 0
A31: 1. Flammable and Poison - Reactive cyanides | J31: =SUM(B31:I31) -> 0 | U31: =SUM(K31:T31) -> 0
A32: 1. Flammable and Poison - Reactive sulfides | J32: =SUM(B32:I32) -> 0 | U32: =SUM(K32:T32) -> 0
A33: 1. Flammable and Poison - Water reactive compounds, flammable gas producing, heat generating | J33: =SUM(B33:I33) -> 0 | U33: =SUM(K33:T33) -> 0
A34: 1. Flammable and Poison - Water reactive compounds, acid gas producing | J34: =SUM(B34:I34) -> 0 | U34: =SUM(K34:T34) -> 0
A35: 1. Flammable and Poison - Water reactive compounds, ammonia gas producing | J35: =SUM(B35:I35) -> 0 | U35: =SUM(K35:T35) -> 0
A36: 1. Flammable and Poison - Explosives | J36: =SUM(B36:I36) -> 0 | U36: =SUM(K36:T36) -> 0
A37: 1. Flammable and Poison - Ammunition | J37: =SUM(B37:I37) -> 0 | U37: =SUM(K37:T37) -> 0
A38: 1. Flammable and Poison - Fusees (marine flares) | J38: =SUM(B38:I38) -> 0 | U38: =SUM(K38:T38) -> 0
A39: 1. Flammable and Poison - Compressed gas cylinders | J39: =SUM(B39:I39) -> 0 | U39: =SUM(K39:T39) -> 0
A40: 1. Flammable and Poison - subtotal | B40: =B4+B9+B10+B15+B16+B29+B39 -> 0 | C40: =C4+C9+C10+C15+C16+C29+C39 -> 0 | D40: =D4+D9+D10+D15+D16+D29+D39 -> 0 | E40: =E4+E9+E10+E15+E16+E29+E39 -> 0 | F40: =F4+F9+F10+F15+F16+F29+F39 -> 0 | G40: =G4+G9+G10+G15+G16+G29+G39 -> 0 | H40: =H4+H9+H10+H15+H16+H29+H39 -> 0 | I40: =I4+I9+I10+I15+I16+I29+I39 -> 0 | J40: =SUM(B40:I40) -> 0 | K40: =K4+K9+K10+K15+K16+K29+K39 -> 0 | L40: =L4+L9+L10+L15+L16+L29+L39 -> 0 | M40: =M4+M9+M10+M15+M16+M29+M39 -> 0 | N40: =N4+N9+N10+N15+N16+N29+N39 -> 0 | O40: =O4+O9+O10+O15+O16+O29+O39 -> 0 | P40: =P4+P9+P10+P15+P16+P29+P39 -> 0 | Q40: =Q4+Q9+Q10+Q15+Q16+Q29+Q39 -> 0 | R40: =R4+R9+R10+R15+R16+R29+R39 -> 0 | ... T40: =T4+T9+T10+T15+T16+T29+T39 -> 0 | U40: =SUM(K40:T40) -> 0
A41: 2. PCB -containing - PCB-containing paint | J41: =SUM(B41:I41) -> 0 | U41: =SUM(K41:T41) -> 0
A42: 2. PCB -containing - Other PCB waste (includes ballasts) | B42: =SUM(B43:B44) -> 0 | C42: =SUM(C43:C44) -> 0 | D42: =SUM(D43:D44) -> 0 | E42: =SUM(E43:E44) -> 0 | F42: =SUM(F43:F44) -> 0 | G42: =SUM(G43:G44) -> 0 | H42: =SUM(H43:H44) -> 0 | I42: =SUM(I43:I44) -> 0 | J42: =SUM(B42:I42) -> 0 | K42: =SUM(K43:K44) -> 0 | L42: =SUM(L43:L44) -> 0 | M42: =SUM(M43:M44) -> 0 | N42: =SUM(N43:N44) -> 0 | O42: =SUM(O43:O44) -> 0 | P42: =SUM(P43:P44) -> 0 | Q42: =SUM(Q43:Q44) -> 0 | R42: =SUM(R43:R44) -> 0 | ... T42: =SUM(T43:T44) -> 0 | U42: =SUM(K42:T42) -> 0
A43: 2. PCB -containing - Other PCB waste (solid) | J43: =SUM(B43:I43) -> 0 | U43: =SUM(K43:T43) -> 0
A44: 2. PCB -containing - Other PCB waste (liquid) | J44: =SUM(B44:I44) -> 0 | U44: =SUM(K44:T44) -> 0
A45: 2. PCB -containing - subtotal | B45: =SUM(B41:B42) -> 0 | C45: =SUM(C41:C42) -> 0 | D45: =SUM(D41:D42) -> 0 | E45: =SUM(E41:E42) -> 0 | F45: =SUM(F41:F42) -> 0 | G45: =SUM(G41:G42) -> 0 | H45: =SUM(H41:H42) -> 0 | I45: =SUM(I41:I42) -> 0 | J45: =SUM(B45:I45) -> 0 | K45: =SUM(K41:K42) -> 0 | L45: =SUM(L41:L42) -> 0 | M45: =SUM(M41:M42) -> 0 | N45: =SUM(N41:N42) -> 0 | O45: =SUM(O41:O42) -> 0 | P45: =SUM(P41:P42) -> 0 | Q45: =SUM(Q41:Q42) -> 0 | R45: =SUM(R41:R42) -> 0 | ... T45: =SUM(T41:T42) -> 0 | U45: =SUM(K45:T45) -> 0
A46: 3. Reclaimable - Antifreeze | J46: =SUM(B46:I46) -> 0 | U46: =SUM(K46:T46) -> 0
A47: 3. Reclaimable - Auto type batteries (motor vehicles) | J47: =SUM(B47:I47) -> 0 | U47: =SUM(K47:T47) -> 0
A48: 3. Reclaimable - Latex paint | J48: =SUM(B48:I48) -> 0 | U48: =SUM(K48:T48) -> 0
A49: 3. Reclaimable - Motor oil/oil products | B49: =SUM(B50:B51) -> 0 | C49: =SUM(C50:C51) -> 0 | D49: =SUM(D50:D51) -> 0 | E49: =SUM(E50:E51) -> 0 | F49: =SUM(F50:F51) -> 0 | G49: =SUM(G50:G51) -> 0 | H49: =SUM(H50:H51) -> 0 | I49: =SUM(I50:I51) -> 0 | J49: =SUM(B49:I49) -> 0 | K49: =SUM(K50:K51) -> 0 | L49: =SUM(L50:L51) -> 0 | M49: =SUM(M50:M51) -> 0 | N49: =SUM(N50:N51) -> 0 | O49: =SUM(O50:O51) -> 0 | P49: =SUM(P50:P51) -> 0 | Q49: =SUM(Q50:Q51) -> 0 | R49: =SUM(R50:R51) -> 0 | ... T49: =SUM(T50:T51) -> 0 | U49: =SUM(K49:T49) -> 0
A50: 3. Reclaimable - Motor oil (contaminated) | J50: =SUM(B50:I50) -> 0 | U50: =SUM(K50:T50) -> 0
A51: 3. Reclaimable - Motor oil (non-contaminated) | J51: =SUM(B51:I51) -> 0 | U51: =SUM(K51:T51) -> 0
A52: 3. Reclaimable - Used oil filters (recyclables only) | J52: =SUM(B52:I52) -> 0 | U52: =SUM(K52:T52) -> 0
A53: 3. Reclaimable - subtotal | B53: =B46+B47+B48+B49+B52 -> 0 | C53: =C46+C47+C48+C49+C52 -> 0 | D53: =D46+D47+D48+D49+D52 -> 0 | E53: =E46+E47+E48+E49+E52 -> 0 | F53: =F46+F47+F48+F49+F52 -> 0 | G53: =G46+G47+G48+G49+G52 -> 0 | H53: =H46+H47+H48+H49+H52 -> 0 | I53: =I46+I47+I48+I49+I52 -> 0 | J53: =SUM(B53:I53) -> 0 | K53: =K46+K47+K48+K49+K52 -> 0 | L53: =L46+L47+L48+L49+L52 -> 0 | M53: =M46+M47+M48+M49+M52 -> 0 | N53: =N46+N47+N48+N49+N52 -> 0 | O53: =O46+O47+O48+O49+O52 -> 0 | P53: =P46+P47+P48+P49+P52 -> 0 | Q53: =Q46+Q47+Q48+Q49+Q52 -> 0 | R53: =R46+R47+R48+R49+R52 -> 0 | ... T53: =T46+T47+T48+T49+T52 -> 0 | U53: =SUM(K53:T53) -> 0
A54: * For purposes of the Form 303 reporting process, materials listed under the Universal Waste category do not necessarily need to be managed as Universal Waste (i.e., they can also be managed by the higher hazardous waste standard). Energy recovery or fuel incineration is not considered recycling. If the waste cannot be managed by recycling, then it must be managed as a hazardous waste.
A55: 4. Universal Waste (UW) * - Mercury containing automatic switches / thermometers / and novelties | J55: =SUM(B55:I55) -> 0 | U55: =SUM(K55:T55) -> 0
A56: 4. Universal Waste (UW) * - Mercury containing thermostats | J56: =SUM(B56:I56) -> 0 | U56: =SUM(K56:T56) -> 0
A57: 4. Universal Waste (UW) * - Mercury containing waste (other) | B57: =SUM(B58:B59) -> 0 | C57: =SUM(C58:C59) -> 0 | D57: =SUM(D58:D59) -> 0 | E57: =SUM(E58:E59) -> 0 | F57: =SUM(F58:F59) -> 0 | G57: =SUM(G58:G59) -> 0 | H57: =SUM(H58:H59) -> 0 | I57: =SUM(I58:I59) -> 0 | J57: =SUM(B57:I57) -> 0 | K57: =SUM(K58:K59) -> 0 | L57: =SUM(L58:L59) -> 0 | M57: =SUM(M58:M59) -> 0 | N57: =SUM(N58:N59) -> 0 | O57: =SUM(O58:O59) -> 0 | P57: =SUM(P58:P59) -> 0 | Q57: =SUM(Q58:Q59) -> 0 | R57: =SUM(R58:R59) -> 0 | ... T57: =SUM(T58:T59) -> 0 | U57: =SUM(K57:T57) -> 0
A58: 4. Universal Waste (UW) * - Elemental mercury | J58: =SUM(B58:I58) -> 0 | U58: =SUM(K58:T58) -> 0
A59: 4. Universal Waste (UW) * - Organic mercury compounds | J59: =SUM(B59:I59) -> 0 | U59: =SUM(K59:T59) -> 0
A60: 4. Universal Waste (UW) * - Lamps | B60: =SUM(B61:B70) -> 0 | C60: =SUM(C61:C70) -> 0 | D60: =SUM(D61:D70) -> 0 | E60: =SUM(E61:E70) -> 0 | F60: =SUM(F61:F70) -> 0 | G60: =SUM(G61:G70) -> 0 | H60: =SUM(H61:H70) -> 0 | I60: =SUM(I61:I70) -> 0 | J60: =SUM(B60:I60) -> 0 | K60: =SUM(K61:K70) -> 0 | L60: =SUM(L61:L70) -> 0 | M60: =SUM(M61:M70) -> 0 | N60: =SUM(N61:N70) -> 0 | O60: =SUM(O61:O70) -> 0 | P60: =SUM(P61:P70) -> 0 | Q60: =SUM(Q61:Q70) -> 0 | R60: =SUM(R61:R70) -> 0 | ... T60: =SUM(T61:T70) -> 0 | U60: =SUM(K60:T60) -> 0
A61: 4. Universal Waste (UW) * - Fluorescent tubes (straight) | J61: =SUM(B61:I61) -> 0 | U61: =SUM(K61:T61) -> 0
A62: 4. Universal Waste (UW) * - Fluorescent tubes (u-shaped) | J62: =SUM(B62:I62) -> 0 | U62: =SUM(K62:T62) -> 0
A63: 4. Universal Waste (UW) * - Compact fluorescent tubes (CFLs) | J63: =SUM(B63:I63) -> 0 | U63: =SUM(K63:T63) -> 0
A64: 4. Universal Waste (UW) * - Fluorescent tubes (broken) | J64: =SUM(B64:I64) -> 0 | U64: =SUM(K64:T64) -> 0
A65: 4. Universal Waste (UW) * - HID bulbs, Hg vapor, high pressure sodium, metal halides | J65: =SUM(B65:I65) -> 0 | U65: =SUM(K65:T65) -> 0
A66: 4. Universal Waste (UW) * - Shattershields | J66: =SUM(B66:I66) -> 0 | U66: =SUM(K66:T66) -> 0
A67: 4. Universal Waste (UW) * - Low pressure sodium bulbs/lamsp | J67: =SUM(B67:I67) -> 0 | U67: =SUM(K67:T67) -> 0
A68: 4. Universal Waste (UW) * - Neon bulbs & related material | J68: =SUM(B68:I68) -> 0 | U68: =SUM(K68:T68) -> 0
A69: 4. Universal Waste (UW) * - UV lamps | J69: =SUM(B69:I69) -> 0 | U69: =SUM(K69:T69) -> 0
A70: 4. Universal Waste (UW) * - Lamps (other) | J70: =SUM(B70:I70) -> 0 | U70: =SUM(K70:T70) -> 0
A71: 4. Universal Waste (UW) * - Rechargeable batteries | B71: =SUM(B72:B75) -> 0 | C71: =SUM(C72:C75) -> 0 | D71: =SUM(D72:D75) -> 0 | E71: =SUM(E72:E75) -> 0 | F71: =SUM(F72:F75) -> 0 | G71: =SUM(G72:G75) -> 0 | H71: =SUM(H72:H75) -> 0 | I71: =SUM(I72:I75) -> 0 | J71: =SUM(B71:I71) -> 0 | K71: =SUM(K72:K75) -> 0 | L71: =SUM(L72:L75) -> 0 | M71: =SUM(M72:M75) -> 0 | N71: =SUM(N72:N75) -> 0 | O71: =SUM(O72:O75) -> 0 | P71: =SUM(P72:P75) -> 0 | Q71: =SUM(Q72:Q75) -> 0 | R71: =SUM(R72:R75) -> 0 | ... T71: =SUM(T72:T75) -> 0 | U71: =SUM(K71:T71) -> 0
A72: 4. Universal Waste (UW) * - Nickel-cadmium (NiCd) | J72: =SUM(B72:I72) -> 0 | U72: =SUM(K72:T72) -> 0
A73: 4. Universal Waste (UW) * - Nickel metal hydride (NiMH) | J73: =SUM(B73:I73) -> 0 | U73: =SUM(K73:T73) -> 0
A74: 4. Universal Waste (UW) * - Lithium-ion | J74: =SUM(B74:I74) -> 0 | U74: =SUM(K74:T74) -> 0
A75: 4. Universal Waste (UW) * - Rechargeable batteries (other) | J75: =SUM(B75:I75) -> 0 | U75: =SUM(K75:T75) -> 0
A76: 4. Universal Waste (UW) * - Other batteries | B76: =SUM(B77:B81) -> 0 | C76: =SUM(C77:C81) -> 0 | D76: =SUM(D77:D81) -> 0 | E76: =SUM(E77:E81) -> 0 | F76: =SUM(F77:F81) -> 0 | G76: =SUM(G77:G81) -> 0 | H76: =SUM(H77:H81) -> 0 | I76: =SUM(I77:I81) -> 0 | J76: =SUM(B76:I76) -> 0 | K76: =SUM(K77:K81) -> 0 | L76: =SUM(L77:L81) -> 0 | M76: =SUM(M77:M81) -> 0 | N76: =SUM(N77:N81) -> 0 | O76: =SUM(O77:O81) -> 0 | P76: =SUM(P77:P81) -> 0 | Q76: =SUM(Q77:Q81) -> 0 | R76: =SUM(R77:R81) -> 0 | ... T76: =SUM(T77:T81) -> 0 | U76: =SUM(K76:T76) -> 0
A77: 4. Universal Waste (UW) * - Other batteries (recycled) | J77: =SUM(B77:I77) -> 0 | U77: =SUM(K77:T77) -> 0
A78: 4. Universal Waste (UW) * - Other batteries (landfilled) | J78: =SUM(B78:I78) -> 0 | U78: =SUM(K78:T78) -> 0
A79: 4. Universal Waste (UW) * - Alkaline batteries | J79: =SUM(B79:I79) -> 0 | U79: =SUM(K79:T79) -> 0
A80: 4. Universal Waste (UW) * - Lithium batteries | J80: =SUM(B80:I80) -> 0 | U80: =SUM(K80:T80) -> 0
A81: 4. Universal Waste (UW) * - Gell cell batteries | J81: =SUM(B81:I81) -> 0 | U81: =SUM(K81:T81) -> 0
A82: 4. Universal Waste (UW) * - Aerosol cans | J82: =SUM(B82:I82) -> 0 | U82: =SUM(K82:T82) -> 0
A83: 4. Universal Waste (UW) * - subtotal | B83: =B55+B56+B57+B60+B71+B76+B82 -> 0 | C83: =C55+C56+C57+C60+C71+C76+C82 -> 0 | D83: =D55+D56+D57+D60+D71+D76+D82 -> 0 | E83: =E55+E56+E57+E60+E71+E76+E82 -> 0 | F83: =F55+F56+F57+F60+F71+F76+F82 -> 0 | G83: =G55+G56+G57+G60+G71+G76+G82 -> 0 | H83: =H55+H56+H57+H60+H71+H76+H82 -> 0 | I83: =I55+I56+I57+I60+I71+I76+I82 -> 0 | J83: =SUM(B83:I83) -> 0 | K83: =K55+K56+K57+K60+K71+K76+K82 -> 0 | L83: =L55+L56+L57+L60+L71+L76+L82 -> 0 | M83: =M55+M56+M57+M60+M71+M76+M82 -> 0 | N83: =N55+N56+N57+N60+N71+N76+N82 -> 0 | O83: =O55+O56+O57+O60+O71+O76+O82 -> 0 | P83: =P55+P56+P57+P60+P71+P76+P82 -> 0 | Q83: =Q55+Q56+Q57+Q60+Q71+Q76+Q82 -> 0 | R83: =R55+R56+R57+R60+R71+R76+R82 -> 0 | ... T83: =T55+T56+T57+T60+T71+T76+T82 -> 0 | U83: =SUM(K83:T83) -> 0
A84: Electronic Waste (UW) - Covered Electronic Devices | J84: =SUM(B84:I84) -> 0 | U84: =SUM(K84:T84) -> 0
A85: Electronic Waste (UW) - Other Electronic Devices | J85: =SUM(B85:I85) -> 0 | U85: =SUM(K85:T85) -> 0
A86: Electronic Waste (UW) - subtotal | B86: =SUM(B84:B85) -> 0 | C86: =SUM(C84:C85) -> 0 | D86: =SUM(D84:D85) -> 0 | E86: =SUM(E84:E85) -> 0 | F86: =SUM(F84:F85) -> 0 | G86: =SUM(G84:G85) -> 0 | H86: =SUM(H84:H85) -> 0 | I86: =SUM(I84:I85) -> 0 | J86: =SUM(B86:I86) -> 0 | K86: =SUM(K84:K85) -> 0 | L86: =SUM(L84:L85) -> 0 | M86: =SUM(M84:M85) -> 0 | N86: =SUM(N84:N85) -> 0 | O86: =SUM(O84:O85) -> 0 | P86: =SUM(P84:P85) -> 0 | Q86: =SUM(Q84:Q85) -> 0 | R86: =SUM(R84:R85) -> 0 | ... T86: =SUM(T84:T85) -> 0 | U86: =SUM(K86:T86) -> 0
A87: all UW subtotal | B87: =SUM(B83+B86) -> 0 | C87: =SUM(C83+C86) -> 0 | D87: =SUM(D83+D86) -> 0 | E87: =SUM(E83+E86) -> 0 | F87: =SUM(F83+F86) -> 0 | G87: =SUM(G83+G86) -> 0 | H87: =SUM(H83+H86) -> 0 | I87: =SUM(I83+I86) -> 0 | J87: =SUM(B87:I87) -> 0 | K87: =K83+K86 -> 0 | L87: =L83+L86 -> 0 | M87: =M83+M86 -> 0 | N87: =N83+N86 -> 0 | O87: =O83+O86 -> 0 | P87: =P83+P86 -> 0 | Q87: =Q83+Q86 -> 0 | R87: =R83+R86 -> 0 | ... T87: =T83+T86 -> 0 | U87: =SUM(K87:T87) -> 0
A88: 5. Acid - Inorganic and organic acid | B88: =SUM(B89:B95) -> 0 | C88: =SUM(C89:C95) -> 0 | D88: =SUM(D89:D95) -> 0 | E88: =SUM(E89:E95) -> 0 | F88: =SUM(F89:F95) -> 0 | G88: =SUM(G89:G95) -> 0 | H88: =SUM(H89:H95) -> 0 | I88: =SUM(I89:I95) -> 0 | J88: =SUM(B88:I88) -> 0 | K88: =SUM(K89:K95) -> 0 | L88: =SUM(L89:L95) -> 0 | M88: =SUM(M89:M95) -> 0 | N88: =SUM(N89:N95) -> 0 | O88: =SUM(O89:O95) -> 0 | P88: =SUM(P89:P95) -> 0 | Q88: =SUM(Q89:Q95) -> 0 | R88: =SUM(R89:R95) -> 0 | ... T88: =SUM(T89:T95) -> 0 | U88: =SUM(K88:T88) -> 0
A89: 5. Acid - Inorganic and organic acid (mixed) | J89: =SUM(B89:I89) -> 0 | U89: =SUM(K89:T89) -> 0
A90: 5. Acid - Inorganic acid (solid and liquid) | J90: =SUM(B90:I90) -> 0 | U90: =SUM(K90:T90) -> 0
A91: 5. Acid - Inorganic acid (solid) | J91: =SUM(B91:I91) -> 0 | U91: =SUM(K91:T91) -> 0
A92: 5. Acid - Inorganic acid (liquid) | J92: =SUM(B92:I92) -> 0 | U92: =SUM(K92:T92) -> 0
A93: 5. Acid - Organic acid (solid and liquid) | J93: =SUM(B93:I93) -> 0 | U93: =SUM(K93:T93) -> 0
A94: 5. Acid - Organic acid (solid) | J94: =SUM(B94:I94) -> 0 | U94: =SUM(K94:T94) -> 0
A95: 5. Acid - Organic acid (liquid) | J95: =SUM(B95:I95) -> 0 | U95: =SUM(K95:T95) -> 0
A96: 6. Base - Inorganic and organic base | B96: =SUM(B97:B103) -> 0 | C96: =SUM(C97:C103) -> 0 | D96: =SUM(D97:D103) -> 0 | E96: =SUM(E97:E103) -> 0 | F96: =SUM(F97:F103) -> 0 | G96: =SUM(G97:G103) -> 0 | H96: =SUM(H97:H103) -> 0 | I96: =SUM(I97:I103) -> 0 | J96: =SUM(B96:I96) -> 0 | K96: =SUM(K97:K103) -> 0 | L96: =SUM(L97:L103) -> 0 | M96: =SUM(M97:M103) -> 0 | N96: =SUM(N97:N103) -> 0 | O96: =SUM(O97:O103) -> 0 | P96: =SUM(P97:P103) -> 0 | Q96: =SUM(Q97:Q103) -> 0 | R96: =SUM(R97:R103) -> 0 | ... T96: =SUM(T97:T103) -> 0 | U96: =SUM(K96:T96) -> 0
A97: 6. Base - Inorganic and organic base (mixed) | J97: =SUM(B97:I97) -> 0 | U97: =SUM(K97:T97) -> 0
A98: 6. Base - Inorganic base (solid and liquid) | J98: =SUM(B98:I98) -> 0 | U98: =SUM(K98:T98) -> 0
A99: 6. Base - Inorganic base (solid) | J99: =SUM(B99:I99) -> 0 | U99: =SUM(K99:T99) -> 0
A100: 6. Base - Inorganic base (liquid) | J100: =SUM(B100:I100) -> 0 | U100: =SUM(K100:T100) -> 0
A101: 6. Base - Organic base (solid and liquid) | J101: =SUM(B101:I101) -> 0 | U101: =SUM(K101:T101) -> 0
...

Sheet Jan
A2: åTrack more detail? Click [2] at top left.
A3: Material Type | B3: Pounds Collected by Program Type - Permanent Facility | C3: Pounds Collected by Program Type - Temporary (periodic) Facility | D3: Pounds Collected by Program Type - Mobile Facility | E3: Pounds Collected by Program Type - Recycle-only Facility | F3: Pounds Collected by Program Type - Door to Door (residential) Program | G3: Pounds Collected by Program Type - Curbside Program | H3: Pounds Collected by Program Type - Load Check | I3: Pounds Collected by Program Type - "Other" Prog Type (PT) PT_______ | J3: Pounds Collected by Program Type - Total Collected (pounds) | K3: Pounds Disposed / Diverted by Management Method - Destructive Incineration | L3: Pounds Disposed / Diverted by Management Method - Fuel Incineration | M3: Pounds Disposed / Diverted by Management Method - Landfill | N3: Pounds Disposed / Diverted by Management Method - Neutralization / Treatment | O3: Pounds Disposed / Diverted by Management Method - Recycled | P3: Pounds Disposed / Diverted by Management Method - Reused | Q3: Pounds Disposed / Diverted by Management Method - Stabilization | R3: Pounds Disposed / Diverted by Management Method - PaintCare | S3: Pounds Disposed / Diverted by Management Method - PaintCare Reuse | T3: Pounds Disposed / Diverted by Management Method - TRC | U3: Pounds Disposed / Diverted by Management Method - Total Disposed / Diverted (pounds)
A4: 1. Flammable and Poison - Flammable solids / liquids | B4: =SUM(B5:B8) -> 0 | C4: =SUM(C5:C8) -> 0 | D4: =SUM(D5:D8) -> 0 | E4: =SUM(E5:E8) -> 0 | F4: =SUM(F5:F8) -> 0 | G4: =SUM(G5:G8) -> 0 | H4: =SUM(H5:H8) -> 0 | I4: =SUM(I5:I8) -> 0 | J4: =SUM(B4:I4) -> 0 | K4: =SUM(K5:K8) -> 0 | L4: =SUM(L5:L8) -> 0 | M4: =SUM(M5:M8) -> 0 | N4: =SUM(N5:N8) -> 0 | O4: =SUM(O5:O8) -> 0 | P4: =SUM(P5:P8) -> 0 | Q4: =SUM(Q5:Q8) -> 0 | R4: =SUM(R5:R8) -> 0 | ... T4: =SUM(T5:T8) -> 0 | U4: =SUM(K4:T4) -> 0
A5: 1. Flammable and Poison - Flammable solids | J5: =SUM(B5:I5) -> 0 | U5: =SUM(K5:T5) -> 0
A6: 1. Flammable and Poison - Flammable liquids (loose pack) | J6: =SUM(B6:I6) -> 0 | U6: =SUM(K6:T6) -> 0
A7: 1. Flammable and Poison - Flammable cylinders | J7: =SUM(B7:I7) -> 0 | U7: =SUM(K7:T7) -> 0
A8: 1. Flammable and Poison - Non-halogenated solvents (flammable) | J8: =SUM(B8:I8) -> 0 | U8: =SUM(K8:T8) -> 0
A9: 1. Flammable and Poison - Bulked flammable liquids | J9: =SUM(B9:I9) -> 0 | U9: =SUM(K9:T9) -> 0
A10: 1. Flammable and Poison - Oil-based paints | B10: =SUM(B11:B14) -> 0 | C10: =SUM(C11:C14) -> 0 | D10: =SUM(D11:D14) -> 0 | E10: =SUM(E11:E14) -> 0 | F10: =SUM(F11:F14) -> 0 | G10: =SUM(G11:G14) -> 0 | H10: =SUM(H11:H14) -> 0 | I10: =SUM(I11:I14) -> 0 | J10: =SUM(B10:I10) -> 0 | K10: =SUM(K11:K14) -> 0 | L10: =SUM(L11:L14) -> 0 | M10: =SUM(M11:M14) -> 0 | N10: =SUM(N11:N14) -> 0 | O10: =SUM(O11:O14) -> 0 | P10: =SUM(P11:P14) -> 0 | Q10: =SUM(Q11:Q14) -> 0 | R10: =SUM(R11:R14) -> 0 | ... T10: =SUM(T11:T14) -> 0 | U10: =SUM(K10:T10) -> 0
A11: 1. Flammable and Poison - Oil-based paint (bulked) | J11: =SUM(B11:I11) -> 0 | U11: =SUM(K11:T11) -> 0
A12: 1. Flammable and Poison - Oil-based paint (loose packed) | J12: =SUM(B12:I12) -> 0 | U12: =SUM(K12:T12) -> 0
A13: 1. Flammable and Poison - Oil-based paint with PCBs | J13: =SUM(B13:I13) -> 0 | U13: =SUM(K13:T13) -> 0
A14: 1. Flammable and Poison - Oil-based paint sludge | J14: =SUM(B14:I14) -> 0 | U14: =SUM(K14:T14) -> 0
A15: 1. Flammable and Poison - Paint related material (PRM) | J15: =SUM(B15:I15) -> 0 | U15: =SUM(K15:T15) -> 0
A16: 1. Flammable and Poison - Poisons | B16: =SUM(B17:B28) -> 0 | C16: =SUM(C17:C28) -> 0 | D16: =SUM(D17:D28) -> 0 | E16: =SUM(E17:E28) -> 0 | F16: =SUM(F17:F28) -> 0 | G16: =SUM(G17:G28) -> 0 | H16: =SUM(H17:H28) -> 0 | I16: =SUM(I17:I28) -> 0 | J16: =SUM(B16:I16) -> 0 | K16: =SUM(K17:K28) -> 0 | L16: =SUM(L17:L28) -> 0 | M16: =SUM(M17:M28) -> 0 | N16: =SUM(N17:N28) -> 0 | O16: =SUM(O17:O28) -> 0 | P16: =SUM(P17:P28) -> 0 | Q16: =SUM(Q17:Q28) -> 0 | R16: =SUM(R17:R28) -> 0 | ... T16: =SUM(T17:T28) -> 0 | U16: =SUM(K16:T16) -> 0
A17: 1. Flammable and Poison - Poisons/toxic liquids | J17: =SUM(B17:I17) -> 0 | U17: =SUM(K17:T17) -> 0
A18: 1. Flammable and Poison - Poisons/toxic solids | J18: =SUM(B18:I18) -> 0 | U18: =SUM(K18:T18) -> 0
A19: 1. Flammable and Poison - Cyanides | J19: =SUM(B19:I19) -> 0 | U19: =SUM(K19:T19) -> 0
A20: 1. Flammable and Poison - Organic poisons/pesticides (solid) | J20: =SUM(B20:I20) -> 0 | U20: =SUM(K20:T20) -> 0
A21: 1. Flammable and Poison - Organic poisons/pesticides (liquid) | J21: =SUM(B21:I21) -> 0 | U21: =SUM(K21:T21) -> 0
A22: 1. Flammable and Poison - Solid lead waste (solder) | J22: =SUM(B22:I22) -> 0 | U22: =SUM(K22:T22) -> 0
A23: 1. Flammable and Poison - Inorganic poisons/pesticides (solid) | J23: =SUM(B23:I23) -> 0 | U23: =SUM(K23:T23) -> 0
A24: 1. Flammable and Poison - Inorganic poisons/pesticides (liquid) | J24: =SUM(B24:I24) -> 0 | U24: =SUM(K24:T24) -> 0
A25: 1. Flammable and Poison - Hypochlorite compounds | J25: =SUM(B25:I25) -> 0 | U25: =SUM(K25:T25) -> 0
A26: 1. Flammable and Poison - Solvent sludge | J26: =SUM(B26:I26) -> 0 | U26: =SUM(K26:T26) -> 0
A27: 1. Flammable and Poison - Halogenated solvents | J27: =SUM(B27:I27) -> 0 | U27: =SUM(K27:T27) -> 0
A28: 1. Flammable and Poison - Non-halogenated solvents (toxic) | J28: =SUM(B28:I28) -> 0 | U28: =SUM(K28:T28) -> 0
A29: 1. Flammable and Poison - Reactive and explosive | B29: =SUM(B30:B38) -> 0 | C29: =SUM(C30:C38) -> 0 | D29: =SUM(D30:D38) -> 0 | E29: =SUM(E30:E38) -> 0 | F29: =SUM(F30:F38) -> 0 | G29: =SUM(G30:G38) -> 0 | H29: =SUM(H30:H38) -> 0 | I29: =SUM(I30:I38) -> 0 | J29: =SUM(B29:I29) -> 0 | K29: =SUM(K30:K38) -> 0 | L29: =SUM(L30:L38) -> 0 | M29: =SUM(M30:M38) -> 0 | N29: =SUM(N30:N38) -> 0 | O29: =SUM(O30:O38) -> 0 | P29: =SUM(P30:P38) -> 0 | Q29: =SUM(Q30:Q38) -> 0 | R29: =SUM(R30:R38) -> 0 | ... T29: =SUM(T30:T38) -> 0 | U29: =SUM(K29:T29) -> 0
A30: 1. Flammable and Poison - Reactives | J30: =SUM(B30:I30) -> 0 | U30: =SUM(K30:T30) -> 0
A31: 1. Flammable and Poison - Reactive cyanides | J31: =SUM(B31:I31) -> 0 | U31: =SUM(K31:T31) -> 0
A32: 1. Flammable and Poison - Reactive sulfides | J32: =SUM(B32:I32) -> 0 | U32: =SUM(K32:T32) -> 0
A33: 1. Flammable and Poison - Water reactive compounds, flammable gas producing, heat generating | J33: =SUM(B33:I33) -> 0 | U33: =SUM(K33:T33) -> 0
A34: 1. Flammable and Poison - Water reactive compounds, acid gas producing | J34: =SUM(B34:I34) -> 0 | U34: =SUM(K34:T34) -> 0
A35: 1. Flammable and Poison - Water reactive compounds, ammonia gas producing | J35: =SUM(B35:I35) -> 0 | U35: =SUM(K35:T35) -> 0
A36: 1. Flammable and Poison - Explosives | J36: =SUM(B36:I36) -> 0 | U36: =SUM(K36:T36) -> 0
A37: 1. Flammable and Poison - Ammunition | J37: =SUM(B37:I37) -> 0 | U37: =SUM(K37:T37) -> 0
A38: 1. Flammable and Poison - Fusees (marine flares) | J38: =SUM(B38:I38) -> 0 | U38: =SUM(K38:T38) -> 0
A39: 1. Flammable and Poison - Compressed gas cylinders | J39: =SUM(B39:I39) -> 0 | U39: =SUM(K39:T39) -> 0
A40: 1. Flammable and Poison - subtotal | B40: =B4+B9+B10+B15+B16+B29+B39 -> 0 | C40: =C4+C9+C10+C15+C16+C29+C39 -> 0 | D40: =D4+D9+D10+D15+D16+D29+D39 -> 0 | E40: =E4+E9+E10+E15+E16+E29+E39 -> 0 | F40: =F4+F9+F10+F15+F16+F29+F39 -> 0 | G40: =G4+G9+G10+G15+G16+G29+G39 -> 0 | H40: =H4+H9+H10+H15+H16+H29+H39 -> 0 | I40: =I4+I9+I10+I15+I16+I29+I39 -> 0 | J40: =SUM(B40:I40) -> 0 | K40: =K4+K9+K10+K15+K16+K29+K39 -> 0 | L40: =L4+L9+L10+L15+L16+L29+L39 -> 0 | M40: =M4+M9+M10+M15+M16+M29+M39 -> 0 | N40: =N4+N9+N10+N15+N16+N29+N39 -> 0 | O40: =O4+O9+O10+O15+O16+O29+O39 -> 0 | P40: =P4+P9+P10+P15+P16+P29+P39 -> 0 | Q40: =Q4+Q9+Q10+Q15+Q16+Q29+Q39 -> 0 | R40: =R4+R9+R10+R15+R16+R29+R39 -> 0 | ... T40: =T4+T9+T10+T15+T16+T29+T39 -> 0 | U40: =SUM(K40:T40) -> 0
A41: 2. PCB -containing - PCB-containing paint | J41: =SUM(B41:I41) -> 0 | U41: =SUM(K41:T41) -> 0
A42: 2. PCB -containing - Other PCB waste (includes ballasts) | B42: =SUM(B43:B44) -> 0 | C42: =SUM(C43:C44) -> 0 | D42: =SUM(D43:D44) -> 0 | E42: =SUM(E43:E44) -> 0 | F42: =SUM(F43:F44) -> 0 | G42: =SUM(G43:G44) -> 0 | H42: =SUM(H43:H44) -> 0 | I42: =SUM(I43:I44) -> 0 | J42: =SUM(B42:I42) -> 0 | K42: =SUM(K43:K44) -> 0 | L42: =SUM(L43:L44) -> 0 | M42: =SUM(M43:M44) -> 0 | N42: =SUM(N43:N44) -> 0 | O42: =SUM(O43:O44) -> 0 | P42: =SUM(P43:P44) -> 0 | Q42: =SUM(Q43:Q44) -> 0 | R42: =SUM(R43:R44) -> 0 | ... T42: =SUM(T43:T44) -> 0 | U42: =SUM(K42:T42) -> 0
A43: 2. PCB -containing - Other PCB waste (solid) | J43: =SUM(B43:I43) -> 0 | U43: =SUM(K43:T43) -> 0
A44: 2. PCB -containing - Other PCB waste (liquid) | J44: =SUM(B44:I44) -> 0 | U44: =SUM(K44:T44) -> 0
A45: 2. PCB -containing - subtotal | B45: =SUM(B41:B42) -> 0 | C45: =SUM(C41:C42) -> 0 | D45: =SUM(D41:D42) -> 0 | E45: =SUM(E41:E42) -> 0 | F45: =SUM(F41:F42) -> 0 | G45: =SUM(G41:G42) -> 0 | H45: =SUM(H41:H42) -> 0 | I45: =SUM(I41:I42) -> 0 | J45: =SUM(B45:I45) -> 0 | K45: =SUM(K41:K42) -> 0 | L45: =SUM(L41:L42) -> 0 | M45: =SUM(M41:M42) -> 0 | N45: =SUM(N41:N42) -> 0 | O45: =SUM(O41:O42) -> 0 | P45: =SUM(P41:P42) -> 0 | Q45: =SUM(Q41:Q42) -> 0 | R45: =SUM(R41:R42) -> 0 | ... T45: =SUM(T41:T42) -> 0 | U45: =SUM(K45:T45) -> 0
A46: 3. Reclaimable - Antifreeze | J46: =SUM(B46:I46) -> 0 | U46: =SUM(K46:T46) -> 0
A47: 3. Reclaimable - Auto type batteries (motor vehicles) | J47: =SUM(B47:I47) -> 0 | U47: =SUM(K47:T47) -> 0
A48: 3. Reclaimable - Latex paint | J48: =SUM(B48:I48) -> 0 | U48: =SUM(K48:T48) -> 0
A49: 3. Reclaimable - Motor oil/oil products | B49: =SUM(B50:B51) -> 0 | C49: =SUM(C50:C51) -> 0 | D49: =SUM(D50:D51) -> 0 | E49: =SUM(E50:E51) -> 0 | F49: =SUM(F50:F51) -> 0 | G49: =SUM(G50:G51) -> 0 | H49: =SUM(H50:H51) -> 0 | I49: =SUM(I50:I51) -> 0 | J49: =SUM(B49:I49) -> 0 | K49: =SUM(K50:K51) -> 0 | L49: =SUM(L50:L51) -> 0 | M49: =SUM(M50:M51) -> 0 | N49: =SUM(N50:N51) -> 0 | O49: =SUM(O50:O51) -> 0 | P49: =SUM(P50:P51) -> 0 | Q49: =SUM(Q50:Q51) -> 0 | R49: =SUM(R50:R51) -> 0 | ... T49: =SUM(T50:T51) -> 0 | U49: =SUM(K49:T49) -> 0
A50: 3. Reclaimable - Motor oil (contaminated) | J50: =SUM(B50:I50) -> 0 | U50: =SUM(K50:T50) -> 0
A51: 3. Reclaimable - Motor oil (non-contaminated) | J51: =SUM(B51:I51) -> 0 | U51: =SUM(K51:T51) -> 0
A52: 3. Reclaimable - Used oil filters (recyclables only) | J52: =SUM(B52:I52) -> 0 | U52: =SUM(K52:T52) -> 0
A53: 3. Reclaimable - subtotal | B53: =B46+B47+B48+B49+B52 -> 0 | C53: =C46+C47+C48+C49+C52 -> 0 | D53: =D46+D47+D48+D49+D52 -> 0 | E53: =E46+E47+E48+E49+E52 -> 0 | F53: =F46+F47+F48+F49+F52 -> 0 | G53: =G46+G47+G48+G49+G52 -> 0 | H53: =H46+H47+H48+H49+H52 -> 0 | I53: =I46+I47+I48+I49+I52 -> 0 | J53: =SUM(B53:I53) -> 0 | K53: =K46+K47+K48+K49+K52 -> 0 | L53: =L46+L47+L48+L49+L52 -> 0 | M53: =M46+M47+M48+M49+M52 -> 0 | N53: =N46+N47+N48+N49+N52 -> 0 | O53: =O46+O47+O48+O49+O52 -> 0 | P53: =P46+P47+P48+P49+P52 -> 0 | Q53: =Q46+Q47+Q48+Q49+Q52 -> 0 | R53: =R46+R47+R48+R49+R52 -> 0 | ... T53: =T46+T47+T48+T49+T52 -> 0 | U53: =SUM(K53:T53) -> 0
A54: * For purposes of the Form 303 reporting process, materials listed under the Universal Waste category do not necessarily need to be managed as Universal Waste (i.e., they can also be managed by the higher hazardous waste standard). Energy recovery or fuel incineration is not considered recycling. If the waste cannot be managed by recycling, then it must be managed as a hazardous waste.
A55: 4. Universal Waste (UW) * - Mercury containing automatic switches / thermometers / and novelties | J55: =SUM(B55:I55) -> 0 | U55: =SUM(K55:T55) -> 0
A56: 4. Universal Waste (UW) * - Mercury containing thermostats | J56: =SUM(B56:I56) -> 0 | U56: =SUM(K56:T56) -> 0
A57: 4. Universal Waste (UW) * - Mercury containing waste (other) | B57: =SUM(B58:B59) -> 0 | C57: =SUM(C58:C59) -> 0 | D57: =SUM(D58:D59) -> 0 | E57: =SUM(E58:E59) -> 0 | F57: =SUM(F58:F59) -> 0 | G57: =SUM(G58:G59) -> 0 | H57: =SUM(H58:H59) -> 0 | I57: =SUM(I58:I59) -> 0 | J57: =SUM(B57:I57) -> 0 | K57: =SUM(K58:K59) -> 0 | L57: =SUM(L58:L59) -> 0 | M57: =SUM(M58:M59) -> 0 | N57: =SUM(N58:N59) -> 0 | O57: =SUM(O58:O59) -> 0 | P57: =SUM(P58:P59) -> 0 | Q57: =SUM(Q58:Q59) -> 0 | R57: =SUM(R58:R59) -> 0 | ... T57: =SUM(T58:T59) -> 0 | U57: =SUM(K57:T57) -> 0
A58: 4. Universal Waste (UW) * - Elemental mercury | J58: =SUM(B58:I58) -> 0 | U58: =SUM(K58:T58) -> 0
A59: 4. Universal Waste (UW) * - Organic mercury compounds | J59: =SUM(B59:I59) -> 0 | U59: =SUM(K59:T59) -> 0
A60: 4. Universal Waste (UW) * - Lamps | B60: =SUM(B61:B70) -> 0 | C60: =SUM(C61:C70) -> 0 | D60: =SUM(D61:D70) -> 0 | E60: =SUM(E61:E70) -> 0 | F60: =SUM(F61:F70) -> 0 | G60: =SUM(G61:G70) -> 0 | H60: =SUM(H61:H70) -> 0 | I60: =SUM(I61:I70) -> 0 | J60: =SUM(B60:I60) -> 0 | K60: =SUM(K61:K70) -> 0 | L60: =SUM(L61:L70) -> 0 | M60: =SUM(M61:M70) -> 0 | N60: =SUM(N61:N70) -> 0 | O60: =SUM(O61:O70) -> 0 | P60: =SUM(P61:P70) -> 0 | Q60: =SUM(Q61:Q70) -> 0 | R60: =SUM(R61:R70) -> 0 | ... T60: =SUM(T61:T70) -> 0 | U60: =SUM(K60:T60) -> 0
A61: 4. Universal Waste (UW) * - Fluorescent tubes (straight) | J61: =SUM(B61:I61) -> 0 | U61: =SUM(K61:T61) -> 0
A62: 4. Universal Waste (UW) * - Fluorescent tubes (u-shaped) | J62: =SUM(B62:I62) -> 0 | U62: =SUM(K62:T62) -> 0
A63: 4. Universal Waste (UW) * - Compact fluorescent tubes (CFLs) | J63: =SUM(B63:I63) -> 0 | U63: =SUM(K63:T63) -> 0
A64: 4. Universal Waste (UW) * - Fluorescent tubes (broken) | J64: =SUM(B64:I64) -> 0 | U64: =SUM(K64:T64) -> 0
A65: 4. Universal Waste (UW) * - HID bulbs, Hg vapor, high pressure sodium, metal halides | J65: =SUM(B65:I65) -> 0 | U65: =SUM(K65:T65) -> 0
A66: 4. Universal Waste (UW) * - Shattershields | J66: =SUM(B66:I66) -> 0 | U66: =SUM(K66:T66) -> 0
A67: 4. Universal Waste (UW) * - Low pressure sodium bulbs/lamsp | J67: =SUM(B67:I67) -> 0 | U67: =SUM(K67:T67) -> 0
A68: 4. Universal Waste (UW) * - Neon bulbs & related material | J68: =SUM(B68:I68) -> 0 | U68: =SUM(K68:T68) -> 0
A69: 4. Universal Waste (UW) * - UV lamps | J69: =SUM(B69:I69) -> 0 | U69: =SUM(K69:T69) -> 0
A70: 4. Universal Waste (UW) * - Lamps (other) | J70: =SUM(B70:I70) -> 0 | U70: =SUM(K70:T70) -> 0
A71: 4. Universal Waste (UW) * - Rechargeable batteries | B71: =SUM(B72:B75) -> 0 | C71: =SUM(C72:C75) -> 0 | D71: =SUM(D72:D75) -> 0 | E71: =SUM(E72:E75) -> 0 | F71: =SUM(F72:F75) -> 0 | G71: =SUM(G72:G75) -> 0 | H71: =SUM(H72:H75) -> 0 | I71: =SUM(I72:I75) -> 0 | J71: =SUM(B71:I71) -> 0 | K71: =SUM(K72:K75) -> 0 | L71: =SUM(L72:L75) -> 0 | M71: =SUM(M72:M75) -> 0 | N71: =SUM(N72:N75) -> 0 | O71: =SUM(O72:O75) -> 0 | P71: =SUM(P72:P75) -> 0 | Q71: =SUM(Q72:Q75) -> 0 | R71: =SUM(R72:R75) -> 0 | ... T71: =SUM(T72:T75) -> 0 | U71: =SUM(K71:T71) -> 0
A72: 4. Universal Waste (UW) * - Nickel-cadmium (NiCd) | J72: =SUM(B72:I72) -> 0 | U72: =SUM(K72:T72) -> 0
A73: 4. Universal Waste (UW) * - Nickel metal hydride (NiMH) | J73: =SUM(B73:I73) -> 0 | U73: =SUM(K73:T73) -> 0
A74: 4. Universal Waste (UW) * - Lithium-ion | J74: =SUM(B74:I74) -> 0 | U74: =SUM(K74:T74) -> 0
A75: 4. Universal Waste (UW) * - Rechargeable batteries (other) | J75: =SUM(B75:I75) -> 0 | U75: =SUM(K75:T75) -> 0
A76: 4. Universal Waste (UW) * - Other batteries | B76: =SUM(B77:B81) -> 0 | C76: =SUM(C77:C81) -> 0 | D76: =SUM(D77:D81) -> 0 | E76: =SUM(E77:E81) -> 0 | F76: =SUM(F77:F81) -> 0 | G76: =SUM(G77:G81) -> 0 | H76: =SUM(H77:H81) -> 0 | I76: =SUM(I77:I81) -> 0 | J76: =SUM(B76:I76) -> 0 | K76: =SUM(K77:K81) -> 0 | L76: =SUM(L77:L81) -> 0 | M76: =SUM(M77:M81) -> 0 | N76: =SUM(N77:N81) -> 0 | O76: =SUM(O77:O81) -> 0 | P76: =SUM(P77:P81) -> 0 | Q76: =SUM(Q77:Q81) -> 0 | R76: =SUM(R77:R81) -> 0 | ... T76: =SUM(T77:T81) -> 0 | U76: =SUM(K76:T76) -> 0
A77: 4. Universal Waste (UW) * - Other batteries (recycled) | J77: =SUM(B77:I77) -> 0 | U77: =SUM(K77:T77) -> 0
A78: 4. Universal Waste (UW) * - Other batteries (landfilled) | J78: =SUM(B78:I78) -> 0 | U78: =SUM(K78:T78) -> 0
A79: 4. Universal Waste (UW) * - Alkaline batteries | J79: =SUM(B79:I79) -> 0 | U79: =SUM(K79:T79) -> 0
A80: 4. Universal Waste (UW) * - Lithium batteries | J80: =SUM(B80:I80) -> 0 | U80: =SUM(K80:T80) -> 0
A81: 4. Universal Waste (UW) * - Gell cell batteries | J81: =SUM(B81:I81) -> 0 | U81: =SUM(K81:T81) -> 0
A82: 4. Universal Waste (UW) * - Aerosol cans | J82: =SUM(B82:I82) -> 0 | U82: =SUM(K82:T82) -> 0
A83: 4. Universal Waste (UW) * - subtotal | B83: =B55+B56+B57+B60+B71+B76+B82 -> 0 | C83: =C55+C56+C57+C60+C71+C76+C82 -> 0 | D83: =D55+D56+D57+D60+D71+D76+D82 -> 0 | E83: =E55+E56+E57+E60+E71+E76+E82 -> 0 | F83: =F55+F56+F57+F60+F71+F76+F82 -> 0 | G83: =G55+G56+G57+G60+G71+G76+G82 -> 0 | H83: =H55+H56+H57+H60+H71+H76+H82 -> 0 | I83: =I55+I56+I57+I60+I71+I76+I82 -> 0 | J83: =SUM(B83:I83) -> 0 | K83: =K55+K56+K57+K60+K71+K76+K82 -> 0 | L83: =L55+L56+L57+L60+L71+L76+L82 -> 0 | M83: =M55+M56+M57+M60+M71+M76+M82 -> 0 | N83: =N55+N56+N57+N60+N71+N76+N82 -> 0 | O83: =O55+O56+O57+O60+O71+O76+O82 -> 0 | P83: =P55+P56+P57+P60+P71+P76+P82 -> 0 | Q83: =Q55+Q56+Q57+Q60+Q71+Q76+Q82 -> 0 | R83: =R55+R56+R57+R60+R71+R76+R82 -> 0 | ... T83: =T55+T56+T57+T60+T71+T76+T82 -> 0 | U83: =SUM(K83:T83) -> 0
A84: Electronic Waste (UW) - Covered Electronic Devices | J84: =SUM(B84:I84) -> 0 | U84: =SUM(K84:T84) -> 0
A85: Electronic Waste (UW) - Other Electronic Devices | J85: =SUM(B85:I85) -> 0 | U85: =SUM(K85:T85) -> 0
A86: Electronic Waste (UW) - subtotal | B86: =SUM(B84:B85) -> 0 | C86: =SUM(C84:C85) -> 0 | D86: =SUM(D84:D85) -> 0 | E86: =SUM(E84:E85) -> 0 | F86: =SUM(F84:F85) -> 0 | G86: =SUM(G84:G85) -> 0 | H86: =SUM(H84:H85) -> 0 | I86: =SUM(I84:I85) -> 0 | J86: =SUM(B86:I86) -> 0 | K86: =SUM(K84:K85) -> 0 | L86: =SUM(L84:L85) -> 0 | M86: =SUM(M84:M85) -> 0 | N86: =SUM(N84:N85) -> 0 | O86: =SUM(O84:O85) -> 0 | P86: =SUM(P84:P85) -> 0 | Q86: =SUM(Q84:Q85) -> 0 | R86: =SUM(R84:R85) -> 0 | ... T86: =SUM(T84:T85) -> 0 | U86: =SUM(K86:T86) -> 0
A87: all UW subtotal | B87: =SUM(B83+B86) -> 0 | C87: =SUM(C83+C86) -> 0 | D87: =SUM(D83+D86) -> 0 | E87: =SUM(E83+E86) -> 0 | F87: =SUM(F83+F86) -> 0 | G87: =SUM(G83+G86) -> 0 | H87: =SUM(H83+H86) -> 0 | I87: =SUM(I83+I86) -> 0 | J87: =SUM(B87:I87) -> 0 | K87: =K83+K86 -> 0 | L87: =L83+L86 -> 0 | M87: =M83+M86 -> 0 | N87: =N83+N86 -> 0 | O87: =O83+O86 -> 0 | P87: =P83+P86 -> 0 | Q87: =Q83+Q86 -> 0 | R87: =R83+R86 -> 0 | ... T87: =T83+T86 -> 0 | U87: =SUM(K87:T87) -> 0
A88: 5. Acid - Inorganic and organic acid | B88: =SUM(B89:B95) -> 0 | C88: =SUM(C89:C95) -> 0 | D88: =SUM(D89:D95) -> 0 | E88: =SUM(E89:E95) -> 0 | F88: =SUM(F89:F95) -> 0 | G88: =SUM(G89:G95) -> 0 | H88: =SUM(H89:H95) -> 0 | I88: =SUM(I89:I95) -> 0 | J88: =SUM(B88:I88) -> 0 | K88: =SUM(K89:K95) -> 0 | L88: =SUM(L89:L95) -> 0 | M88: =SUM(M89:M95) -> 0 | N88: =SUM(N89:N95) -> 0 | O88: =SUM(O89:O95) -> 0 | P88: =SUM(P89:P95) -> 0 | Q88: =SUM(Q89:Q95) -> 0 | R88: =SUM(R89:R95) -> 0 | ... T88: =SUM(T89:T95) -> 0 | U88: =SUM(K88:T88) -> 0
A89: 5. Acid - Inorganic and organic acid (mixed) | J89: =SUM(B89:I89) -> 0 | U89: =SUM(K89:T89) -> 0
A90: 5. Acid - Inorganic acid (solid and liquid) | J90: =SUM(B90:I90) -> 0 | U90: =SUM(K90:T90) -> 0
A91: 5. Acid - Inorganic acid (solid) | J91: =SUM(B91:I91) -> 0 | U91: =SUM(K91:T91) -> 0
A92: 5. Acid - Inorganic acid (liquid) | J92: =SUM(B92:I92) -> 0 | U92: =SUM(K92:T92) -> 0
A93: 5. Acid - Organic acid (solid and liquid) | J93: =SUM(B93:I93) -> 0 | U93: =SUM(K93:T93) -> 0
A94: 5. Acid - Organic acid (solid) | J94: =SUM(B94:I94) -> 0 | U94: =SUM(K94:T94) -> 0
A95: 5. Acid - Organic acid (liquid) | J95: =SUM(B95:I95) -> 0 | U95: =SUM(K95:T95) -> 0
A96: 6. Base - Inorganic and organic base | B96: =SUM(B97:B103) -> 0 | C96: =SUM(C97:C103) -> 0 | D96: =SUM(D97:D103) -> 0 | E96: =SUM(E97:E103) -> 0 | F96: =SUM(F97:F103) -> 0 | G96: =SUM(G97:G103) -> 0 | H96: =SUM(H97:H103) -> 0 | I96: =SUM(I97:I103) -> 0 | J96: =SUM(B96:I96) -> 0 | K96: =SUM(K97:K103) -> 0 | L96: =SUM(L97:L103) -> 0 | M96: =SUM(M97:M103) -> 0 | N96: =SUM(N97:N103) -> 0 | O96: =SUM(O97:O103) -> 0 | P96: =SUM(P97:P103) -> 0 | Q96: =SUM(Q97:Q103) -> 0 | R96: =SUM(R97:R103) -> 0 | ... T96: =SUM(T97:T103) -> 0 | U96: =SUM(K96:T96) -> 0
A97: 6. Base - Inorganic and organic base (mixed) | J97: =SUM(B97:I97) -> 0 | U97: =SUM(K97:T97) -> 0
A98: 6. Base - Inorganic base (solid and liquid) | J98: =SUM(B98:I98) -> 0 | U98: =SUM(K98:T98) -> 0
A99: 6. Base - Inorganic base (solid) | J99: =SUM(B99:I99) -> 0 | U99: =SUM(K99:T99) -> 0
A100: 6. Base - Inorganic base (liquid) | J100: =SUM(B100:I100) -> 0 | U100: =SUM(K100:T100) -> 0
A101: 6. Base - Organic base (solid and liquid) | J101: =SUM(B101:I101) -> 0 | U101: =SUM(K101:T101) -> 0
...

Sheet Mar
A2: åTrack more detail? Click [2] at top left.
A3: Material Type | B3: Pounds Collected by Program Type - Permanent Facility | C3: Pounds Collected by Program Type - Temporary (periodic) Facility | D3: Pounds Collected by Program Type - Mobile Facility | E3: Pounds Collected by Program Type - Recycle-only Facility | F3: Pounds Collected by Program Type - Door to Door (residential) Program | G3: Pounds Collected by Program Type - Curbside Program | H3: Pounds Collected by Program Type - Load Check | I3: Pounds Collected by Program Type - "Other" Prog Type (PT) PT_______ | J3: Pounds Collected by Program Type - Total Collected (pounds) | K3: Pounds Disposed / Diverted by Management Method - Destructive Incineration | L3: Pounds Disposed / Diverted by Management Method - Fuel Incineration | M3: Pounds Disposed / Diverted by Management Method - Landfill | N3: Pounds Disposed / Diverted by Management Method - Neutralization / Treatment | O3: Pounds Disposed / Diverted by Management Method - Recycled | P3: Pounds Disposed / Diverted by Management Method - Reused | Q3: Pounds Disposed / Diverted by Management Method - Stabilization | R3: Pounds Disposed / Diverted by Management Method - PaintCare | S3: Pounds Disposed / Diverted by Management Method - PaintCare Reuse | T3: Pounds Disposed / Diverted by Management Method - TRC | U3: Pounds Disposed / Diverted by Management Method - Total Disposed / Diverted (pounds)
A4: 1. Flammable and Poison - Flammable solids / liquids | B4: =SUM(B5:B8) -> 0 | C4: =SUM(C5:C8) -> 0 | D4: =SUM(D5:D8) -> 0 | E4: =SUM(E5:E8) -> 0 | F4: =SUM(F5:F8) -> 0 | G4: =SUM(G5:G8) -> 0 | H4: =SUM(H5:H8) -> 0 | I4: =SUM(I5:I8) -> 0 | J4: =SUM(B4:I4) -> 0 | K4: =SUM(K5:K8) -> 0 | L4: =SUM(L5:L8) -> 0 | M4: =SUM(M5:M8) -> 0 | N4: =SUM(N5:N8) -> 0 | O4: =SUM(O5:O8) -> 0 | P4: =SUM(P5:P8) -> 0 | Q4: =SUM(Q5:Q8) -> 0 | R4: =SUM(R5:R8) -> 0 | ... T4: =SUM(T5:T8) -> 0 | U4: =SUM(K4:T4) -> 0
A5: 1. Flammable and Poison - Flammable solids | J5: =SUM(B5:I5) -> 0 | U5: =SUM(K5:T5) -> 0
A6: 1. Flammable and Poison - Flammable liquids (loose pack) | J6: =SUM(B6:I6) -> 0 | U6: =SUM(K6:T6) -> 0
A7: 1. Flammable and Poison - Flammable cylinders | J7: =SUM(B7:I7) -> 0 | U7: =SUM(K7:T7) -> 0
A8: 1. Flammable and Poison - Non-halogenated solvents (flammable) | J8: =SUM(B8:I8) -> 0 | U8: =SUM(K8:T8) -> 0
A9: 1. Flammable and Poison - Bulked flammable liquids | J9: =SUM(B9:I9) -> 0 | U9: =SUM(K9:T9) -> 0
A10: 1. Flammable and Poison - Oil-based paints | B10: =SUM(B11:B14) -> 0 | C10: =SUM(C11:C14) -> 0 | D10: =SUM(D11:D14) -> 0 | E10: =SUM(E11:E14) -> 0 | F10: =SUM(F11:F14) -> 0 | G10: =SUM(G11:G14) -> 0 | H10: =SUM(H11:H14) -> 0 | I10: =SUM(I11:I14) -> 0 | J10: =SUM(B10:I10) -> 0 | K10: =SUM(K11:K14) -> 0 | L10: =SUM(L11:L14) -> 0 | M10: =SUM(M11:M14) -> 0 | N10: =SUM(N11:N14) -> 0 | O10: =SUM(O11:O14) -> 0 | P10: =SUM(P11:P14) -> 0 | Q10: =SUM(Q11:Q14) -> 0 | R10: =SUM(R11:R14) -> 0 | ... T10: =SUM(T11:T14) -> 0 | U10: =SUM(K10:T10) -> 0
A11: 1. Flammable and Poison - Oil-based paint (bulked) | J11: =SUM(B11:I11) -> 0 | U11: =SUM(K11:T11) -> 0
A12: 1. Flammable and Poison - Oil-based paint (loose packed) | J12: =SUM(B12:I12) -> 0 | U12: =SUM(K12:T12) -> 0
A13: 1. Flammable and Poison - Oil-based paint with PCBs | J13: =SUM(B13:I13) -> 0 | U13: =SUM(K13:T13) -> 0
A14: 1. Flammable and Poison - Oil-based paint sludge | J14: =SUM(B14:I14) -> 0 | U14: =SUM(K14:T14) -> 0
A15: 1. Flammable and Poison - Paint related material (PRM) | J15: =SUM(B15:I15) -> 0 | U15: =SUM(K15:T15) -> 0
A16: 1. Flammable and Poison - Poisons | B16: =SUM(B17:B28) -> 0 | C16: =SUM(C17:C28) -> 0 | D16: =SUM(D17:D28) -> 0 | E16: =SUM(E17:E28) -> 0 | F16: =SUM(F17:F28) -> 0 | G16: =SUM(G17:G28) -> 0 | H16: =SUM(H17:H28) -> 0 | I16: =SUM(I17:I28) -> 0 | J16: =SUM(B16:I16) -> 0 | K16: =SUM(K17:K28) -> 0 | L16: =SUM(L17:L28) -> 0 | M16: =SUM(M17:M28) -> 0 | N16: =SUM(N17:N28) -> 0 | O16: =SUM(O17:O28) -> 0 | P16: =SUM(P17:P28) -> 0 | Q16: =SUM(Q17:Q28) -> 0 | R16: =SUM(R17:R28) -> 0 | ... T16: =SUM(T17:T28) -> 0 | U16: =SUM(K16:T16) -> 0
A17: 1. Flammable and Poison - Poisons/toxic liquids | J17: =SUM(B17:I17) -> 0 | U17: =SUM(K17:T17) -> 0
A18: 1. Flammable and Poison - Poisons/toxic solids | J18: =SUM(B18:I18) -> 0 | U18: =SUM(K18:T18) -> 0
A19: 1. Flammable and Poison - Cyanides | J19: =SUM(B19:I19) -> 0 | U19: =SUM(K19:T19) -> 0
A20: 1. Flammable and Poison - Organic poisons/pesticides (solid) | J20: =SUM(B20:I20) -> 0 | U20: =SUM(K20:T20) -> 0
A21: 1. Flammable and Poison - Organic poisons/pesticides (liquid) | J21: =SUM(B21:I21) -> 0 | U21: =SUM(K21:T21) -> 0
A22: 1. Flammable and Poison - Solid lead waste (solder) | J22: =SUM(B22:I22) -> 0 | U22: =SUM(K22:T22) -> 0
A23: 1. Flammable and Poison - Inorganic poisons/pesticides (solid) | J23: =SUM(B23:I23) -> 0 | U23: =SUM(K23:T23) -> 0
A24: 1. Flammable and Poison - Inorganic poisons/pesticides (liquid) | J24: =SUM(B24:I24) -> 0 | U24: =SUM(K24:T24) -> 0
A25: 1. Flammable and Poison - Hypochlorite compounds | J25: =SUM(B25:I25) -> 0 | U25: =SUM(K25:T25) -> 0
A26: 1. Flammable and Poison - Solvent sludge | J26: =SUM(B26:I26) -> 0 | U26: =SUM(K26:T26) -> 0
A27: 1. Flammable and Poison - Halogenated solvents | J27: =SUM(B27:I27) -> 0 | U27: =SUM(K27:T27) -> 0
A28: 1. Flammable and Poison - Non-halogenated solvents (toxic) | J28: =SUM(B28:I28) -> 0 | U28: =SUM(K28:T28) -> 0
A29: 1. Flammable and Poison - Reactive and explosive | B29: =SUM(B30:B38) -> 0 | C29: =SUM(C30:C38) -> 0 | D29: =SUM(D30:D38) -> 0 | E29: =SUM(E30:E38) -> 0 | F29: =SUM(F30:F38) -> 0 | G29: =SUM(G30:G38) -> 0 | H29: =SUM(H30:H38) -> 0 | I29: =SUM(I30:I38) -> 0 | J29: =SUM(B29:I29) -> 0 | K29: =SUM(K30:K38) -> 0 | L29: =SUM(L30:L38) -> 0 | M29: =SUM(M30:M38) -> 0 | N29: =SUM(N30:N38) -> 0 | O29: =SUM(O30:O38) -> 0 | P29: =SUM(P30:P38) -> 0 | Q29: =SUM(Q30:Q38) -> 0 | R29: =SUM(R30:R38) -> 0 | ... T29: =SUM(T30:T38) -> 0 | U29: =SUM(K29:T29) -> 0
A30: 1. Flammable and Poison - Reactives | J30: =SUM(B30:I30) -> 0 | U30: =SUM(K30:T30) -> 0
A31: 1. Flammable and Poison - Reactive cyanides | J31: =SUM(B31:I31) -> 0 | U31: =SUM(K31:T31) -> 0
A32: 1. Flammable and Poison - Reactive sulfides | J32: =SUM(B32:I32) -> 0 | U32: =SUM(K32:T32) -> 0
A33: 1. Flammable and Poison - Water reactive compounds, flammable gas producing, heat generating | J33: =SUM(B33:I33) -> 0 | U33: =SUM(K33:T33) -> 0
A34: 1. Flammable and Poison - Water reactive compounds, acid gas producing | J34: =SUM(B34:I34) -> 0 | U34: =SUM(K34:T34) -> 0
A35: 1. Flammable and Poison - Water reactive compounds, ammonia gas producing | J35: =SUM(B35:I35) -> 0 | U35: =SUM(K35:T35) -> 0
A36: 1. Flammable and Poison - Explosives | J36: =SUM(B36:I36) -> 0 | U36: =SUM(K36:T36) -> 0
A37: 1. Flammable and Poison - Ammunition | J37: =SUM(B37:I37) -> 0 | U37: =SUM(K37:T37) -> 0
A38: 1. Flammable and Poison - Fusees (marine flares) | J38: =SUM(B38:I38) -> 0 | U38: =SUM(K38:T38) -> 0
A39: 1. Flammable and Poison - Compressed gas cylinders | J39: =SUM(B39:I39) -> 0 | U39: =SUM(K39:T39) -> 0
A40: 1. Flammable and Poison - subtotal | B40: =B4+B9+B10+B15+B16+B29+B39 -> 0 | C40: =C4+C9+C10+C15+C16+C29+C39 -> 0 | D40: =D4+D9+D10+D15+D16+D29+D39 -> 0 | E40: =E4+E9+E10+E15+E16+E29+E39 -> 0 | F40: =F4+F9+F10+F15+F16+F29+F39 -> 0 | G40: =G4+G9+G10+G15+G16+G29+G39 -> 0 | H40: =H4+H9+H10+H15+H16+H29+H39 -> 0 | I40: =I4+I9+I10+I15+I16+I29+I39 -> 0 | J40: =SUM(B40:I40) -> 0 | K40: =K4+K9+K10+K15+K16+K29+K39 -> 0 | L40: =L4+L9+L10+L15+L16+L29+L39 -> 0 | M40: =M4+M9+M10+M15+M16+M29+M39 -> 0 | N40: =N4+N9+N10+N15+N16+N29+N39 -> 0 | O40: =O4+O9+O10+O15+O16+O29+O39 -> 0 | P40: =P4+P9+P10+P15+P16+P29+P39 -> 0 | Q40: =Q4+Q9+Q10+Q15+Q16+Q29+Q39 -> 0 | R40: =R4+R9+R10+R15+R16+R29+R39 -> 0 | ... T40: =T4+T9+T10+T15+T16+T29+T39 -> 0 | U40: =SUM(K40:T40) -> 0
A41: 2. PCB -containing - PCB-containing paint | J41: =SUM(B41:I41) -> 0 | U41: =SUM(K41:T41) -> 0
A42: 2. PCB -containing - Other PCB waste (includes ballasts) | B42: =SUM(B43:B44) -> 0 | C42: =SUM(C43:C44) -> 0 | D42: =SUM(D43:D44) -> 0 | E42: =SUM(E43:E44) -> 0 | F42: =SUM(F43:F44) -> 0 | G42: =SUM(G43:G44) -> 0 | H42: =SUM(H43:H44) -> 0 | I42: =SUM(I43:I44) -> 0 | J42: =SUM(B42:I42) -> 0 | K42: =SUM(K43:K44) -> 0 | L42: =SUM(L43:L44) -> 0 | M42: =SUM(M43:M44) -> 0 | N42: =SUM(N43:N44) -> 0 | O42: =SUM(O43:O44) -> 0 | P42: =SUM(P43:P44) -> 0 | Q42: =SUM(Q43:Q44) -> 0 | R42: =SUM(R43:R44) -> 0 | ... T42: =SUM(T43:T44) -> 0 | U42: =SUM(K42:T42) -> 0
A43: 2. PCB -containing - Other PCB waste (solid) | J43: =SUM(B43:I43) -> 0 | U43: =SUM(K43:T43) -> 0
A44: 2. PCB -containing - Other PCB waste (liquid) | J44: =SUM(B44:I44) -> 0 | U44: =SUM(K44:T44) -> 0
A45: 2. PCB -containing - subtotal | B45: =SUM(B41:B42) -> 0 | C45: =SUM(C41:C42) -> 0 | D45: =SUM(D41:D42) -> 0 | E45: =SUM(E41:E42) -> 0 | F45: =SUM(F41:F42) -> 0 | G45: =SUM(G41:G42) -> 0 | H45: =SUM(H41:H42) -> 0 | I45: =SUM(I41:I42) -> 0 | J45: =SUM(B45:I45) -> 0 | K45: =SUM(K41:K42) -> 0 | L45: =SUM(L41:L42) -> 0 | M45: =SUM(M41:M42) -> 0 | N45: =SUM(N41:N42) -> 0 | O45: =SUM(O41:O42) -> 0 | P45: =SUM(P41:P42) -> 0 | Q45: =SUM(Q41:Q42) -> 0 | R45: =SUM(R41:R42) -> 0 | ... T45: =SUM(T41:T42) -> 0 | U45: =SUM(K45:T45) -> 0
A46: 3. Reclaimable - Antifreeze | J46: =SUM(B46:I46) -> 0 | U46: =SUM(K46:T46) -> 0
A47: 3. Reclaimable - Auto type batteries (motor vehicles) | J47: =SUM(B47:I47) -> 0 | U47: =SUM(K47:T47) -> 0
A48: 3. Reclaimable - Latex paint | J48: =SUM(B48:I48) -> 0 | U48: =SUM(K48:T48) -> 0
A49: 3. Reclaimable - Motor oil/oil products | B49: =SUM(B50:B51) -> 0 | C49: =SUM(C50:C51) -> 0 | D49: =SUM(D50:D51) -> 0 | E49: =SUM(E50:E51) -> 0 | F49: =SUM(F50:F51) -> 0 | G49: =SUM(G50:G51) -> 0 | H49: =SUM(H50:H51) -> 0 | I49: =SUM(I50:I51) -> 0 | J49: =SUM(B49:I49) -> 0 | K49: =SUM(K50:K51) -> 0 | L49: =SUM(L50:L51) -> 0 | M49: =SUM(M50:M51) -> 0 | N49: =SUM(N50:N51) -> 0 | O49: =SUM(O50:O51) -> 0 | P49: =SUM(P50:P51) -> 0 | Q49: =SUM(Q50:Q51) -> 0 | R49: =SUM(R50:R51) -> 0 | ... T49: =SUM(T50:T51) -> 0 | U49: =SUM(K49:T49) -> 0
A50: 3. Reclaimable - Motor oil (contaminated) | J50: =SUM(B50:I50) -> 0 | U50: =SUM(K50:T50) -> 0
A51: 3. Reclaimable - Motor oil (non-contaminated) | J51: =SUM(B51:I51) -> 0 | U51: =SUM(K51:T51) -> 0
A52: 3. Reclaimable - Used oil filters (recyclables only) | J52: =SUM(B52:I52) -> 0 | U52: =SUM(K52:T52) -> 0
A53: 3. Reclaimable - subtotal | B53: =B46+B47+B48+B49+B52 -> 0 | C53: =C46+C47+C48+C49+C52 -> 0 | D53: =D46+D47+D48+D49+D52 -> 0 | E53: =E46+E47+E48+E49+E52 -> 0 | F53: =F46+F47+F48+F49+F52 -> 0 | G53: =G46+G47+G48+G49+G52 -> 0 | H53: =H46+H47+H48+H49+H52 -> 0 | I53: =I46+I47+I48+I49+I52 -> 0 | J53: =SUM(B53:I53) -> 0 | K53: =K46+K47+K48+K49+K52 -> 0 | L53: =L46+L47+L48+L49+L52 -> 0 | M53: =M46+M47+M48+M49+M52 -> 0 | N53: =N46+N47+N48+N49+N52 -> 0 | O53: =O46+O47+O48+O49+O52 -> 0 | P53: =P46+P47+P48+P49+P52 -> 0 | Q53: =Q46+Q47+Q48+Q49+Q52 -> 0 | R53: =R46+R47+R48+R49+R52 -> 0 | ... T53: =T46+T47+T48+T49+T52 -> 0 | U53: =SUM(K53:T53) -> 0
A54: * For purposes of the Form 303 reporting process, materials listed under the Universal Waste category do not necessarily need to be managed as Universal Waste (i.e., they can also be managed by the higher hazardous waste standard). Energy recovery or fuel incineration is not considered recycling. If the waste cannot be managed by recycling, then it must be managed as a hazardous waste.
A55: 4. Universal Waste (UW) * - Mercury containing automatic switches / thermometers / and novelties | J55: =SUM(B55:I55) -> 0 | U55: =SUM(K55:T55) -> 0
A56: 4. Universal Waste (UW) * - Mercury containing thermostats | J56: =SUM(B56:I56) -> 0 | U56: =SUM(K56:T56) -> 0
A57: 4. Universal Waste (UW) * - Mercury containing waste (other) | B57: =SUM(B58:B59) -> 0 | C57: =SUM(C58:C59) -> 0 | D57: =SUM(D58:D59) -> 0 | E57: =SUM(E58:E59) -> 0 | F57: =SUM(F58:F59) -> 0 | G57: =SUM(G58:G59) -> 0 | H57: =SUM(H58:H59) -> 0 | I57: =SUM(I58:I59) -> 0 | J57: =SUM(B57:I57) -> 0 | K57: =SUM(K58:K59) -> 0 | L57: =SUM(L58:L59) -> 0 | M57: =SUM(M58:M59) -> 0 | N57: =SUM(N58:N59) -> 0 | O57: =SUM(O58:O59) -> 0 | P57: =SUM(P58:P59) -> 0 | Q57: =SUM(Q58:Q59) -> 0 | R57: =SUM(R58:R59) -> 0 | ... T57: =SUM(T58:T59) -> 0 | U57: =SUM(K57:T57) -> 0
A58: 4. Universal Waste (UW) * - Elemental mercury | J58: =SUM(B58:I58) -> 0 | U58: =SUM(K58:T58) -> 0
A59: 4. Universal Waste (UW) * - Organic mercury compounds | J59: =SUM(B59:I59) -> 0 | U59: =SUM(K59:T59) -> 0
A60: 4. Universal Waste (UW) * - Lamps | B60: =SUM(B61:B70) -> 0 | C60: =SUM(C61:C70) -> 0 | D60: =SUM(D61:D70) -> 0 | E60: =SUM(E61:E70) -> 0 | F60: =SUM(F61:F70) -> 0 | G60: =SUM(G61:G70) -> 0 | H60: =SUM(H61:H70) -> 0 | I60: =SUM(I61:I70) -> 0 | J60: =SUM(B60:I60) -> 0 | K60: =SUM(K61:K70) -> 0 | L60: =SUM(L61:L70) -> 0 | M60: =SUM(M61:M70) -> 0 | N60: =SUM(N61:N70) -> 0 | O60: =SUM(O61:O70) -> 0 | P60: =SUM(P61:P70) -> 0 | Q60: =SUM(Q61:Q70) -> 0 | R60: =SUM(R61:R70) -> 0 | ... T60: =SUM(T61:T70) -> 0 | U60: =SUM(K60:T60) -> 0
A61: 4. Universal Waste (UW) * - Fluorescent tubes (straight) | J61: =SUM(B61:I61) -> 0 | U61: =SUM(K61:T61) -> 0
A62: 4. Universal Waste (UW) * - Fluorescent tubes (u-shaped) | J62: =SUM(B62:I62) -> 0 | U62: =SUM(K62:T62) -> 0
A63: 4. Universal Waste (UW) * - Compact fluorescent tubes (CFLs) | J63: =SUM(B63:I63) -> 0 | U63: =SUM(K63:T63) -> 0
A64: 4. Universal Waste (UW) * - Fluorescent tubes (broken) | J64: =SUM(B64:I64) -> 0 | U64: =SUM(K64:T64) -> 0
A65: 4. Universal Waste (UW) * - HID bulbs, Hg vapor, high pressure sodium, metal halides | J65: =SUM(B65:I65) -> 0 | U65: =SUM(K65:T65) -> 0
A66: 4. Universal Waste (UW) * - Shattershields | J66: =SUM(B66:I66) -> 0 | U66: =SUM(K66:T66) -> 0
A67: 4. Universal Waste (UW) * - Low pressure sodium bulbs/lamsp | J67: =SUM(B67:I67) -> 0 | U67: =SUM(K67:T67) -> 0
A68: 4. Universal Waste (UW) * - Neon bulbs & related material | J68: =SUM(B68:I68) -> 0 | U68: =SUM(K68:T68) -> 0
A69: 4. Universal Waste (UW) * - UV lamps | J69: =SUM(B69:I69) -> 0 | U69: =SUM(K69:T69) -> 0
A70: 4. Universal Waste (UW) * - Lamps (other) | J70: =SUM(B70:I70) -> 0 | U70: =SUM(K70:T70) -> 0
A71: 4. Universal Waste (UW) * - Rechargeable batteries | B71: =SUM(B72:B75) -> 0 | C71: =SUM(C72:C75) -> 0 | D71: =SUM(D72:D75) -> 0 | E71: =SUM(E72:E75) -> 0 | F71: =SUM(F72:F75) -> 0 | G71: =SUM(G72:G75) -> 0 | H71: =SUM(H72:H75) -> 0 | I71: =SUM(I72:I75) -> 0 | J71: =SUM(B71:I71) -> 0 | K71: =SUM(K72:K75) -> 0 | L71: =SUM(L72:L75) -> 0 | M71: =SUM(M72:M75) -> 0 | N71: =SUM(N72:N75) -> 0 | O71: =SUM(O72:O75) -> 0 | P71: =SUM(P72:P75) -> 0 | Q71: =SUM(Q72:Q75) -> 0 | R71: =SUM(R72:R75) -> 0 | ... T71: =SUM(T72:T75) -> 0 | U71: =SUM(K71:T71) -> 0
A72: 4. Universal Waste (UW) * - Nickel-cadmium (NiCd) | J72: =SUM(B72:I72) -> 0 | U72: =SUM(K72:T72) -> 0
A73: 4. Universal Waste (UW) * - Nickel metal hydride (NiMH) | J73: =SUM(B73:I73) -> 0 | U73: =SUM(K73:T73) -> 0
A74: 4. Universal Waste (UW) * - Lithium-ion | J74: =SUM(B74:I74) -> 0 | U74: =SUM(K74:T74) -> 0
A75: 4. Universal Waste (UW) * - Rechargeable batteries (other) | J75: =SUM(B75:I75) -> 0 | U75: =SUM(K75:T75) -> 0
A76: 4. Universal Waste (UW) * - Other batteries | B76: =SUM(B77:B81) -> 0 | C76: =SUM(C77:C81) -> 0 | D76: =SUM(D77:D81) -> 0 | E76: =SUM(E77:E81) -> 0 | F76: =SUM(F77:F81) -> 0 | G76: =SUM(G77:G81) -> 0 | H76: =SUM(H77:H81) -> 0 | I76: =SUM(I77:I81) -> 0 | J76: =SUM(B76:I76) -> 0 | K76: =SUM(K77:K81) -> 0 | L76: =SUM(L77:L81) -> 0 | M76: =SUM(M77:M81) -> 0 | N76: =SUM(N77:N81) -> 0 | O76: =SUM(O77:O81) -> 0 | P76: =SUM(P77:P81) -> 0 | Q76: =SUM(Q77:Q81) -> 0 | R76: =SUM(R77:R81) -> 0 | ... T76: =SUM(T77:T81) -> 0 | U76: =SUM(K76:T76) -> 0
A77: 4. Universal Waste (UW) * - Other batteries (recycled) | J77: =SUM(B77:I77) -> 0 | U77: =SUM(K77:T77) -> 0
A78: 4. Universal Waste (UW) * - Other batteries (landfilled) | J78: =SUM(B78:I78) -> 0 | U78: =SUM(K78:T78) -> 0
A79: 4. Universal Waste (UW) * - Alkaline batteries | J79: =SUM(B79:I79) -> 0 | U79: =SUM(K79:T79) -> 0
A80: 4. Universal Waste (UW) * - Lithium batteries | J80: =SUM(B80:I80) -> 0 | U80: =SUM(K80:T80) -> 0
A81: 4. Universal Waste (UW) * - Gell cell batteries | J81: =SUM(B81:I81) -> 0 | U81: =SUM(K81:T81) -> 0
A82: 4. Universal Waste (UW) * - Aerosol cans | J82: =SUM(B82:I82) -> 0 | U82: =SUM(K82:T82) -> 0
A83: 4. Universal Waste (UW) * - subtotal | B83: =B55+B56+B57+B60+B71+B76+B82 -> 0 | C83: =C55+C56+C57+C60+C71+C76+C82 -> 0 | D83: =D55+D56+D57+D60+D71+D76+D82 -> 0 | E83: =E55+E56+E57+E60+E71+E76+E82 -> 0 | F83: =F55+F56+F57+F60+F71+F76+F82 -> 0 | G83: =G55+G56+G57+G60+G71+G76+G82 -> 0 | H83: =H55+H56+H57+H60+H71+H76+H82 -> 0 | I83: =I55+I56+I57+I60+I71+I76+I82 -> 0 | J83: =SUM(B83:I83) -> 0 | K83: =K55+K56+K57+K60+K71+K76+K82 -> 0 | L83: =L55+L56+L57+L60+L71+L76+L82 -> 0 | M83: =M55+M56+M57+M60+M71+M76+M82 -> 0 | N83: =N55+N56+N57+N60+N71+N76+N82 -> 0 | O83: =O55+O56+O57+O60+O71+O76+O82 -> 0 | P83: =P55+P56+P57+P60+P71+P76+P82 -> 0 | Q83: =Q55+Q56+Q57+Q60+Q71+Q76+Q82 -> 0 | R83: =R55+R56+R57+R60+R71+R76+R82 -> 0 | ... T83: =T55+T56+T57+T60+T71+T76+T82 -> 0 | U83: =SUM(K83:T83) -> 0
A84: Electronic Waste (UW) - Covered Electronic Devices | J84: =SUM(B84:I84) -> 0 | U84: =SUM(K84:T84) -> 0
A85: Electronic Waste (UW) - Other Electronic Devices | J85: =SUM(B85:I85) -> 0 | U85: =SUM(K85:T85) -> 0
A86: Electronic Waste (UW) - subtotal | B86: =SUM(B84:B85) -> 0 | C86: =SUM(C84:C85) -> 0 | D86: =SUM(D84:D85) -> 0 | E86: =SUM(E84:E85) -> 0 | F86: =SUM(F84:F85) -> 0 | G86: =SUM(G84:G85) -> 0 | H86: =SUM(H84:H85) -> 0 | I86: =SUM(I84:I85) -> 0 | J86: =SUM(B86:I86) -> 0 | K86: =SUM(K84:K85) -> 0 | L86: =SUM(L84:L85) -> 0 | M86: =SUM(M84:M85) -> 0 | N86: =SUM(N84:N85) -> 0 | O86: =SUM(O84:O85) -> 0 | P86: =SUM(P84:P85) -> 0 | Q86: =SUM(Q84:Q85) -> 0 | R86: =SUM(R84:R85) -> 0 | ... T86: =SUM(T84:T85) -> 0 | U86: =SUM(K86:T86) -> 0
A87: all UW subtotal | B87: =SUM(B83+B86) -> 0 | C87: =SUM(C83+C86) -> 0 | D87: =SUM(D83+D86) -> 0 | E87: =SUM(E83+E86) -> 0 | F87: =SUM(F83+F86) -> 0 | G87: =SUM(G83+G86) -> 0 | H87: =SUM(H83+H86) -> 0 | I87: =SUM(I83+I86) -> 0 | J87: =SUM(B87:I87) -> 0 | K87: =K83+K86 -> 0 | L87: =L83+L86 -> 0 | M87: =M83+M86 -> 0 | N87: =N83+N86 -> 0 | O87: =O83+O86 -> 0 | P87: =P83+P86 -> 0 | Q87: =Q83+Q86 -> 0 | R87: =R83+R86 -> 0 | ... T87: =T83+T86 -> 0 | U87: =SUM(K87:T87) -> 0
A88: 5. Acid - Inorganic and organic acid | B88: =SUM(B89:B95) -> 0 | C88: =SUM(C89:C95) -> 0 | D88: =SUM(D89:D95) -> 0 | E88: =SUM(E89:E95) -> 0 | F88: =SUM(F89:F95) -> 0 | G88: =SUM(G89:G95) -> 0 | H88: =SUM(H89:H95) -> 0 | I88: =SUM(I89:I95) -> 0 | J88: =SUM(B88:I88) -> 0 | K88: =SUM(K89:K95) -> 0 | L88: =SUM(L89:L95) -> 0 | M88: =SUM(M89:M95) -> 0 | N88: =SUM(N89:N95) -> 0 | O88: =SUM(O89:O95) -> 0 | P88: =SUM(P89:P95) -> 0 | Q88: =SUM(Q89:Q95) -> 0 | R88: =SUM(R89:R95) -> 0 | ... T88: =SUM(T89:T95) -> 0 | U88: =SUM(K88:T88) -> 0
A89: 5. Acid - Inorganic and organic acid (mixed) | J89: =SUM(B89:I89) -> 0 | U89: =SUM(K89:T89) -> 0
A90: 5. Acid - Inorganic acid (solid and liquid) | J90: =SUM(B90:I90) -> 0 | U90: =SUM(K90:T90) -> 0
A91: 5. Acid - Inorganic acid (solid) | J91: =SUM(B91:I91) -> 0 | U91: =SUM(K91:T91) -> 0
A92: 5. Acid - Inorganic acid (liquid) | J92: =SUM(B92:I92) -> 0 | U92: =SUM(K92:T92) -> 0
A93: 5. Acid - Organic acid (solid and liquid) | J93: =SUM(B93:I93) -> 0 | U93: =SUM(K93:T93) -> 0
A94: 5. Acid - Organic acid (solid) | J94: =SUM(B94:I94) -> 0 | U94: =SUM(K94:T94) -> 0
A95: 5. Acid - Organic acid (liquid) | J95: =SUM(B95:I95) -> 0 | U95: =SUM(K95:T95) -> 0
A96: 6. Base - Inorganic and organic base | B96: =SUM(B97:B103) -> 0 | C96: =SUM(C97:C103) -> 0 | D96: =SUM(D97:D103) -> 0 | E96: =SUM(E97:E103) -> 0 | F96: =SUM(F97:F103) -> 0 | G96: =SUM(G97:G103) -> 0 | H96: =SUM(H97:H103) -> 0 | I96: =SUM(I97:I103) -> 0 | J96: =SUM(B96:I96) -> 0 | K96: =SUM(K97:K103) -> 0 | L96: =SUM(L97:L103) -> 0 | M96: =SUM(M97:M103) -> 0 | N96: =SUM(N97:N103) -> 0 | O96: =SUM(O97:O103) -> 0 | P96: =SUM(P97:P103) -> 0 | Q96: =SUM(Q97:Q103) -> 0 | R96: =SUM(R97:R103) -> 0 | ... T96: =SUM(T97:T103) -> 0 | U96: =SUM(K96:T96) -> 0
A97: 6. Base - Inorganic and organic base (mixed) | J97: =SUM(B97:I97) -> 0 | U97: =SUM(K97:T97) -> 0
A98: 6. Base - Inorganic base (solid and liquid) | J98: =SUM(B98:I98) -> 0 | U98: =SUM(K98:T98) -> 0
A99: 6. Base - Inorganic base (solid) | J99: =SUM(B99:I99) -> 0 | U99: =SUM(K99:T99) -> 0
A100: 6. Base - Inorganic base (liquid) | J100: =SUM(B100:I100) -> 0 | U100: =SUM(K100:T100) -> 0
A101: 6. Base - Organic base (solid and liquid) | J101: =SUM(B101:I101) -> 0 | U101: =SUM(K101:T101) -> 0
...

Sheet Feb
A2: åTrack more detail? Click [2] at top left.
A3: Material Type | B3: Pounds Collected by Program Type - Permanent Facility | C3: Pounds Collected by Program Type - Temporary (periodic) Facility | D3: Pounds Collected by Program Type - Mobile Facility | E3: Pounds Collected by Program Type - Recycle-only Facility | F3: Pounds Collected by Program Type - Door to Door (residential) Program | G3: Pounds Collected by Program Type - Curbside Program | H3: Pounds Collected by Program Type - Load Check | I3: Pounds Collected by Program Type - "Other" Prog Type (PT) PT_______ | J3: Pounds Collected by Program Type - Total Collected (pounds) | K3: Pounds Disposed / Diverted by Management Method - Destructive Incineration | L3: Pounds Disposed / Diverted by Management Method - Fuel Incineration | M3: Pounds Disposed / Diverted by Management Method - Landfill | N3: Pounds Disposed / Diverted by Management Method - Neutralization / Treatment | O3: Pounds Disposed / Diverted by Management Method - Recycled | P3: Pounds Disposed / Diverted by Management Method - Reused | Q3: Pounds Disposed / Diverted by Management Method - Stabilization | R3: Pounds Disposed / Diverted by Management Method - PaintCare | S3: Pounds Disposed / Diverted by Management Method - PaintCare Reuse | T3: Pounds Disposed / Diverted by Management Method - TRC | U3: Pounds Disposed / Diverted by Management Method - Total Disposed / Diverted (pounds)
A4: 1. Flammable and Poison - Flammable solids / liquids | B4: =SUM(B5:B8) -> 0 | C4: =SUM(C5:C8) -> 0 | D4: =SUM(D5:D8) -> 0 | E4: =SUM(E5:E8) -> 0 | F4: =SUM(F5:F8) -> 0 | G4: =SUM(G5:G8) -> 0 | H4: =SUM(H5:H8) -> 0 | I4: =SUM(I5:I8) -> 0 | J4: =SUM(B4:I4) -> 0 | K4: =SUM(K5:K8) -> 0 | L4: =SUM(L5:L8) -> 0 | M4: =SUM(M5:M8) -> 0 | N4: =SUM(N5:N8) -> 0 | O4: =SUM(O5:O8) -> 0 | P4: =SUM(P5:P8) -> 0 | Q4: =SUM(Q5:Q8) -> 0 | R4: =SUM(R5:R8) -> 0 | ... T4: =SUM(T5:T8) -> 0 | U4: =SUM(K4:T4) -> 0
A5: 1. Flammable and Poison - Flammable solids | J5: =SUM(B5:I5) -> 0 | U5: =SUM(K5:T5) -> 0
A6: 1. Flammable and Poison - Flammable liquids (loose pack) | J6: =SUM(B6:I6) -> 0 | U6: =SUM(K6:T6) -> 0
A7: 1. Flammable and Poison - Flammable cylinders | J7: =SUM(B7:I7) -> 0 | U7: =SUM(K7:T7) -> 0
A8: 1. Flammable and Poison - Non-halogenated solvents (flammable) | J8: =SUM(B8:I8) -> 0 | U8: =SUM(K8:T8) -> 0
A9: 1. Flammable and Poison - Bulked flammable liquids | J9: =SUM(B9:I9) -> 0 | U9: =SUM(K9:T9) -> 0
A10: 1. Flammable and Poison - Oil-based paints | B10: =SUM(B11:B14) -> 0 | C10: =SUM(C11:C14) -> 0 | D10: =SUM(D11:D14) -> 0 | E10: =SUM(E11:E14) -> 0 | F10: =SUM(F11:F14) -> 0 | G10: =SUM(G11:G14) -> 0 | H10: =SUM(H11:H14) -> 0 | I10: =SUM(I11:I14) -> 0 | J10: =SUM(B10:I10) -> 0 | K10: =SUM(K11:K14) -> 0 | L10: =SUM(L11:L14) -> 0 | M10: =SUM(M11:M14) -> 0 | N10: =SUM(N11:N14) -> 0 | O10: =SUM(O11:O14) -> 0 | P10: =SUM(P11:P14) -> 0 | Q10: =SUM(Q11:Q14) -> 0 | R10: =SUM(R11:R14) -> 0 | ... T10: =SUM(T11:T14) -> 0 | U10: =SUM(K10:T10) -> 0
A11: 1. Flammable and Poison - Oil-based paint (bulked) | J11: =SUM(B11:I11) -> 0 | U11: =SUM(K11:T11) -> 0
A12: 1. Flammable and Poison - Oil-based paint (loose packed) | J12: =SUM(B12:I12) -> 0 | U12: =SUM(K12:T12) -> 0
A13: 1. Flammable and Poison - Oil-based paint with PCBs | J13: =SUM(B13:I13) -> 0 | U13: =SUM(K13:T13) -> 0
A14: 1. Flammable and Poison - Oil-based paint sludge | J14: =SUM(B14:I14) -> 0 | U14: =SUM(K14:T14) -> 0
A15: 1. Flammable and Poison - Paint related material (PRM) | J15: =SUM(B15:I15) -> 0 | U15: =SUM(K15:T15) -> 0
A16: 1. Flammable and Poison - Poisons | B16: =SUM(B17:B28) -> 0 | C16: =SUM(C17:C28) -> 0 | D16: =SUM(D17:D28) -> 0 | E16: =SUM(E17:E28) -> 0 | F16: =SUM(F17:F28) -> 0 | G16: =SUM(G17:G28) -> 0 | H16: =SUM(H17:H28) -> 0 | I16: =SUM(I17:I28) -> 0 | J16: =SUM(B16:I16) -> 0 | K16: =SUM(K17:K28) -> 0 | L16: =SUM(L17:L28) -> 0 | M16: =SUM(M17:M28) -> 0 | N16: =SUM(N17:N28) -> 0 | O16: =SUM(O17:O28) -> 0 | P16: =SUM(P17:P28) -> 0 | Q16: =SUM(Q17:Q28) -> 0 | R16: =SUM(R17:R28) -> 0 | ... T16: =SUM(T17:T28) -> 0 | U16: =SUM(K16:T16) -> 0
A17: 1. Flammable and Poison - Poisons/toxic liquids | J17: =SUM(B17:I17) -> 0 | U17: =SUM(K17:T17) -> 0
A18: 1. Flammable and Poison - Poisons/toxic solids | J18: =SUM(B18:I18) -> 0 | U18: =SUM(K18:T18) -> 0
A19: 1. Flammable and Poison - Cyanides | J19: =SUM(B19:I19) -> 0 | U19: =SUM(K19:T19) -> 0
A20: 1. Flammable and Poison - Organic poisons/pesticides (solid) | J20: =SUM(B20:I20) -> 0 | U20: =SUM(K20:T20) -> 0
A21: 1. Flammable and Poison - Organic poisons/pesticides (liquid) | J21: =SUM(B21:I21) -> 0 | U21: =SUM(K21:T21) -> 0
A22: 1. Flammable and Poison - Solid lead waste (solder) | J22: =SUM(B22:I22) -> 0 | U22: =SUM(K22:T22) -> 0
A23: 1. Flammable and Poison - Inorganic poisons/pesticides (solid) | J23: =SUM(B23:I23) -> 0 | U23: =SUM(K23:T23) -> 0
A24: 1. Flammable and Poison - Inorganic poisons/pesticides (liquid) | J24: =SUM(B24:I24) -> 0 | U24: =SUM(K24:T24) -> 0
A25: 1. Flammable and Poison - Hypochlorite compounds | J25: =SUM(B25:I25) -> 0 | U25: =SUM(K25:T25) -> 0
A26: 1. Flammable and Poison - Solvent sludge | J26: =SUM(B26:I26) -> 0 | U26: =SUM(K26:T26) -> 0
A27: 1. Flammable and Poison - Halogenated solvents | J27: =SUM(B27:I27) -> 0 | U27: =SUM(K27:T27) -> 0
A28: 1. Flammable and Poison - Non-halogenated solvents (toxic) | J28: =SUM(B28:I28) -> 0 | U28: =SUM(K28:T28) -> 0
A29: 1. Flammable and Poison - Reactive and explosive | B29: =SUM(B30:B38) -> 0 | C29: =SUM(C30:C38) -> 0 | D29: =SUM(D30:D38) -> 0 | E29: =SUM(E30:E38) -> 0 | F29: =SUM(F30:F38) -> 0 | G29: =SUM(G30:G38) -> 0 | H29: =SUM(H30:H38) -> 0 | I29: =SUM(I30:I38) -> 0 | J29: =SUM(B29:I29) -> 0 | K29: =SUM(K30:K38) -> 0 | L29: =SUM(L30:L38) -> 0 | M29: =SUM(M30:M38) -> 0 | N29: =SUM(N30:N38) -> 0 | O29: =SUM(O30:O38) -> 0 | P29: =SUM(P30:P38) -> 0 | Q29: =SUM(Q30:Q38) -> 0 | R29: =SUM(R30:R38) -> 0 | ... T29: =SUM(T30:T38) -> 0 | U29: =SUM(K29:T29) -> 0
A30: 1. Flammable and Poison - Reactives | J30: =SUM(B30:I30) -> 0 | U30: =SUM(K30:T30) -> 0
A31: 1. Flammable and Poison - Reactive cyanides | J31: =SUM(B31:I31) -> 0 | U31: =SUM(K31:T31) -> 0
A32: 1. Flammable and Poison - Reactive sulfides | J32: =SUM(B32:I32) -> 0 | U32: =SUM(K32:T32) -> 0
A33: 1. Flammable and Poison - Water reactive compounds, flammable gas producing, heat generating | J33: =SUM(B33:I33) -> 0 | U33: =SUM(K33:T33) -> 0
A34: 1. Flammable and Poison - Water reactive compounds, acid gas producing | J34: =SUM(B34:I34) -> 0 | U34: =SUM(K34:T34) -> 0
A35: 1. Flammable and Poison - Water reactive compounds, ammonia gas producing | J35: =SUM(B35:I35) -> 0 | U35: =SUM(K35:T35) -> 0
A36: 1. Flammable and Poison - Explosives | J36: =SUM(B36:I36) -> 0 | U36: =SUM(K36:T36) -> 0
A37: 1. Flammable and Poison - Ammunition | J37: =SUM(B37:I37) -> 0 | U37: =SUM(K37:T37) -> 0
A38: 1. Flammable and Poison - Fusees (marine flares) | J38: =SUM(B38:I38) -> 0 | U38: =SUM(K38:T38) -> 0
A39: 1. Flammable and Poison - Compressed gas cylinders | J39: =SUM(B39:I39) -> 0 | U39: =SUM(K39:T39) -> 0
A40: 1. Flammable and Poison - subtotal | B40: =B4+B9+B10+B15+B16+B29+B39 -> 0 | C40: =C4+C9+C10+C15+C16+C29+C39 -> 0 | D40: =D4+D9+D10+D15+D16+D29+D39 -> 0 | E40: =E4+E9+E10+E15+E16+E29+E39 -> 0 | F40: =F4+F9+F10+F15+F16+F29+F39 -> 0 | G40: =G4+G9+G10+G15+G16+G29+G39 -> 0 | H40: =H4+H9+H10+H15+H16+H29+H39 -> 0 | I40: =I4+I9+I10+I15+I16+I29+I39 -> 0 | J40: =SUM(B40:I40) -> 0 | K40: =K4+K9+K10+K15+K16+K29+K39 -> 0 | L40: =L4+L9+L10+L15+L16+L29+L39 -> 0 | M40: =M4+M9+M10+M15+M16+M29+M39 -> 0 | N40: =N4+N9+N10+N15+N16+N29+N39 -> 0 | O40: =O4+O9+O10+O15+O16+O29+O39 -> 0 | P40: =P4+P9+P10+P15+P16+P29+P39 -> 0 | Q40: =Q4+Q9+Q10+Q15+Q16+Q29+Q39 -> 0 | R40: =R4+R9+R10+R15+R16+R29+R39 -> 0 | ... T40: =T4+T9+T10+T15+T16+T29+T39 -> 0 | U40: =SUM(K40:T40) -> 0
A41: 2. PCB -containing - PCB-containing paint | J41: =SUM(B41:I41) -> 0 | U41: =SUM(K41:T41) -> 0
A42: 2. PCB -containing - Other PCB waste (includes ballasts) | B42: =SUM(B43:B44) -> 0 | C42: =SUM(C43:C44) -> 0 | D42: =SUM(D43:D44) -> 0 | E42: =SUM(E43:E44) -> 0 | F42: =SUM(F43:F44) -> 0 | G42: =SUM(G43:G44) -> 0 | H42: =SUM(H43:H44) -> 0 | I42: =SUM(I43:I44) -> 0 | J42: =SUM(B42:I42) -> 0 | K42: =SUM(K43:K44) -> 0 | L42: =SUM(L43:L44) -> 0 | M42: =SUM(M43:M44) -> 0 | N42: =SUM(N43:N44) -> 0 | O42: =SUM(O43:O44) -> 0 | P42: =SUM(P43:P44) -> 0 | Q42: =SUM(Q43:Q44) -> 0 | R42: =SUM(R43:R44) -> 0 | ... T42: =SUM(T43:T44) -> 0 | U42: =SUM(K42:T42) -> 0
A43: 2. PCB -containing - Other PCB waste (solid) | J43: =SUM(B43:I43) -> 0 | U43: =SUM(K43:T43) -> 0
A44: 2. PCB -containing - Other PCB waste (liquid) | J44: =SUM(B44:I44) -> 0 | U44: =SUM(K44:T44) -> 0
A45: 2. PCB -containing - subtotal | B45: =SUM(B41:B42) -> 0 | C45: =SUM(C41:C42) -> 0 | D45: =SUM(D41:D42) -> 0 | E45: =SUM(E41:E42) -> 0 | F45: =SUM(F41:F42) -> 0 | G45: =SUM(G41:G42) -> 0 | H45: =SUM(H41:H42) -> 0 | I45: =SUM(I41:I42) -> 0 | J45: =SUM(B45:I45) -> 0 | K45: =SUM(K41:K42) -> 0 | L45: =SUM(L41:L42) -> 0 | M45: =SUM(M41:M42) -> 0 | N45: =SUM(N41:N42) -> 0 | O45: =SUM(O41:O42) -> 0 | P45: =SUM(P41:P42) -> 0 | Q45: =SUM(Q41:Q42) -> 0 | R45: =SUM(R41:R42) -> 0 | ... T45: =SUM(T41:T42) -> 0 | U45: =SUM(K45:T45) -> 0
A46: 3. Reclaimable - Antifreeze | J46: =SUM(B46:I46) -> 0 | U46: =SUM(K46:T46) -> 0
A47: 3. Reclaimable - Auto type batteries (motor vehicles) | J47: =SUM(B47:I47) -> 0 | U47: =SUM(K47:T47) -> 0
A48: 3. Reclaimable - Latex paint | J48: =SUM(B48:I48) -> 0 | U48: =SUM(K48:T48) -> 0
A49: 3. Reclaimable - Motor oil/oil products | B49: =SUM(B50:B51) -> 0 | C49: =SUM(C50:C51) -> 0 | D49: =SUM(D50:D51) -> 0 | E49: =SUM(E50:E51) -> 0 | F49: =SUM(F50:F51) -> 0 | G49: =SUM(G50:G51) -> 0 | H49: =SUM(H50:H51) -> 0 | I49: =SUM(I50:I51) -> 0 | J49: =SUM(B49:I49) -> 0 | K49: =SUM(K50:K51) -> 0 | L49: =SUM(L50:L51) -> 0 | M49: =SUM(M50:M51) -> 0 | N49: =SUM(N50:N51) -> 0 | O49: =SUM(O50:O51) -> 0 | P49: =SUM(P50:P51) -> 0 | Q49: =SUM(Q50:Q51) -> 0 | R49: =SUM(R50:R51) -> 0 | ... T49: =SUM(T50:T51) -> 0 | U49: =SUM(K49:T49) -> 0
A50: 3. Reclaimable - Motor oil (contaminated) | J50: =SUM(B50:I50) -> 0 | U50: =SUM(K50:T50) -> 0
A51: 3. Reclaimable - Motor oil (non-contaminated) | J51: =SUM(B51:I51) -> 0 | U51: =SUM(K51:T51) -> 0
A52: 3. Reclaimable - Used oil filters (recyclables only) | J52: =SUM(B52:I52) -> 0 | U52: =SUM(K52:T52) -> 0
A53: 3. Reclaimable - subtotal | B53: =B46+B47+B48+B49+B52 -> 0 | C53: =C46+C47+C48+C49+C52 -> 0 | D53: =D46+D47+D48+D49+D52 -> 0 | E53: =E46+E47+E48+E49+E52 -> 0 | F53: =F46+F47+F48+F49+F52 -> 0 | G53: =G46+G47+G48+G49+G52 -> 0 | H53: =H46+H47+H48+H49+H52 -> 0 | I53: =I46+I47+I48+I49+I52 -> 0 | J53: =SUM(B53:I53) -> 0 | K53: =K46+K47+K48+K49+K52 -> 0 | L53: =L46+L47+L48+L49+L52 -> 0 | M53: =M46+M47+M48+M49+M52 -> 0 | N53: =N46+N47+N48+N49+N52 -> 0 | O53: =O46+O47+O48+O49+O52 -> 0 | P53: =P46+P47+P48+P49+P52 -> 0 | Q53: =Q46+Q47+Q48+Q49+Q52 -> 0 | R53: =R46+R47+R48+R49+R52 -> 0 | ... T53: =T46+T47+T48+T49+T52 -> 0 | U53: =SUM(K53:T53) -> 0
A54: * For purposes of the Form 303 reporting process, materials listed under the Universal Waste category do not necessarily need to be managed as Universal Waste (i.e., they can also be managed by the higher hazardous waste standard). Energy recovery or fuel incineration is not considered recycling. If the waste cannot be managed by recycling, then it must be managed as a hazardous waste.
A55: 4. Universal Waste (UW) * - Mercury containing automatic switches / thermometers / and novelties | J55: =SUM(B55:I55) -> 0 | U55: =SUM(K55:T55) -> 0
A56: 4. Universal Waste (UW) * - Mercury containing thermostats | J56: =SUM(B56:I56) -> 0 | U56: =SUM(K56:T56) -> 0
A57: 4. Universal Waste (UW) * - Mercury containing waste (other) | B57: =SUM(B58:B59) -> 0 | C57: =SUM(C58:C59) -> 0 | D57: =SUM(D58:D59) -> 0 | E57: =SUM(E58:E59) -> 0 | F57: =SUM(F58:F59) -> 0 | G57: =SUM(G58:G59) -> 0 | H57: =SUM(H58:H59) -> 0 | I57: =SUM(I58:I59) -> 0 | J57: =SUM(B57:I57) -> 0 | K57: =SUM(K58:K59) -> 0 | L57: =SUM(L58:L59) -> 0 | M57: =SUM(M58:M59) -> 0 | N57: =SUM(N58:N59) -> 0 | O57: =SUM(O58:O59) -> 0 | P57: =SUM(P58:P59) -> 0 | Q57: =SUM(Q58:Q59) -> 0 | R57: =SUM(R58:R59) -> 0 | ... T57: =SUM(T58:T59) -> 0 | U57: =SUM(K57:T57) -> 0
A58: 4. Universal Waste (UW) * - Elemental mercury | J58: =SUM(B58:I58) -> 0 | U58: =SUM(K58:T58) -> 0
A59: 4. Universal Waste (UW) * - Organic mercury compounds | J59: =SUM(B59:I59) -> 0 | U59: =SUM(K59:T59) -> 0
A60: 4. Universal Waste (UW) * - Lamps | B60: =SUM(B61:B70) -> 0 | C60: =SUM(C61:C70) -> 0 | D60: =SUM(D61:D70) -> 0 | E60: =SUM(E61:E70) -> 0 | F60: =SUM(F61:F70) -> 0 | G60: =SUM(G61:G70) -> 0 | H60: =SUM(H61:H70) -> 0 | I60: =SUM(I61:I70) -> 0 | J60: =SUM(B60:I60) -> 0 | K60: =SUM(K61:K70) -> 0 | L60: =SUM(L61:L70) -> 0 | M60: =SUM(M61:M70) -> 0 | N60: =SUM(N61:N70) -> 0 | O60: =SUM(O61:O70) -> 0 | P60: =SUM(P61:P70) -> 0 | Q60: =SUM(Q61:Q70) -> 0 | R60: =SUM(R61:R70) -> 0 | ... T60: =SUM(T61:T70) -> 0 | U60: =SUM(K60:T60) -> 0
A61: 4. Universal Waste (UW) * - Fluorescent tubes (straight) | J61: =SUM(B61:I61) -> 0 | U61: =SUM(K61:T61) -> 0
A62: 4. Universal Waste (UW) * - Fluorescent tubes (u-shaped) | J62: =SUM(B62:I62) -> 0 | U62: =SUM(K62:T62) -> 0
A63: 4. Universal Waste (UW) * - Compact fluorescent tubes (CFLs) | J63: =SUM(B63:I63) -> 0 | U63: =SUM(K63:T63) -> 0
A64: 4. Universal Waste (UW) * - Fluorescent tubes (broken) | J64: =SUM(B64:I64) -> 0 | U64: =SUM(K64:T64) -> 0
A65: 4. Universal Waste (UW) * - HID bulbs, Hg vapor, high pressure sodium, metal halides | J65: =SUM(B65:I65) -> 0 | U65: =SUM(K65:T65) -> 0
A66: 4. Universal Waste (UW) * - Shattershields | J66: =SUM(B66:I66) -> 0 | U66: =SUM(K66:T66) -> 0
A67: 4. Universal Waste (UW) * - Low pressure sodium bulbs/lamsp | J67: =SUM(B67:I67) -> 0 | U67: =SUM(K67:T67) -> 0
A68: 4. Universal Waste (UW) * - Neon bulbs & related material | J68: =SUM(B68:I68) -> 0 | U68: =SUM(K68:T68) -> 0
A69: 4. Universal Waste (UW) * - UV lamps | J69: =SUM(B69:I69) -> 0 | U69: =SUM(K69:T69) -> 0
A70: 4. Universal Waste (UW) * - Lamps (other) | J70: =SUM(B70:I70) -> 0 | U70: =SUM(K70:T70) -> 0
A71: 4. Universal Waste (UW) * - Rechargeable batteries | B71: =SUM(B72:B75) -> 0 | C71: =SUM(C72:C75) -> 0 | D71: =SUM(D72:D75) -> 0 | E71: =SUM(E72:E75) -> 0 | F71: =SUM(F72:F75) -> 0 | G71: =SUM(G72:G75) -> 0 | H71: =SUM(H72:H75) -> 0 | I71: =SUM(I72:I75) -> 0 | J71: =SUM(B71:I71) -> 0 | K71: =SUM(K72:K75) -> 0 | L71: =SUM(L72:L75) -> 0 | M71: =SUM(M72:M75) -> 0 | N71: =SUM(N72:N75) -> 0 | O71: =SUM(O72:O75) -> 0 | P71: =SUM(P72:P75) -> 0 | Q71: =SUM(Q72:Q75) -> 0 | R71: =SUM(R72:R75) -> 0 | ... T71: =SUM(T72:T75) -> 0 | U71: =SUM(K71:T71) -> 0
A72: 4. Universal Waste (UW) * - Nickel-cadmium (NiCd) | J72: =SUM(B72:I72) -> 0 | U72: =SUM(K72:T72) -> 0
A73: 4. Universal Waste (UW) * - Nickel metal hydride (NiMH) | J73: =SUM(B73:I73) -> 0 | U73: =SUM(K73:T73) -> 0
A74: 4. Universal Waste (UW) * - Lithium-ion | J74: =SUM(B74:I74) -> 0 | U74: =SUM(K74:T74) -> 0
A75: 4. Universal Waste (UW) * - Rechargeable batteries (other) | J75: =SUM(B75:I75) -> 0 | U75: =SUM(K75:T75) -> 0
A76: 4. Universal Waste (UW) * - Other batteries | B76: =SUM(B77:B81) -> 0 | C76: =SUM(C77:C81) -> 0 | D76: =SUM(D77:D81) -> 0 | E76: =SUM(E77:E81) -> 0 | F76: =SUM(F77:F81) -> 0 | G76: =SUM(G77:G81) -> 0 | H76: =SUM(H77:H81) -> 0 | I76: =SUM(I77:I81) -> 0 | J76: =SUM(B76:I76) -> 0 | K76: =SUM(K77:K81) -> 0 | L76: =SUM(L77:L81) -> 0 | M76: =SUM(M77:M81) -> 0 | N76: =SUM(N77:N81) -> 0 | O76: =SUM(O77:O81) -> 0 | P76: =SUM(P77:P81) -> 0 | Q76: =SUM(Q77:Q81) -> 0 | R76: =SUM(R77:R81) -> 0 | ... T76: =SUM(T77:T81) -> 0 | U76: =SUM(K76:T76) -> 0
A77: 4. Universal Waste (UW) * - Other batteries (recycled) | J77: =SUM(B77:I77) -> 0 | U77: =SUM(K77:T77) -> 0
A78: 4. Universal Waste (UW) * - Other batteries (landfilled) | J78: =SUM(B78:I78) -> 0 | U78: =SUM(K78:T78) -> 0
A79: 4. Universal Waste (UW) * - Alkaline batteries | J79: =SUM(B79:I79) -> 0 | U79: =SUM(K79:T79) -> 0
A80: 4. Universal Waste (UW) * - Lithium batteries | J80: =SUM(B80:I80) -> 0 | U80: =SUM(K80:T80) -> 0
A81: 4. Universal Waste (UW) * - Gell cell batteries | J81: =SUM(B81:I81) -> 0 | U81: =SUM(K81:T81) -> 0
A82: 4. Universal Waste (UW) * - Aerosol cans | J82: =SUM(B82:I82) -> 0 | U82: =SUM(K82:T82) -> 0
A83: 4. Universal Waste (UW) * - subtotal | B83: =B55+B56+B57+B60+B71+B76+B82 -> 0 | C83: =C55+C56+C57+C60+C71+C76+C82 -> 0 | D83: =D55+D56+D57+D60+D71+D76+D82 -> 0 | E83: =E55+E56+E57+E60+E71+E76+E82 -> 0 | F83: =F55+F56+F57+F60+F71+F76+F82 -> 0 | G83: =G55+G56+G57+G60+G71+G76+G82 -> 0 | H83: =H55+H56+H57+H60+H71+H76+H82 -> 0 | I83: =I55+I56+I57+I60+I71+I76+I82 -> 0 | J83: =SUM(B83:I83) -> 0 | K83: =K55+K56+K57+K60+K71+K76+K82 -> 0 | L83: =L55+L56+L57+L60+L71+L76+L82 -> 0 | M83: =M55+M56+M57+M60+M71+M76+M82 -> 0 | N83: =N55+N56+N57+N60+N71+N76+N82 -> 0 | O83: =O55+O56+O57+O60+O71+O76+O82 -> 0 | P83: =P55+P56+P57+P60+P71+P76+P82 -> 0 | Q83: =Q55+Q56+Q57+Q60+Q71+Q76+Q82 -> 0 | R83: =R55+R56+R57+R60+R71+R76+R82 -> 0 | ... T83: =T55+T56+T57+T60+T71+T76+T82 -> 0 | U83: =SUM(K83:T83) -> 0
A84: Electronic Waste (UW) - Covered Electronic Devices | J84: =SUM(B84:I84) -> 0 | U84: =SUM(K84:T84) -> 0
A85: Electronic Waste (UW) - Other Electronic Devices | J85: =SUM(B85:I85) -> 0 | U85: =SUM(K85:T85) -> 0
A86: Electronic Waste (UW) - subtotal | B86: =SUM(B84:B85) -> 0 | C86: =SUM(C84:C85) -> 0 | D86: =SUM(D84:D85) -> 0 | E86: =SUM(E84:E85) -> 0 | F86: =SUM(F84:F85) -> 0 | G86: =SUM(G84:G85) -> 0 | H86: =SUM(H84:H85) -> 0 | I86: =SUM(I84:I85) -> 0 | J86: =SUM(B86:I86) -> 0 | K86: =SUM(K84:K85) -> 0 | L86: =SUM(L84:L85) -> 0 | M86: =SUM(M84:M85) -> 0 | N86: =SUM(N84:N85) -> 0 | O86: =SUM(O84:O85) -> 0 | P86: =SUM(P84:P85) -> 0 | Q86: =SUM(Q84:Q85) -> 0 | R86: =SUM(R84:R85) -> 0 | ... T86: =SUM(T84:T85) -> 0 | U86: =SUM(K86:T86) -> 0
A87: all UW subtotal | B87: =SUM(B83+B86) -> 0 | C87: =SUM(C83+C86) -> 0 | D87: =SUM(D83+D86) -> 0 | E87: =SUM(E83+E86) -> 0 | F87: =SUM(F83+F86) -> 0 | G87: =SUM(G83+G86) -> 0 | H87: =SUM(H83+H86) -> 0 | I87: =SUM(I83+I86) -> 0 | J87: =SUM(B87:I87) -> 0 | K87: =K83+K86 -> 0 | L87: =L83+L86 -> 0 | M87: =M83+M86 -> 0 | N87: =N83+N86 -> 0 | O87: =O83+O86 -> 0 | P87: =P83+P86 -> 0 | Q87: =Q83+Q86 -> 0 | R87: =R83+R86 -> 0 | ... T87: =T83+T86 -> 0 | U87: =SUM(K87:T87) -> 0
A88: 5. Acid - Inorganic and organic acid | B88: =SUM(B89:B95) -> 0 | C88: =SUM(C89:C95) -> 0 | D88: =SUM(D89:D95) -> 0 | E88: =SUM(E89:E95) -> 0 | F88: =SUM(F89:F95) -> 0 | G88: =SUM(G89:G95) -> 0 | H88: =SUM(H89:H95) -> 0 | I88: =SUM(I89:I95) -> 0 | J88: =SUM(B88:I88) -> 0 | K88: =SUM(K89:K95) -> 0 | L88: =SUM(L89:L95) -> 0 | M88: =SUM(M89:M95) -> 0 | N88: =SUM(N89:N95) -> 0 | O88: =SUM(O89:O95) -> 0 | P88: =SUM(P89:P95) -> 0 | Q88: =SUM(Q89:Q95) -> 0 | R88: =SUM(R89:R95) -> 0 | ... T88: =SUM(T89:T95) -> 0 | U88: =SUM(K88:T88) -> 0
A89: 5. Acid - Inorganic and organic acid (mixed) | J89: =SUM(B89:I89) -> 0 | U89: =SUM(K89:T89) -> 0
A90: 5. Acid - Inorganic acid (solid and liquid) | J90: =SUM(B90:I90) -> 0 | U90: =SUM(K90:T90) -> 0
A91: 5. Acid - Inorganic acid (solid) | J91: =SUM(B91:I91) -> 0 | U91: =SUM(K91:T91) -> 0
A92: 5. Acid - Inorganic acid (liquid) | J92: =SUM(B92:I92) -> 0 | U92: =SUM(K92:T92) -> 0
A93: 5. Acid - Organic acid (solid and liquid) | J93: =SUM(B93:I93) -> 0 | U93: =SUM(K93:T93) -> 0
A94: 5. Acid - Organic acid (solid) | J94: =SUM(B94:I94) -> 0 | U94: =SUM(K94:T94) -> 0
A95: 5. Acid - Organic acid (liquid) | J95: =SUM(B95:I95) -> 0 | U95: =SUM(K95:T95) -> 0
A96: 6. Base - Inorganic and organic base | B96: =SUM(B97:B103) -> 0 | C96: =SUM(C97:C103) -> 0 | D96: =SUM(D97:D103) -> 0 | E96: =SUM(E97:E103) -> 0 | F96: =SUM(F97:F103) -> 0 | G96: =SUM(G97:G103) -> 0 | H96: =SUM(H97:H103) -> 0 | I96: =SUM(I97:I103) -> 0 | J96: =SUM(B96:I96) -> 0 | K96: =SUM(K97:K103) -> 0 | L96: =SUM(L97:L103) -> 0 | M96: =SUM(M97:M103) -> 0 | N96: =SUM(N97:N103) -> 0 | O96: =SUM(O97:O103) -> 0 | P96: =SUM(P97:P103) -> 0 | Q96: =SUM(Q97:Q103) -> 0 | R96: =SUM(R97:R103) -> 0 | ... T96: =SUM(T97:T103) -> 0 | U96: =SUM(K96:T96) -> 0
A97: 6. Base - Inorganic and organic base (mixed) | J97: =SUM(B97:I97) -> 0 | U97: =SUM(K97:T97) -> 0
A98: 6. Base - Inorganic base (solid and liquid) | J98: =SUM(B98:I98) -> 0 | U98: =SUM(K98:T98) -> 0
A99: 6. Base - Inorganic base (solid) | J99: =SUM(B99:I99) -> 0 | U99: =SUM(K99:T99) -> 0
A100: 6. Base - Inorganic base (liquid) | J100: =SUM(B100:I100) -> 0 | U100: =SUM(K100:T100) -> 0
A101: 6. Base - Organic base (solid and liquid) | J101: =SUM(B101:I101) -> 0 | U101: =SUM(K101:T101) -> 0
...

Sheet Apr
A2: åTrack more detail? Click [2] at top left.
A3: Material Type | B3: Pounds Collected by Program Type - Permanent Facility | C3: Pounds Collected by Program Type - Temporary (periodic) Facility | D3: Pounds Collected by Program Type - Mobile Facility | E3: Pounds Collected by Program Type - Recycle-only Facility | F3: Pounds Collected by Program Type - Door to Door (residential) Program | G3: Pounds Collected by Program Type - Curbside Program | H3: Pounds Collected by Program Type - Load Check | I3: Pounds Collected by Program Type - "Other" Prog Type (PT) PT_______ | J3: Pounds Collected by Program Type - Total Collected (pounds) | K3: Pounds Disposed / Diverted by Management Method - Destructive Incineration | L3: Pounds Disposed / Diverted by Management Method - Fuel Incineration | M3: Pounds Disposed / Diverted by Management Method - Landfill | N3: Pounds Disposed / Diverted by Management Method - Neutralization / Treatment | O3: Pounds Disposed / Diverted by Management Method - Recycled | P3: Pounds Disposed / Diverted by Management Method - Reused | Q3: Pounds Disposed / Diverted by Management Method - Stabilization | R3: Pounds Disposed / Diverted by Management Method - PaintCare | S3: Pounds Disposed / Diverted by Management Method - PaintCare Reuse | T3: Pounds Disposed / Diverted by Management Method - TRC | U3: Pounds Disposed / Diverted by Management Method - Total Disposed / Diverted (pounds)
A4: 1. Flammable and Poison - Flammable solids / liquids | B4: =SUM(B5:B8) -> 0 | C4: =SUM(C5:C8) -> 0 | D4: =SUM(D5:D8) -> 0 | E4: =SUM(E5:E8) -> 0 | F4: =SUM(F5:F8) -> 0 | G4: =SUM(G5:G8) -> 0 | H4: =SUM(H5:H8) -> 0 | I4: =SUM(I5:I8) -> 0 | J4: =SUM(B4:I4) -> 0 | K4: =SUM(K5:K8) -> 0 | L4: =SUM(L5:L8) -> 0 | M4: =SUM(M5:M8) -> 0 | N4: =SUM(N5:N8) -> 0 | O4: =SUM(O5:O8) -> 0 | P4: =SUM(P5:P8) -> 0 | Q4: =SUM(Q5:Q8) -> 0 | R4: =SUM(R5:R8) -> 0 | ... T4: =SUM(T5:T8) -> 0 | U4: =SUM(K4:T4) -> 0
A5: 1. Flammable and Poison - Flammable solids | J5: =SUM(B5:I5) -> 0 | U5: =SUM(K5:T5) -> 0
A6: 1. Flammable and Poison - Flammable liquids (loose pack) | J6: =SUM(B6:I6) -> 0 | U6: =SUM(K6:T6) -> 0
A7: 1. Flammable and Poison - Flammable cylinders | J7: =SUM(B7:I7) -> 0 | U7: =SUM(K7:T7) -> 0
A8: 1. Flammable and Poison - Non-halogenated solvents (flammable) | J8: =SUM(B8:I8) -> 0 | U8: =SUM(K8:T8) -> 0
A9: 1. Flammable and Poison - Bulked flammable liquids | J9: =SUM(B9:I9) -> 0 | U9: =SUM(K9:T9) -> 0
A10: 1. Flammable and Poison - Oil-based paints | B10: =SUM(B11:B14) -> 0 | C10: =SUM(C11:C14) -> 0 | D10: =SUM(D11:D14) -> 0 | E10: =SUM(E11:E14) -> 0 | F10: =SUM(F11:F14) -> 0 | G10: =SUM(G11:G14) -> 0 | H10: =SUM(H11:H14) -> 0 | I10: =SUM(I11:I14) -> 0 | J10: =SUM(B10:I10) -> 0 | K10: =SUM(K11:K14) -> 0 | L10: =SUM(L11:L14) -> 0 | M10: =SUM(M11:M14) -> 0 | N10: =SUM(N11:N14) -> 0 | O10: =SUM(O11:O14) -> 0 | P10: =SUM(P11:P14) -> 0 | Q10: =SUM(Q11:Q14) -> 0 | R10: =SUM(R11:R14) -> 0 | ... T10: =SUM(T11:T14) -> 0 | U10: =SUM(K10:T10) -> 0
A11: 1. Flammable and Poison - Oil-based paint (bulked) | J11: =SUM(B11:I11) -> 0 | U11: =SUM(K11:T11) -> 0
A12: 1. Flammable and Poison - Oil-based paint (loose packed) | J12: =SUM(B12:I12) -> 0 | U12: =SUM(K12:T12) -> 0
A13: 1. Flammable and Poison - Oil-based paint with PCBs | J13: =SUM(B13:I13) -> 0 | U13: =SUM(K13:T13) -> 0
A14: 1. Flammable and Poison - Oil-based paint sludge | J14: =SUM(B14:I14) -> 0 | U14: =SUM(K14:T14) -> 0
A15: 1. Flammable and Poison - Paint related material (PRM) | J15: =SUM(B15:I15) -> 0 | U15: =SUM(K15:T15) -> 0
A16: 1. Flammable and Poison - Poisons | B16: =SUM(B17:B28) -> 0 | C16: =SUM(C17:C28) -> 0 | D16: =SUM(D17:D28) -> 0 | E16: =SUM(E17:E28) -> 0 | F16: =SUM(F17:F28) -> 0 | G16: =SUM(G17:G28) -> 0 | H16: =SUM(H17:H28) -> 0 | I16: =SUM(I17:I28) -> 0 | J16: =SUM(B16:I16) -> 0 | K16: =SUM(K17:K28) -> 0 | L16: =SUM(L17:L28) -> 0 | M16: =SUM(M17:M28) -> 0 | N16: =SUM(N17:N28) -> 0 | O16: =SUM(O17:O28) -> 0 | P16: =SUM(P17:P28) -> 0 | Q16: =SUM(Q17:Q28) -> 0 | R16: =SUM(R17:R28) -> 0 | ... T16: =SUM(T17:T28) -> 0 | U16: =SUM(K16:T16) -> 0
A17: 1. Flammable and Poison - Poisons/toxic liquids | J17: =SUM(B17:I17) -> 0 | U17: =SUM(K17:T17) -> 0
A18: 1. Flammable and Poison - Poisons/toxic solids | J18: =SUM(B18:I18) -> 0 | U18: =SUM(K18:T18) -> 0
A19: 1. Flammable and Poison - Cyanides | J19: =SUM(B19:I19) -> 0 | U19: =SUM(K19:T19) -> 0
A20: 1. Flammable and Poison - Organic poisons/pesticides (solid) | J20: =SUM(B20:I20) -> 0 | U20: =SUM(K20:T20) -> 0
A21: 1. Flammable and Poison - Organic poisons/pesticides (liquid) | J21: =SUM(B21:I21) -> 0 | U21: =SUM(K21:T21) -> 0
A22: 1. Flammable and Poison - Solid lead waste (solder) | J22: =SUM(B22:I22) -> 0 | U22: =SUM(K22:T22) -> 0
A23: 1. Flammable and Poison - Inorganic poisons/pesticides (solid) | J23: =SUM(B23:I23) -> 0 | U23: =SUM(K23:T23) -> 0
A24: 1. Flammable and Poison - Inorganic poisons/pesticides (liquid) | J24: =SUM(B24:I24) -> 0 | U24: =SUM(K24:T24) -> 0
A25: 1. Flammable and Poison - Hypochlorite compounds | J25: =SUM(B25:I25) -> 0 | U25: =SUM(K25:T25) -> 0
A26: 1. Flammable and Poison - Solvent sludge | J26: =SUM(B26:I26) -> 0 | U26: =SUM(K26:T26) -> 0
A27: 1. Flammable and Poison - Halogenated solvents | J27: =SUM(B27:I27) -> 0 | U27: =SUM(K27:T27) -> 0
A28: 1. Flammable and Poison - Non-halogenated solvents (toxic) | J28: =SUM(B28:I28) -> 0 | U28: =SUM(K28:T28) -> 0
A29: 1. Flammable and Poison - Reactive and explosive | B29: =SUM(B30:B38) -> 0 | C29: =SUM(C30:C38) -> 0 | D29: =SUM(D30:D38) -> 0 | E29: =SUM(E30:E38) -> 0 | F29: =SUM(F30:F38) -> 0 | G29: =SUM(G30:G38) -> 0 | H29: =SUM(H30:H38) -> 0 | I29: =SUM(I30:I38) -> 0 | J29: =SUM(B29:I29) -> 0 | K29: =SUM(K30:K38) -> 0 | L29: =SUM(L30:L38) -> 0 | M29: =SUM(M30:M38) -> 0 | N29: =SUM(N30:N38) -> 0 | O29: =SUM(O30:O38) -> 0 | P29: =SUM(P30:P38) -> 0 | Q29: =SUM(Q30:Q38) -> 0 | R29: =SUM(R30:R38) -> 0 | ... T29: =SUM(T30:T38) -> 0 | U29: =SUM(K29:T29) -> 0
A30: 1. Flammable and Poison - Reactives | J30: =SUM(B30:I30) -> 0 | U30: =SUM(K30:T30) -> 0
A31: 1. Flammable and Poison - Reactive cyanides | J31: =SUM(B31:I31) -> 0 | U31: =SUM(K31:T31) -> 0
A32: 1. Flammable and Poison - Reactive sulfides | J32: =SUM(B32:I32) -> 0 | U32: =SUM(K32:T32) -> 0
A33: 1. Flammable and Poison - Water reactive compounds, flammable gas producing, heat generating | J33: =SUM(B33:I33) -> 0 | U33: =SUM(K33:T33) -> 0
A34: 1. Flammable and Poison - Water reactive compounds, acid gas producing | J34: =SUM(B34:I34) -> 0 | U34: =SUM(K34:T34) -> 0
A35: 1. Flammable and Poison - Water reactive compounds, ammonia gas producing | J35: =SUM(B35:I35) -> 0 | U35: =SUM(K35:T35) -> 0
A36: 1. Flammable and Poison - Explosives | J36: =SUM(B36:I36) -> 0 | U36: =SUM(K36:T36) -> 0
A37: 1. Flammable and Poison - Ammunition | J37: =SUM(B37:I37) -> 0 | U37: =SUM(K37:T37) -> 0
A38: 1. Flammable and Poison - Fusees (marine flares) | J38: =SUM(B38:I38) -> 0 | U38: =SUM(K38:T38) -> 0
A39: 1. Flammable and Poison - Compressed gas cylinders | J39: =SUM(B39:I39) -> 0 | U39: =SUM(K39:T39) -> 0
A40: 1. Flammable and Poison - subtotal | B40: =B4+B9+B10+B15+B16+B29+B39 -> 0 | C40: =C4+C9+C10+C15+C16+C29+C39 -> 0 | D40: =D4+D9+D10+D15+D16+D29+D39 -> 0 | E40: =E4+E9+E10+E15+E16+E29+E39 -> 0 | F40: =F4+F9+F10+F15+F16+F29+F39 -> 0 | G40: =G4+G9+G10+G15+G16+G29+G39 -> 0 | H40: =H4+H9+H10+H15+H16+H29+H39 -> 0 | I40: =I4+I9+I10+I15+I16+I29+I39 -> 0 | J40: =SUM(B40:I40) -> 0 | K40: =K4+K9+K10+K15+K16+K29+K39 -> 0 | L40: =L4+L9+L10+L15+L16+L29+L39 -> 0 | M40: =M4+M9+M10+M15+M16+M29+M39 -> 0 | N40: =N4+N9+N10+N15+N16+N29+N39 -> 0 | O40: =O4+O9+O10+O15+O16+O29+O39 -> 0 | P40: =P4+P9+P10+P15+P16+P29+P39 -> 0 | Q40: =Q4+Q9+Q10+Q15+Q16+Q29+Q39 -> 0 | R40: =R4+R9+R10+R15+R16+R29+R39 -> 0 | ... T40: =T4+T9+T10+T15+T16+T29+T39 -> 0 | U40: =SUM(K40:T40) -> 0
A41: 2. PCB -containing - PCB-containing paint | J41: =SUM(B41:I41) -> 0 | U41: =SUM(K41:T41) -> 0
A42: 2. PCB -containing - Other PCB waste (includes ballasts) | B42: =SUM(B43:B44) -> 0 | C42: =SUM(C43:C44) -> 0 | D42: =SUM(D43:D44) -> 0 | E42: =SUM(E43:E44) -> 0 | F42: =SUM(F43:F44) -> 0 | G42: =SUM(G43:G44) -> 0 | H42: =SUM(H43:H44) -> 0 | I42: =SUM(I43:I44) -> 0 | J42: =SUM(B42:I42) -> 0 | K42: =SUM(K43:K44) -> 0 | L42: =SUM(L43:L44) -> 0 | M42: =SUM(M43:M44) -> 0 | N42: =SUM(N43:N44) -> 0 | O42: =SUM(O43:O44) -> 0 | P42: =SUM(P43:P44) -> 0 | Q42: =SUM(Q43:Q44) -> 0 | R42: =SUM(R43:R44) -> 0 | ... T42: =SUM(T43:T44) -> 0 | U42: =SUM(K42:T42) -> 0
A43: 2. PCB -containing - Other PCB waste (solid) | J43: =SUM(B43:I43) -> 0 | U43: =SUM(K43:T43) -> 0
A44: 2. PCB -containing - Other PCB waste (liquid) | J44: =SUM(B44:I44) -> 0 | U44: =SUM(K44:T44) -> 0
A45: 2. PCB -containing - subtotal | B45: =SUM(B41:B42) -> 0 | C45: =SUM(C41:C42) -> 0 | D45: =SUM(D41:D42) -> 0 | E45: =SUM(E41:E42) -> 0 | F45: =SUM(F41:F42) -> 0 | G45: =SUM(G41:G42) -> 0 | H45: =SUM(H41:H42) -> 0 | I45: =SUM(I41:I42) -> 0 | J45: =SUM(B45:I45) -> 0 | K45: =SUM(K41:K42) -> 0 | L45: =SUM(L41:L42) -> 0 | M45: =SUM(M41:M42) -> 0 | N45: =SUM(N41:N42) -> 0 | O45: =SUM(O41:O42) -> 0 | P45: =SUM(P41:P42) -> 0 | Q45: =SUM(Q41:Q42) -> 0 | R45: =SUM(R41:R42) -> 0 | ... T45: =SUM(T41:T42) -> 0 | U45: =SUM(K45:T45) -> 0
A46: 3. Reclaimable - Antifreeze | J46: =SUM(B46:I46) -> 0 | U46: =SUM(K46:T46) -> 0
A47: 3. Reclaimable - Auto type batteries (motor vehicles) | J47: =SUM(B47:I47) -> 0 | U47: =SUM(K47:T47) -> 0
A48: 3. Reclaimable - Latex paint | J48: =SUM(B48:I48) -> 0 | U48: =SUM(K48:T48) -> 0
A49: 3. Reclaimable - Motor oil/oil products | B49: =SUM(B50:B51) -> 0 | C49: =SUM(C50:C51) -> 0 | D49: =SUM(D50:D51) -> 0 | E49: =SUM(E50:E51) -> 0 | F49: =SUM(F50:F51) -> 0 | G49: =SUM(G50:G51) -> 0 | H49: =SUM(H50:H51) -> 0 | I49: =SUM(I50:I51) -> 0 | J49: =SUM(B49:I49) -> 0 | K49: =SUM(K50:K51) -> 0 | L49: =SUM(L50:L51) -> 0 | M49: =SUM(M50:M51) -> 0 | N49: =SUM(N50:N51) -> 0 | O49: =SUM(O50:O51) -> 0 | P49: =SUM(P50:P51) -> 0 | Q49: =SUM(Q50:Q51) -> 0 | R49: =SUM(R50:R51) -> 0 | ... T49: =SUM(T50:T51) -> 0 | U49: =SUM(K49:T49) -> 0
A50: 3. Reclaimable - Motor oil (contaminated) | J50: =SUM(B50:I50) -> 0 | U50: =SUM(K50:T50) -> 0
A51: 3. Reclaimable - Motor oil (non-contaminated) | J51: =SUM(B51:I51) -> 0 | U51: =SUM(K51:T51) -> 0
A52: 3. Reclaimable - Used oil filters (recyclables only) | J52: =SUM(B52:I52) -> 0 | U52: =SUM(K52:T52) -> 0
A53: 3. Reclaimable - subtotal | B53: =B46+B47+B48+B49+B52 -> 0 | C53: =C46+C47+C48+C49+C52 -> 0 | D53: =D46+D47+D48+D49+D52 -> 0 | E53: =E46+E47+E48+E49+E52 -> 0 | F53: =F46+F47+F48+F49+F52 -> 0 | G53: =G46+G47+G48+G49+G52 -> 0 | H53: =H46+H47+H48+H49+H52 -> 0 | I53: =I46+I47+I48+I49+I52 -> 0 | J53: =SUM(B53:I53) -> 0 | K53: =K46+K47+K48+K49+K52 -> 0 | L53: =L46+L47+L48+L49+L52 -> 0 | M53: =M46+M47+M48+M49+M52 -> 0 | N53: =N46+N47+N48+N49+N52 -> 0 | O53: =O46+O47+O48+O49+O52 -> 0 | P53: =P46+P47+P48+P49+P52 -> 0 | Q53: =Q46+Q47+Q48+Q49+Q52 -> 0 | R53: =R46+R47+R48+R49+R52 -> 0 | ... T53: =T46+T47+T48+T49+T52 -> 0 | U53: =SUM(K53:T53) -> 0
A54: * For purposes of the Form 303 reporting process, materials listed under the Universal Waste category do not necessarily need to be managed as Universal Waste (i.e., they can also be managed by the higher hazardous waste standard). Energy recovery or fuel incineration is not considered recycling. If the waste cannot be managed by recycling, then it must be managed as a hazardous waste.
A55: 4. Universal Waste (UW) * - Mercury containing automatic switches / thermometers / and novelties | J55: =SUM(B55:I55) -> 0 | U55: =SUM(K55:T55) -> 0
A56: 4. Universal Waste (UW) * - Mercury containing thermostats | J56: =SUM(B56:I56) -> 0 | U56: =SUM(K56:T56) -> 0
A57: 4. Universal Waste (UW) * - Mercury containing waste (other) | B57: =SUM(B58:B59) -> 0 | C57: =SUM(C58:C59) -> 0 | D57: =SUM(D58:D59) -> 0 | E57: =SUM(E58:E59) -> 0 | F57: =SUM(F58:F59) -> 0 | G57: =SUM(G58:G59) -> 0 | H57: =SUM(H58:H59) -> 0 | I57: =SUM(I58:I59) -> 0 | J57: =SUM(B57:I57) -> 0 | K57: =SUM(K58:K59) -> 0 | L57: =SUM(L58:L59) -> 0 | M57: =SUM(M58:M59) -> 0 | N57: =SUM(N58:N59) -> 0 | O57: =SUM(O58:O59) -> 0 | P57: =SUM(P58:P59) -> 0 | Q57: =SUM(Q58:Q59) -> 0 | R57: =SUM(R58:R59) -> 0 | ... T57: =SUM(T58:T59) -> 0 | U57: =SUM(K57:T57) -> 0
A58: 4. Universal Waste (UW) * - Elemental mercury | J58: =SUM(B58:I58) -> 0 | U58: =SUM(K58:T58) -> 0
A59: 4. Universal Waste (UW) * - Organic mercury compounds | J59: =SUM(B59:I59) -> 0 | U59: =SUM(K59:T59) -> 0
A60: 4. Universal Waste (UW) * - Lamps | B60: =SUM(B61:B70) -> 0 | C60: =SUM(C61:C70) -> 0 | D60: =SUM(D61:D70) -> 0 | E60: =SUM(E61:E70) -> 0 | F60: =SUM(F61:F70) -> 0 | G60: =SUM(G61:G70) -> 0 | H60: =SUM(H61:H70) -> 0 | I60: =SUM(I61:I70) -> 0 | J60: =SUM(B60:I60) -> 0 | K60: =SUM(K61:K70) -> 0 | L60: =SUM(L61:L70) -> 0 | M60: =SUM(M61:M70) -> 0 | N60: =SUM(N61:N70) -> 0 | O60: =SUM(O61:O70) -> 0 | P60: =SUM(P61:P70) -> 0 | Q60: =SUM(Q61:Q70) -> 0 | R60: =SUM(R61:R70) -> 0 | ... T60: =SUM(T61:T70) -> 0 | U60: =SUM(K60:T60) -> 0
A61: 4. Universal Waste (UW) * - Fluorescent tubes (straight) | J61: =SUM(B61:I61) -> 0 | U61: =SUM(K61:T61) -> 0
A62: 4. Universal Waste (UW) * - Fluorescent tubes (u-shaped) | J62: =SUM(B62:I62) -> 0 | U62: =SUM(K62:T62) -> 0
A63: 4. Universal Waste (UW) * - Compact fluorescent tubes (CFLs) | J63: =SUM(B63:I63) -> 0 | U63: =SUM(K63:T63) -> 0
